Index of /checkResults/3.19/bioc-LATEST/igvR/raw-results/merida1

[ICO]NameLast modifiedSizeDescription

[DIR]Parent Directory  -  
[TXT]buildbin-out.txt17-Jul-2024 06:41 1.1K 
[   ]buildbin-summary.dcf17-Jul-2024 06:41 512  
[TXT]buildsrc-out.txt17-Jul-2024 06:41 955  
[   ]buildsrc-summary.dcf17-Jul-2024 06:41 419  
[TXT]checksrc-out.txt17-Jul-2024 06:41 3.6K 
[   ]checksrc-summary.dcf17-Jul-2024 06:41 432  
[TXT]install-out.txt17-Jul-2024 06:41 1.0K 
[   ]install-summary.dcf17-Jul-2024 06:41 263