Index of /checkResults/3.19/bioc-LATEST/igvR/raw-results/lconway

[ICO]NameLast modifiedSizeDescription

[DIR]Parent Directory  -  
[TXT]buildbin-out.txt12-Jun-2024 03:42 1.1K 
[   ]buildbin-summary.dcf12-Jun-2024 03:42 512  
[TXT]buildsrc-out.txt12-Jun-2024 03:42 955  
[   ]buildsrc-summary.dcf12-Jun-2024 03:42 418  
[TXT]checksrc-out.txt12-Jun-2024 03:42 3.6K 
[   ]checksrc-summary.dcf12-Jun-2024 03:42 432  
[TXT]install-out.txt12-Jun-2024 03:42 1.0K 
[   ]install-summary.dcf12-Jun-2024 03:42 263