Index of /checkResults/3.19/bioc-LATEST/igvR/raw-results/kunpeng2

[ICO]NameLast modifiedSizeDescription

[DIR]Parent Directory  -  
[TXT]buildsrc-out.txt10-May-2024 00:40 956  
[   ]buildsrc-summary.dcf10-May-2024 00:40 418  
[TXT]checksrc-out.txt10-May-2024 00:40 3.7K 
[   ]checksrc-summary.dcf10-May-2024 00:40 439  
[TXT]install-out.txt10-May-2024 00:40 965  
[   ]install-summary.dcf10-May-2024 00:40 264