Index of /checkResults/3.19/bioc-LATEST/igvR/raw-results/kjohnson1

[ICO]NameLast modifiedSizeDescription

[DIR]Parent Directory  -  
[TXT]buildbin-out.txt10-Jul-2024 06:43 1.1K 
[   ]buildbin-summary.dcf10-Jul-2024 06:43 512  
[TXT]buildsrc-out.txt10-Jul-2024 06:43 955  
[   ]buildsrc-summary.dcf10-Jul-2024 06:43 418  
[TXT]checksrc-out.txt10-Jul-2024 06:43 3.6K 
[   ]checksrc-summary.dcf10-Jul-2024 06:43 432  
[TXT]install-out.txt10-Jul-2024 06:43 1.0K 
[   ]install-summary.dcf10-Jul-2024 06:43 263