Back to Multiple platform build/check report for BioC 3.19:   simplified   long
ABCDEFGH[I]JKLMNOPQRSTUVWXYZ

This page was generated on 2024-05-21 11:38:05 -0400 (Tue, 21 May 2024).

HostnameOSArch (*)R versionInstalled pkgs
nebbiolo1Linux (Ubuntu 22.04.3 LTS)x86_644.4.0 (2024-04-24) -- "Puppy Cup" 4751
palomino3Windows Server 2022 Datacenterx644.4.0 (2024-04-24 ucrt) -- "Puppy Cup" 4485
lconwaymacOS 12.7.1 Montereyx86_644.4.0 (2024-04-24) -- "Puppy Cup" 4515
Click on any hostname to see more info about the system (e.g. compilers)      (*) as reported by 'uname -p', except on Windows and Mac OS X

Package 1020/2300HostnameOS / ArchINSTALLBUILDCHECKBUILD BIN
igvR 1.24.0  (landing page)
Arkadiusz Gladki
Snapshot Date: 2024-05-20 14:00:15 -0400 (Mon, 20 May 2024)
git_url: https://git.bioconductor.org/packages/igvR
git_branch: RELEASE_3_19
git_last_commit: 8af20ee
git_last_commit_date: 2024-04-30 11:06:10 -0400 (Tue, 30 Apr 2024)
nebbiolo1Linux (Ubuntu 22.04.3 LTS) / x86_64  OK    OK    OK  UNNEEDED, same version is already published
palomino3Windows Server 2022 Datacenter / x64  OK    OK    OK    OK  UNNEEDED, same version is already published
lconwaymacOS 12.7.1 Monterey / x86_64  OK    OK    OK    OK  UNNEEDED, same version is already published
kjohnson3macOS 13.6.5 Ventura / arm64see weekly results here

CHECK results for igvR on lconway


To the developers/maintainers of the igvR package:
- Allow up to 24 hours (and sometimes 48 hours) for your latest push to git@git.bioconductor.org:packages/igvR.git to reflect on this report. See Troubleshooting Build Report for more information.
- Use the following Renviron settings to reproduce errors and warnings.
- If 'R CMD check' started to fail recently on the Linux builder(s) over a missing dependency, add the missing dependency to 'Suggests:' in your DESCRIPTION file. See Renviron.bioc for more information.

raw results


Summary

Package: igvR
Version: 1.24.0
Command: /Library/Frameworks/R.framework/Resources/bin/R CMD check --install=check:igvR.install-out.txt --library=/Library/Frameworks/R.framework/Resources/library --no-vignettes --timings igvR_1.24.0.tar.gz
StartedAt: 2024-05-20 21:34:47 -0400 (Mon, 20 May 2024)
EndedAt: 2024-05-20 21:40:04 -0400 (Mon, 20 May 2024)
EllapsedTime: 316.7 seconds
RetCode: 0
Status:   OK  
CheckDir: igvR.Rcheck
Warnings: 0

Command output

##############################################################################
##############################################################################
###
### Running command:
###
###   /Library/Frameworks/R.framework/Resources/bin/R CMD check --install=check:igvR.install-out.txt --library=/Library/Frameworks/R.framework/Resources/library --no-vignettes --timings igvR_1.24.0.tar.gz
###
##############################################################################
##############################################################################


* using log directory ‘/Users/biocbuild/bbs-3.19-bioc/meat/igvR.Rcheck’
* using R version 4.4.0 (2024-04-24)
* using platform: x86_64-apple-darwin20
* R was compiled by
    Apple clang version 14.0.0 (clang-1400.0.29.202)
    GNU Fortran (GCC) 12.2.0
* running under: macOS Monterey 12.7.1
* using session charset: UTF-8
* using option ‘--no-vignettes’
* checking for file ‘igvR/DESCRIPTION’ ... OK
* checking extension type ... Package
* this is package ‘igvR’ version ‘1.24.0’
* package encoding: UTF-8
* checking package namespace information ... OK
* checking package dependencies ... OK
* checking if this is a source package ... OK
* checking if there is a namespace ... OK
* checking for hidden files and directories ... OK
* checking for portable file names ... OK
* checking for sufficient/correct file permissions ... OK
* checking whether package ‘igvR’ can be installed ... OK
* checking installed package size ... NOTE
  installed size is 21.8Mb
  sub-directories of 1Mb or more:
    browserCode  14.9Mb
    extdata       6.3Mb
* checking package directory ... OK
* checking ‘build’ directory ... OK
* checking DESCRIPTION meta-information ... NOTE
License stub is invalid DCF.
* checking top-level files ... OK
* checking for left-over files ... OK
* checking index information ... OK
* checking package subdirectories ... OK
* checking code files for non-ASCII characters ... OK
* checking R files for syntax errors ... OK
* checking whether the package can be loaded ... OK
* checking whether the package can be loaded with stated dependencies ... OK
* checking whether the package can be unloaded cleanly ... OK
* checking whether the namespace can be loaded with stated dependencies ... OK
* checking whether the namespace can be unloaded cleanly ... OK
* checking whether startup messages can be suppressed ... OK
* checking dependencies in R code ... OK
* checking S3 generic/method consistency ... OK
* checking replacement functions ... OK
* checking foreign function calls ... OK
* checking R code for possible problems ... NOTE
.writeMotifLogoImagesUpdateTrackNames: no visible binding for global
  variable ‘MotifDb’
.writeMotifLogoImagesUpdateTrackNames: no visible global function
  definition for ‘seqLogo’
Undefined global functions or variables:
  MotifDb seqLogo
* checking Rd files ... OK
* checking Rd metadata ... OK
* checking Rd cross-references ... OK
* checking for missing documentation entries ... OK
* checking for code/documentation mismatches ... OK
* checking Rd \usage sections ... OK
* checking Rd contents ... OK
* checking for unstated dependencies in examples ... OK
* checking include directives in Makefiles ... OK
* checking files in ‘vignettes’ ... OK
* checking examples ... OK
* checking for unstated dependencies in vignettes ... OK
* checking package vignettes ... OK
* checking running R code from vignettes ... SKIPPED
* checking re-building of vignette outputs ... SKIPPED
* checking PDF version of manual ... OK
* DONE

Status: 3 NOTEs
See
  ‘/Users/biocbuild/bbs-3.19-bioc/meat/igvR.Rcheck/00check.log’
for details.


Installation output

igvR.Rcheck/00install.out

##############################################################################
##############################################################################
###
### Running command:
###
###   /Library/Frameworks/R.framework/Resources/bin/R CMD INSTALL igvR
###
##############################################################################
##############################################################################


* installing to library ‘/Library/Frameworks/R.framework/Versions/4.4-x86_64/Resources/library’
* installing *source* package ‘igvR’ ...
** using staged installation
** R
** inst
** byte-compile and prepare package for lazy loading
** help
*** installing help indices
** building package indices
** installing vignettes
** testing if installed package can be loaded from temporary location
** testing if installed package can be loaded from final location
** testing if installed package keeps a record of temporary installation path
* DONE (igvR)

Tests output


Example timings

igvR.Rcheck/igvR-Ex.timings

nameusersystemelapsed
BedpeInteractionsTrack-class0.0130.0030.016
DataFrameAnnotationTrack-class0.0160.0010.017
DataFrameQuantitativeTrack-class0.0180.0010.019
GFF3Track-class0.0150.0020.017
GRangesAnnotationTrack-class0.0590.0010.060
GRangesQuantitativeTrack-class0.0160.0000.017
GWASTrack-class0.1430.0090.155
GWASUrlTrack-class0.0040.0010.004
GenomicAlignmentTrack-class0.1510.0150.166
UCSCBedAnnotationTrack-class0.4390.0360.478
UCSCBedGraphQuantitativeTrack-class0.1240.0020.127
VariantTrack-class0.5660.0170.586
displayTrack0.0010.0000.001
enableMotifLogoPopups0.0020.0000.002
getGenomicRegion0.0000.0000.001
getSupportedGenomes000
getTrackNames000
igvR-class0.0010.0000.001
parseAndValidateGenomeSpec0.0690.0131.025
ping0.0000.0000.001
removeTracksByName0.0020.0010.002
setCustomGenome0.0010.0000.000
setGenome000
showGenomicRegion0.0000.0000.001
trackSize-DataFrameAnnotationTrack-method0.0040.0000.004
trackSize-UCSCBedAnnotationTrack-method0.1050.0120.118
url.exists000