Index of /checkResults/3.19/bioc-LATEST/iSEEhub/raw-results

[ICO]NameLast modifiedSizeDescription

[DIR]Parent Directory  -  
[   ]info.dcf18-May-2024 00:35 276  
[DIR]kunpeng2/10-May-2024 00:41 -  
[DIR]lconway/18-May-2024 00:38 -  
[DIR]merida1/05-Mar-2024 01:39 -  
[DIR]nebbiolo1/18-May-2024 00:36 -  
[DIR]palomino3/18-May-2024 00:37 -