Back to Multiple platform build/check report for BioC 3.19:   simplified   long
ABCDEFG[H]IJKLMNOPQRSTUVWXYZ

This page was generated on 2024-06-18 17:57 -0400 (Tue, 18 Jun 2024).

HostnameOSArch (*)R versionInstalled pkgs
nebbiolo1Linux (Ubuntu 22.04.3 LTS)x86_644.4.0 (2024-04-24) -- "Puppy Cup" 4758
palomino3Windows Server 2022 Datacenterx644.4.0 (2024-04-24 ucrt) -- "Puppy Cup" 4492
merida1macOS 12.7.4 Montereyx86_644.4.0 (2024-04-24) -- "Puppy Cup" 4464
kjohnson1macOS 13.6.6 Venturaarm644.4.0 (2024-04-24) -- "Puppy Cup" 4464
Click on any hostname to see more info about the system (e.g. compilers)      (*) as reported by 'uname -p', except on Windows and Mac OS X

Package 941/2300HostnameOS / ArchINSTALLBUILDCHECKBUILD BIN
h5vc 2.38.0  (landing page)
Paul Theodor Pyl
Snapshot Date: 2024-06-16 14:00 -0400 (Sun, 16 Jun 2024)
git_url: https://git.bioconductor.org/packages/h5vc
git_branch: RELEASE_3_19
git_last_commit: 6b770a9
git_last_commit_date: 2024-04-30 10:34:17 -0400 (Tue, 30 Apr 2024)
nebbiolo1Linux (Ubuntu 22.04.3 LTS) / x86_64  OK    OK    WARNINGS  UNNEEDED, same version is already published
palomino3Windows Server 2022 Datacenter / x64  OK    OK    WARNINGS    OK  UNNEEDED, same version is already published
merida1macOS 12.7.4 Monterey / x86_64  OK    OK    WARNINGS    OK  UNNEEDED, same version is already published
kjohnson1macOS 13.6.6 Ventura / arm64  OK    OK    WARNINGS    OK  UNNEEDED, same version is already published


INSTALL results for h5vc on nebbiolo1

To the developers/maintainers of the h5vc package:
- Allow up to 24 hours (and sometimes 48 hours) for your latest push to git@git.bioconductor.org:packages/h5vc.git to reflect on this report. See Troubleshooting Build Report for more information.
- Use the following Renviron settings to reproduce errors and warnings.
- If 'R CMD check' started to fail recently on the Linux builder(s) over a missing dependency, add the missing dependency to 'Suggests:' in your DESCRIPTION file. See Renviron.bioc for more information.

raw results


Summary

Package: h5vc
Version: 2.38.0
Command: /home/biocbuild/bbs-3.19-bioc/R/bin/R CMD INSTALL h5vc
StartedAt: 2024-06-16 15:23:20 -0400 (Sun, 16 Jun 2024)
EndedAt: 2024-06-16 15:23:39 -0400 (Sun, 16 Jun 2024)
EllapsedTime: 18.6 seconds
RetCode: 0
Status:   OK  

Command output

##############################################################################
##############################################################################
###
### Running command:
###
###   /home/biocbuild/bbs-3.19-bioc/R/bin/R CMD INSTALL h5vc
###
##############################################################################
##############################################################################


* installing to library ‘/home/biocbuild/bbs-3.19-bioc/R/site-library’
* installing *source* package ‘h5vc’ ...
** using staged installation
** libs
using C compiler: ‘gcc (Ubuntu 11.4.0-1ubuntu1~22.04) 11.4.0’
using C++ compiler: ‘g++ (Ubuntu 11.4.0-1ubuntu1~22.04) 11.4.0’
gcc -I"/home/biocbuild/bbs-3.19-bioc/R/include" -DNDEBUG -D_FILE_OFFSET_BITS=64 -I'/home/biocbuild/bbs-3.19-bioc/R/site-library/Rhtslib/include' -I/usr/local/include    -fpic  -g -O2  -Wall -c bam_plbuf.c -o bam_plbuf.o
g++ -std=gnu++17 -I"/home/biocbuild/bbs-3.19-bioc/R/include" -DNDEBUG -D_FILE_OFFSET_BITS=64 -I'/home/biocbuild/bbs-3.19-bioc/R/site-library/Rhtslib/include' -I/usr/local/include    -fpic  -g -O2  -Wall  -c tallyBAM.cpp -o tallyBAM.o
tallyBAM.cpp: In function ‘int pileup_func_old(uint32_t, hts_pos_t, int, const bam_pileup1_t*, void*)’:
tallyBAM.cpp:47:7: warning: unused variable ‘len’ [-Wunused-variable]
   47 |   int len = nttable->end - nttable->beg;
      |       ^~~
tallyBAM.cpp: In function ‘int pileup_func(uint32_t, hts_pos_t, int, const bam_pileup1_t*, void*)’:
tallyBAM.cpp:96:7: warning: unused variable ‘len’ [-Wunused-variable]
   96 |   int len = nttable->end - nttable->beg;
      |       ^~~
tallyBAM.cpp: In function ‘int _tallyBAM(char**, char**, int*, int*, int*, int*, int*, int*, int*, int*)’:
tallyBAM.cpp:140:13: warning: unused variable ‘c’ [-Wunused-variable]
  140 |         int c = 0;
      |             ^
tallyBAM.cpp: At global scope:
tallyBAM.cpp:43:12: warning: ‘int pileup_func_old(uint32_t, hts_pos_t, int, const bam_pileup1_t*, void*)’ defined but not used [-Wunused-function]
   43 | static int pileup_func_old(uint32_t tid, hts_pos_t pos, int n, const bam_pileup1_t *pl, void *data)
      |            ^~~~~~~~~~~~~~~
g++ -std=gnu++17 -shared -L/home/biocbuild/bbs-3.19-bioc/R/lib -L/usr/local/lib -o h5vc.so bam_plbuf.o tallyBAM.o /home/biocbuild/bbs-3.19-bioc/R/site-library/Rhtslib/usrlib/libhts.a -lcurl -lbz2 -llzma -lz -L/home/biocbuild/bbs-3.19-bioc/R/lib -lR
installing to /home/biocbuild/bbs-3.19-bioc/R/site-library/00LOCK-h5vc/00new/h5vc/libs
** R
** data
** inst
** byte-compile and prepare package for lazy loading
Warning: replacing previous import ‘Biostrings::pattern’ by ‘grid::pattern’ when loading ‘h5vc’
** help
*** installing help indices
** building package indices
** installing vignettes
** testing if installed package can be loaded from temporary location
Warning: replacing previous import ‘Biostrings::pattern’ by ‘grid::pattern’ when loading ‘h5vc’
** checking absolute paths in shared objects and dynamic libraries
** testing if installed package can be loaded from final location
Warning: replacing previous import ‘Biostrings::pattern’ by ‘grid::pattern’ when loading ‘h5vc’
** testing if installed package keeps a record of temporary installation path
* DONE (h5vc)