Index of /checkResults/3.19/bioc-LATEST/gemini/raw-results/nebbiolo1

[ICO]NameLast modifiedSizeDescription

[DIR]Parent Directory  -  
[TXT]buildsrc-out.txt20-Jul-2024 06:37 865  
[   ]buildsrc-summary.dcf20-Jul-2024 06:37 414  
[TXT]checksrc-out.txt20-Jul-2024 06:37 4.4K 
[   ]checksrc-summary.dcf20-Jul-2024 06:37 410  
[TXT]install-out.txt20-Jul-2024 06:37 957  
[   ]install-summary.dcf20-Jul-2024 06:37 257