Index of /checkResults/3.19/bioc-LATEST/gemini/raw-results/merida1

[ICO]NameLast modifiedSizeDescription

[DIR]Parent Directory  -  
[TXT]buildbin-out.txt20-Jul-2024 06:39 1.1K 
[   ]buildbin-summary.dcf20-Jul-2024 06:39 524  
[TXT]buildsrc-out.txt20-Jul-2024 06:39 875  
[   ]buildsrc-summary.dcf20-Jul-2024 06:39 424  
[TXT]checksrc-out.txt20-Jul-2024 06:39 4.6K 
[   ]checksrc-summary.dcf20-Jul-2024 06:39 440  
[TXT]install-out.txt20-Jul-2024 06:39 1.0K 
[   ]install-summary.dcf20-Jul-2024 06:39 267