Index of /checkResults/3.19/bioc-LATEST/gemini/raw-results/lconway

[ICO]NameLast modifiedSizeDescription

[DIR]Parent Directory  -  
[TXT]buildbin-out.txt12-Jun-2024 03:42 1.1K 
[   ]buildbin-summary.dcf12-Jun-2024 03:42 524  
[TXT]buildsrc-out.txt12-Jun-2024 03:42 875  
[   ]buildsrc-summary.dcf12-Jun-2024 03:42 423  
[TXT]checksrc-out.txt12-Jun-2024 03:42 4.4K 
[   ]checksrc-summary.dcf12-Jun-2024 03:42 440  
[TXT]install-out.txt12-Jun-2024 03:42 1.0K 
[   ]install-summary.dcf12-Jun-2024 03:42 267