Index of /checkResults/3.19/bioc-LATEST/gemini/raw-results/kjohnson3

[ICO]NameLast modifiedSizeDescription

[DIR]Parent Directory  -  
[TXT]buildbin-out.txt12-Jun-2024 03:43 1.1K 
[   ]buildbin-summary.dcf12-Jun-2024 03:43 524  
[TXT]buildsrc-out.txt12-Jun-2024 03:43 875  
[   ]buildsrc-summary.dcf12-Jun-2024 03:43 424  
[TXT]checksrc-out.txt12-Jun-2024 03:43 4.5K 
[   ]checksrc-summary.dcf12-Jun-2024 03:43 440  
[TXT]install-out.txt12-Jun-2024 03:43 1.0K 
[   ]install-summary.dcf12-Jun-2024 03:43 267