Index of /checkResults/3.19/bioc-LATEST/exomePeak2/raw-results/palomino3

[ICO]NameLast modifiedSizeDescription

[DIR]Parent Directory  -  
[TXT]buildbin-out.txt15-Jun-2024 03:38 1.3K 
[   ]buildbin-summary.dcf15-Jun-2024 03:38 534  
[TXT]buildsrc-out.txt15-Jun-2024 03:38 854  
[   ]buildsrc-summary.dcf15-Jun-2024 03:38 465  
[TXT]checksrc-out.txt15-Jun-2024 03:38 3.5K 
[   ]checksrc-summary.dcf15-Jun-2024 03:38 459  
[TXT]install-out.txt15-Jun-2024 03:38 1.2K 
[   ]install-summary.dcf15-Jun-2024 03:38 274