Index of /checkResults/3.19/bioc-LATEST/exomePeak2/raw-results/nebbiolo1

[ICO]NameLast modifiedSizeDescription

[DIR]Parent Directory  -  
[TXT]buildsrc-out.txt19-Jun-2024 06:57 818  
[   ]buildsrc-summary.dcf19-Jun-2024 06:57 426  
[TXT]checksrc-out.txt19-Jun-2024 06:57 5.5K 
[   ]checksrc-summary.dcf19-Jun-2024 06:57 430  
[TXT]install-out.txt19-Jun-2024 06:57 1.2K 
[   ]install-summary.dcf19-Jun-2024 06:57 265