Index of /checkResults/3.19/bioc-LATEST/exomePeak2/raw-results/merida1

[ICO]NameLast modifiedSizeDescription

[DIR]Parent Directory  -  
[TXT]buildbin-out.txt05-Mar-2024 01:39 1.4K 
[   ]buildbin-summary.dcf05-Mar-2024 01:39 548  
[TXT]buildsrc-out.txt05-Mar-2024 01:39 828  
[   ]buildsrc-summary.dcf05-Mar-2024 01:39 437  
[TXT]checksrc-out.txt05-Mar-2024 01:39 3.8K 
[   ]checksrc-summary.dcf05-Mar-2024 01:39 462  
[TXT]install-out.txt05-Mar-2024 01:39 1.2K 
[   ]install-summary.dcf05-Mar-2024 01:39 275