Index of /checkResults/3.19/bioc-LATEST/exomePeak2/raw-results/lconway

[ICO]NameLast modifiedSizeDescription

[DIR]Parent Directory  -  
[TXT]buildbin-out.txt12-Jun-2024 03:42 1.4K 
[   ]buildbin-summary.dcf12-Jun-2024 03:42 548  
[TXT]buildsrc-out.txt12-Jun-2024 03:42 828  
[   ]buildsrc-summary.dcf12-Jun-2024 03:42 436  
[TXT]checksrc-out.txt12-Jun-2024 03:42 3.6K 
[   ]checksrc-summary.dcf12-Jun-2024 03:42 456  
[TXT]install-out.txt12-Jun-2024 03:42 1.2K 
[   ]install-summary.dcf12-Jun-2024 03:42 275