Index of /checkResults/3.19/bioc-LATEST/exomePeak2/raw-results/kunpeng2

[ICO]NameLast modifiedSizeDescription

[DIR]Parent Directory  -  
[TXT]buildsrc-out.txt10-May-2024 00:40 829  
[   ]buildsrc-summary.dcf10-May-2024 00:40 438  
[TXT]checksrc-out.txt10-May-2024 00:40 5.0K 
[   ]checksrc-summary.dcf10-May-2024 00:40 467  
[TXT]install-out.txt10-May-2024 00:40 1.2K 
[   ]install-summary.dcf10-May-2024 00:40 276