Back to Multiple platform build/check report for BioC 3.19:   simplified   long
ABCD[E]FGHIJKLMNOPQRSTUVWXYZ

This page was generated on 2024-05-22 11:33:51 -0400 (Wed, 22 May 2024).

HostnameOSArch (*)R versionInstalled pkgs
nebbiolo1Linux (Ubuntu 22.04.3 LTS)x86_644.4.0 (2024-04-24) -- "Puppy Cup" 4751
palomino3Windows Server 2022 Datacenterx644.4.0 (2024-04-24 ucrt) -- "Puppy Cup" 4485
lconwaymacOS 12.7.1 Montereyx86_644.4.0 (2024-04-24) -- "Puppy Cup" 3444
Click on any hostname to see more info about the system (e.g. compilers)      (*) as reported by 'uname -p', except on Windows and Mac OS X

All results for package edgeR


To the developers/maintainers of the edgeR package:
- Allow up to 24 hours (and sometimes 48 hours) for your latest push to git@git.bioconductor.org:packages/edgeR.git to reflect on this report. See Troubleshooting Build Report for more information.
- Use the following Renviron settings to reproduce errors and warnings.
- If 'R CMD check' started to fail recently on the Linux builder(s) over a missing dependency, add the missing dependency to 'Suggests:' in your DESCRIPTION file. See Renviron.bioc for more information.

raw results

Package 635/2300HostnameOS / ArchINSTALLBUILDCHECKBUILD BIN
edgeR 4.2.0  (landing page)
Yunshun Chen , Gordon Smyth , Aaron Lun , Mark Robinson
Snapshot Date: 2024-05-21 14:00:15 -0400 (Tue, 21 May 2024)
git_url: https://git.bioconductor.org/packages/edgeR
git_branch: RELEASE_3_19
git_last_commit: a735ed6
git_last_commit_date: 2024-04-30 10:18:40 -0400 (Tue, 30 Apr 2024)
nebbiolo1Linux (Ubuntu 22.04.3 LTS) / x86_64  OK    OK    OK  UNNEEDED, same version is already published
palomino3Windows Server 2022 Datacenter / x64  OK    OK    OK    OK  UNNEEDED, same version is already published
lconwaymacOS 12.7.1 Monterey / x86_64  OK    OK    ERROR    OK  
kjohnson3macOS 13.6.5 Ventura / arm64see weekly results here

Results for Bioconductor software packages that depend directly on package edgeR

QUICK STATSOS / ArchINSTALLBUILDCHECKBUILD BIN
nebbiolo1Linux (Ubuntu 22.04.3 LTS) / x86_64
03126
05124
032299
palomino3Windows Server 2022 Datacenter / x64
03126
15123
032199
00123
lconwaymacOS 12.7.1 Monterey / x86_64
010623
010920
02513
0020
Package 1/129HostnameOS / ArchINSTALLBUILDCHECKBUILD BIN
affycoretools 1.76.0  (landing page)
James W. MacDonald
git_last_commit: 4733a16
git_last_commit_date: 2024-04-30 10:14:41 -0400
nebbiolo1Linux (Ubuntu 22.04.3 LTS) / x86_64  OK    OK    OK  UNNEEDED, same version is already published
palomino3Windows Server 2022 Datacenter / x64  OK    OK    OK    OK  UNNEEDED, same version is already published
lconwaymacOS 12.7.1 Monterey / x86_64  ERROR    ERROR  skippedskipped
kjohnson3macOS 13.6.5 Ventura / arm64see weekly results here
Package 2/129HostnameOS / ArchINSTALLBUILDCHECKBUILD BIN
anota2seq 1.26.0  (landing page)
Christian Oertlin , Ola Larsson
git_last_commit: 9699192
git_last_commit_date: 2024-04-30 11:01:24 -0400
nebbiolo1Linux (Ubuntu 22.04.3 LTS) / x86_64  OK    OK    WARNINGS  UNNEEDED, same version is already published
palomino3Windows Server 2022 Datacenter / x64  OK    OK    OK    OK  UNNEEDED, same version is already published
lconwaymacOS 12.7.1 Monterey / x86_64  ERROR    ERROR  skippedskipped
kjohnson3macOS 13.6.5 Ventura / arm64see weekly results here
Package 3/129HostnameOS / ArchINSTALLBUILDCHECKBUILD BIN
ASpli 2.14.0  (landing page)
Ariel Chernomoretz
git_last_commit: 11a1f6e
git_last_commit_date: 2024-04-30 10:52:43 -0400
nebbiolo1Linux (Ubuntu 22.04.3 LTS) / x86_64  OK    OK    WARNINGS  UNNEEDED, same version is already published
palomino3Windows Server 2022 Datacenter / x64  OK    OK    WARNINGS    OK  UNNEEDED, same version is already published
lconwaymacOS 12.7.1 Monterey / x86_64  ERROR    ERROR  skippedskipped
kjohnson3macOS 13.6.5 Ventura / arm64see weekly results here
Package 4/129HostnameOS / ArchINSTALLBUILDCHECKBUILD BIN
ATACseqQC 1.28.0  (landing page)
Jianhong Ou
git_last_commit: dd1def6
git_last_commit_date: 2024-04-30 10:58:06 -0400
nebbiolo1Linux (Ubuntu 22.04.3 LTS) / x86_64  OK    OK    OK  UNNEEDED, same version is already published
palomino3Windows Server 2022 Datacenter / x64  OK    OK    OK    OK  UNNEEDED, same version is already published
lconwaymacOS 12.7.1 Monterey / x86_64  ERROR    ERROR  skippedskipped
kjohnson3macOS 13.6.5 Ventura / arm64see weekly results here
Package 5/129HostnameOS / ArchINSTALLBUILDCHECKBUILD BIN
autonomics 1.12.0  (landing page)
Aditya Bhagwat
git_last_commit: a23e37e
git_last_commit_date: 2024-04-30 11:31:54 -0400
nebbiolo1Linux (Ubuntu 22.04.3 LTS) / x86_64  OK    OK    OK  UNNEEDED, same version is already published
palomino3Windows Server 2022 Datacenter / x64  OK    OK    OK    OK  UNNEEDED, same version is already published
lconwaymacOS 12.7.1 Monterey / x86_64  ERROR    ERROR  skippedskipped
kjohnson3macOS 13.6.5 Ventura / arm64see weekly results here
Package 6/129HostnameOS / ArchINSTALLBUILDCHECKBUILD BIN
AWFisher 1.18.0  (landing page)
Zhiguang Huo
git_last_commit: 3b4c8a8
git_last_commit_date: 2024-04-30 11:15:50 -0400
nebbiolo1Linux (Ubuntu 22.04.3 LTS) / x86_64  OK    OK    OK  UNNEEDED, same version is already published
palomino3Windows Server 2022 Datacenter / x64  OK    OK    OK    OK  UNNEEDED, same version is already published
lconwaymacOS 12.7.1 Monterey / x86_64  OK    OK    OK    OK  UNNEEDED, same version is already published
kjohnson3macOS 13.6.5 Ventura / arm64see weekly results here
Package 7/129HostnameOS / ArchINSTALLBUILDCHECKBUILD BIN
baySeq 2.38.0  (landing page)
Samuel Granjeaud
git_last_commit: f27f3dd
git_last_commit_date: 2024-04-30 11:55:46 -0400
nebbiolo1Linux (Ubuntu 22.04.3 LTS) / x86_64  OK    OK    OK  UNNEEDED, same version is already published
palomino3Windows Server 2022 Datacenter / x64  OK    OK    OK    OK  UNNEEDED, same version is already published
lconwaymacOS 12.7.1 Monterey / x86_64  OK    OK    OK    OK  UNNEEDED, same version is already published
kjohnson3macOS 13.6.5 Ventura / arm64see weekly results here
Package 8/129HostnameOS / ArchINSTALLBUILDCHECKBUILD BIN
beer 1.8.0  (landing page)
Athena Chen
git_last_commit: c94d6a4
git_last_commit_date: 2024-04-30 11:40:18 -0400
nebbiolo1Linux (Ubuntu 22.04.3 LTS) / x86_64  OK    OK    OK  UNNEEDED, same version is already published
palomino3Windows Server 2022 Datacenter / x64  OK    OK    OK    OK  UNNEEDED, same version is already published
lconwaymacOS 12.7.1 Monterey / x86_64  ERROR    ERROR  skippedskipped
kjohnson3macOS 13.6.5 Ventura / arm64see weekly results here
Package 9/129HostnameOS / ArchINSTALLBUILDCHECKBUILD BIN
benchdamic 1.10.0  (landing page)
Matteo Calgaro
git_last_commit: 8e9ad07
git_last_commit_date: 2024-04-30 11:38:25 -0400
nebbiolo1Linux (Ubuntu 22.04.3 LTS) / x86_64  OK    OK    OK  UNNEEDED, same version is already published
palomino3Windows Server 2022 Datacenter / x64  OK    OK    OK    OK  UNNEEDED, same version is already published
lconwaymacOS 12.7.1 Monterey / x86_64  ERROR    ERROR  skippedskipped
kjohnson3macOS 13.6.5 Ventura / arm64see weekly results here
Package 10/129HostnameOS / ArchINSTALLBUILDCHECKBUILD BIN
BioQC 1.32.0  (landing page)
Jitao David Zhang
git_last_commit: c94f4cd
git_last_commit_date: 2024-04-30 10:47:01 -0400
nebbiolo1Linux (Ubuntu 22.04.3 LTS) / x86_64  OK    OK    OK  UNNEEDED, same version is already published
palomino3Windows Server 2022 Datacenter / x64  OK    OK    OK    OK  UNNEEDED, same version is already published
lconwaymacOS 12.7.1 Monterey / x86_64  OK    OK    OK    OK  UNNEEDED, same version is already published
kjohnson3macOS 13.6.5 Ventura / arm64see weekly results here
Package 11/129HostnameOS / ArchINSTALLBUILDCHECKBUILD BIN
censcyt 1.12.0  (landing page)
Reto Gerber
git_last_commit: be8a9ac
git_last_commit_date: 2024-04-30 11:30:01 -0400
nebbiolo1Linux (Ubuntu 22.04.3 LTS) / x86_64  OK    OK    OK  UNNEEDED, same version is already published
palomino3Windows Server 2022 Datacenter / x64  OK    OK    OK    OK  UNNEEDED, same version is already published
lconwaymacOS 12.7.1 Monterey / x86_64  ERROR    ERROR  skippedskipped
kjohnson3macOS 13.6.5 Ventura / arm64see weekly results here
Package 12/129HostnameOS / ArchINSTALLBUILDCHECKBUILD BIN
ChromSCape 1.14.0  (landing page)
Pacome Prompsy
git_last_commit: ecb3c51
git_last_commit_date: 2024-04-30 11:27:45 -0400
nebbiolo1Linux (Ubuntu 22.04.3 LTS) / x86_64  OK    OK    WARNINGS  UNNEEDED, same version is already published
palomino3Windows Server 2022 Datacenter / x64  OK    OK    WARNINGS    OK  UNNEEDED, same version is already published
lconwaymacOS 12.7.1 Monterey / x86_64  ERROR    ERROR  skippedskipped
kjohnson3macOS 13.6.5 Ventura / arm64see weekly results here
Package 13/129HostnameOS / ArchINSTALLBUILDCHECKBUILD BIN
circRNAprofiler 1.18.0  (landing page)
Simona Aufiero
git_last_commit: 61f3b94
git_last_commit_date: 2024-04-30 11:15:56 -0400
nebbiolo1Linux (Ubuntu 22.04.3 LTS) / x86_64  OK    OK    OK  UNNEEDED, same version is already published
palomino3Windows Server 2022 Datacenter / x64  OK    OK    OK    OK  UNNEEDED, same version is already published
lconwaymacOS 12.7.1 Monterey / x86_64  ERROR    ERROR  skippedskipped
kjohnson3macOS 13.6.5 Ventura / arm64see weekly results here
Package 14/129HostnameOS / ArchINSTALLBUILDCHECKBUILD BIN
clusterExperiment 2.24.0  (landing page)
Elizabeth Purdom
git_last_commit: 7bc9ecb
git_last_commit_date: 2024-04-30 10:52:11 -0400
nebbiolo1Linux (Ubuntu 22.04.3 LTS) / x86_64  OK    OK    WARNINGS  UNNEEDED, same version is already published
palomino3Windows Server 2022 Datacenter / x64  OK    OK    WARNINGS    OK  UNNEEDED, same version is already published
lconwaymacOS 12.7.1 Monterey / x86_64  ERROR    ERROR  skippedskipped
kjohnson3macOS 13.6.5 Ventura / arm64see weekly results here
Package 15/129HostnameOS / ArchINSTALLBUILDCHECKBUILD BIN
CNVRanger 1.20.0  (landing page)
Ludwig Geistlinger
git_last_commit: dca5773
git_last_commit_date: 2024-04-30 11:12:23 -0400
nebbiolo1Linux (Ubuntu 22.04.3 LTS) / x86_64  OK    OK    OK  UNNEEDED, same version is already published
palomino3Windows Server 2022 Datacenter / x64  OK    OK    OK    OK  UNNEEDED, same version is already published
lconwaymacOS 12.7.1 Monterey / x86_64  ERROR    ERROR  skippedskipped
kjohnson3macOS 13.6.5 Ventura / arm64see weekly results here
Package 16/129HostnameOS / ArchINSTALLBUILDCHECKBUILD BIN
compcodeR 1.40.0  (landing page)
Charlotte Soneson
git_last_commit: 5213459
git_last_commit_date: 2024-04-30 10:36:17 -0400
nebbiolo1Linux (Ubuntu 22.04.3 LTS) / x86_64  OK    OK    OK  UNNEEDED, same version is already published
palomino3Windows Server 2022 Datacenter / x64  OK    OK    OK    OK  UNNEEDED, same version is already published
lconwaymacOS 12.7.1 Monterey / x86_64  OK    OK    ERROR    OK  
kjohnson3macOS 13.6.5 Ventura / arm64see weekly results here
Package 17/129HostnameOS / ArchINSTALLBUILDCHECKBUILD BIN
consensusDE 1.22.0  (landing page)
Ashley J. Waardenberg
git_last_commit: 3077d7a
git_last_commit_date: 2024-04-30 11:10:39 -0400
nebbiolo1Linux (Ubuntu 22.04.3 LTS) / x86_64  OK    OK    OK  UNNEEDED, same version is already published
palomino3Windows Server 2022 Datacenter / x64  OK    OK    OK    OK  UNNEEDED, same version is already published
lconwaymacOS 12.7.1 Monterey / x86_64  ERROR    ERROR  skippedskipped
kjohnson3macOS 13.6.5 Ventura / arm64see weekly results here
Package 18/129HostnameOS / ArchINSTALLBUILDCHECKBUILD BIN
coseq 1.28.0  (landing page)
Andrea Rau
git_last_commit: 9fda0b9
git_last_commit_date: 2024-04-30 10:55:47 -0400
nebbiolo1Linux (Ubuntu 22.04.3 LTS) / x86_64  OK    OK    OK  UNNEEDED, same version is already published
palomino3Windows Server 2022 Datacenter / x64  OK    OK    OK    OK  UNNEEDED, same version is already published
lconwaymacOS 12.7.1 Monterey / x86_64  ERROR    ERROR  skippedskipped
kjohnson3macOS 13.6.5 Ventura / arm64see weekly results here
Package 19/129HostnameOS / ArchINSTALLBUILDCHECKBUILD BIN
countsimQC 1.22.0  (landing page)
Charlotte Soneson
git_last_commit: 87198d8
git_last_commit_date: 2024-04-30 11:09:38 -0400
nebbiolo1Linux (Ubuntu 22.04.3 LTS) / x86_64  OK    OK    OK  UNNEEDED, same version is already published
palomino3Windows Server 2022 Datacenter / x64  OK    OK    OK    OK  UNNEEDED, same version is already published
lconwaymacOS 12.7.1 Monterey / x86_64  ERROR    ERROR  skippedskipped
kjohnson3macOS 13.6.5 Ventura / arm64see weekly results here
Package 20/129HostnameOS / ArchINSTALLBUILDCHECKBUILD BIN
crossmeta 1.30.0  (landing page)
Alex Pickering
git_last_commit: 7500c56
git_last_commit_date: 2024-04-30 10:51:44 -0400
nebbiolo1Linux (Ubuntu 22.04.3 LTS) / x86_64  OK    OK    OK  UNNEEDED, same version is already published
palomino3Windows Server 2022 Datacenter / x64  OK    OK    OK    OK  UNNEEDED, same version is already published
lconwaymacOS 12.7.1 Monterey / x86_64  ERROR    ERROR  skippedskipped
kjohnson3macOS 13.6.5 Ventura / arm64see weekly results here
Package 21/129HostnameOS / ArchINSTALLBUILDCHECKBUILD BIN
csaw 1.38.0  (landing page)
Aaron Lun
git_last_commit: 8000717
git_last_commit_date: 2024-04-30 10:39:51 -0400
nebbiolo1Linux (Ubuntu 22.04.3 LTS) / x86_64  OK    OK    WARNINGS  UNNEEDED, same version is already published
palomino3Windows Server 2022 Datacenter / x64  OK    OK    WARNINGS    OK  UNNEEDED, same version is already published
lconwaymacOS 12.7.1 Monterey / x86_64  ERROR    ERROR  skippedskipped
kjohnson3macOS 13.6.5 Ventura / arm64see weekly results here
Package 22/129HostnameOS / ArchINSTALLBUILDCHECKBUILD BIN
cypress 1.0.0  (landing page)
Shilin Yu
git_last_commit: c9876d1
git_last_commit_date: 2024-04-30 11:55:30 -0400
nebbiolo1Linux (Ubuntu 22.04.3 LTS) / x86_64  OK    OK    OK  UNNEEDED, same version is already published
palomino3Windows Server 2022 Datacenter / x64  OK    OK    OK    OK  UNNEEDED, same version is already published
lconwaymacOS 12.7.1 Monterey / x86_64  ERROR    ERROR  skippedskipped
kjohnson3macOS 13.6.5 Ventura / arm64see weekly results here
Package 23/129HostnameOS / ArchINSTALLBUILDCHECKBUILD BIN
DaMiRseq 2.16.0  (landing page)
Mattia Chiesa
git_last_commit: 7e1a35c
git_last_commit_date: 2024-04-30 10:56:53 -0400
nebbiolo1Linux (Ubuntu 22.04.3 LTS) / x86_64  OK    OK    OK  UNNEEDED, same version is already published
palomino3Windows Server 2022 Datacenter / x64  OK    OK    OK    OK  UNNEEDED, same version is already published
lconwaymacOS 12.7.1 Monterey / x86_64  ERROR    ERROR  skippedskipped
kjohnson3macOS 13.6.5 Ventura / arm64see weekly results here
Package 24/129HostnameOS / ArchINSTALLBUILDCHECKBUILD BIN
Damsel 1.0.0  (landing page)
Caitlin Page
git_last_commit: f617ae8
git_last_commit_date: 2024-04-30 11:56:05 -0400
nebbiolo1Linux (Ubuntu 22.04.3 LTS) / x86_64  OK    OK    OK  NO, package depends on 'goseq' which is not available
palomino3Windows Server 2022 Datacenter / x64  OK    OK    OK    OK  NO, package depends on 'goseq' which is not available
lconwaymacOS 12.7.1 Monterey / x86_64  ERROR    ERROR  skippedskipped
kjohnson3macOS 13.6.5 Ventura / arm64see weekly results here
Package 25/129HostnameOS / ArchINSTALLBUILDCHECKBUILD BIN
dce 1.12.0  (landing page)
Kim Philipp Jablonski
git_last_commit: 28e0453
git_last_commit_date: 2024-04-30 11:31:41 -0400
nebbiolo1Linux (Ubuntu 22.04.3 LTS) / x86_64  OK    OK    OK  UNNEEDED, same version is already published
palomino3Windows Server 2022 Datacenter / x64  OK    OK    OK    OK  UNNEEDED, same version is already published
lconwaymacOS 12.7.1 Monterey / x86_64  OK    ERROR  skippedskipped
kjohnson3macOS 13.6.5 Ventura / arm64see weekly results here
Package 26/129HostnameOS / ArchINSTALLBUILDCHECKBUILD BIN
debrowser 1.32.0  (landing page)
Alper Kucukural
git_last_commit: eb2c623
git_last_commit_date: 2024-04-30 10:49:26 -0400
nebbiolo1Linux (Ubuntu 22.04.3 LTS) / x86_64  OK    OK    OK  UNNEEDED, same version is already published
palomino3Windows Server 2022 Datacenter / x64  OK    OK    OK    OK  UNNEEDED, same version is already published
lconwaymacOS 12.7.1 Monterey / x86_64  ERROR    ERROR  skippedskipped
kjohnson3macOS 13.6.5 Ventura / arm64see weekly results here
Package 27/129HostnameOS / ArchINSTALLBUILDCHECKBUILD BIN
DEFormats 1.32.0  (landing page)
Andrzej Oleś
git_last_commit: 1cc90f1
git_last_commit_date: 2024-04-30 10:49:41 -0400
nebbiolo1Linux (Ubuntu 22.04.3 LTS) / x86_64  OK    OK    OK  UNNEEDED, same version is already published
palomino3Windows Server 2022 Datacenter / x64  OK    OK    OK    OK  UNNEEDED, same version is already published
lconwaymacOS 12.7.1 Monterey / x86_64  ERROR    ERROR  skippedskipped
kjohnson3macOS 13.6.5 Ventura / arm64see weekly results here
Package 28/129HostnameOS / ArchINSTALLBUILDCHECKBUILD BIN
DEGreport 1.40.0  (landing page)
Lorena Pantano
git_last_commit: 13531e9
git_last_commit_date: 2024-04-30 10:37:03 -0400
nebbiolo1Linux (Ubuntu 22.04.3 LTS) / x86_64  OK    OK    OK  UNNEEDED, same version is already published
palomino3Windows Server 2022 Datacenter / x64  OK    OK    OK    OK  UNNEEDED, same version is already published
lconwaymacOS 12.7.1 Monterey / x86_64  ERROR    ERROR  skippedskipped
kjohnson3macOS 13.6.5 Ventura / arm64see weekly results here
Package 29/129HostnameOS / ArchINSTALLBUILDCHECKBUILD BIN
DESpace 1.4.0  (landing page)
Peiying Cai
git_last_commit: b33dd89
git_last_commit_date: 2024-04-30 11:48:10 -0400
nebbiolo1Linux (Ubuntu 22.04.3 LTS) / x86_64  OK    OK    OK  UNNEEDED, same version is already published
palomino3Windows Server 2022 Datacenter / x64  OK    OK    OK    OK  UNNEEDED, same version is already published
lconwaymacOS 12.7.1 Monterey / x86_64  ERROR    ERROR  skippedskipped
kjohnson3macOS 13.6.5 Ventura / arm64see weekly results here
Package 30/129HostnameOS / ArchINSTALLBUILDCHECKBUILD BIN
DEsubs 1.30.0  (landing page)
Aristidis G. Vrahatis , Panos Balomenos
git_last_commit: 449af54
git_last_commit_date: 2024-04-30 10:53:59 -0400
nebbiolo1Linux (Ubuntu 22.04.3 LTS) / x86_64  OK    OK    WARNINGS  UNNEEDED, same version is already published
palomino3Windows Server 2022 Datacenter / x64  OK    OK    WARNINGS    OK  UNNEEDED, same version is already published
lconwaymacOS 12.7.1 Monterey / x86_64  ERROR    ERROR  skippedskipped
kjohnson3macOS 13.6.5 Ventura / arm64see weekly results here
Package 31/129HostnameOS / ArchINSTALLBUILDCHECKBUILD BIN
diffcyt 1.24.0  (landing page)
Lukas M. Weber
git_last_commit: b648da6
git_last_commit_date: 2024-04-30 11:05:27 -0400
nebbiolo1Linux (Ubuntu 22.04.3 LTS) / x86_64  OK    OK    OK  UNNEEDED, same version is already published
palomino3Windows Server 2022 Datacenter / x64  OK    OK    OK    OK  UNNEEDED, same version is already published
lconwaymacOS 12.7.1 Monterey / x86_64  ERROR    ERROR  skippedskipped
kjohnson3macOS 13.6.5 Ventura / arm64see weekly results here
Package 32/129HostnameOS / ArchINSTALLBUILDCHECKBUILD BIN
diffHic 1.36.1  (landing page)
Aaron Lun , Gordon Smyth , Hannah Coughlin
git_last_commit: fd2125c
git_last_commit_date: 2024-05-10 21:26:37 -0400
nebbiolo1Linux (Ubuntu 22.04.3 LTS) / x86_64  OK    OK    OK  UNNEEDED, same version is already published
palomino3Windows Server 2022 Datacenter / x64  OK    OK    OK    OK  UNNEEDED, same version is already published
lconwaymacOS 12.7.1 Monterey / x86_64  ERROR    ERROR  skippedskipped
kjohnson3macOS 13.6.5 Ventura / arm64see weekly results here
Package 33/129HostnameOS / ArchINSTALLBUILDCHECKBUILD BIN
diffUTR 1.12.0  (landing page)
Pierre-Luc Germain
git_last_commit: 312971f
git_last_commit_date: 2024-04-30 11:34:21 -0400
nebbiolo1Linux (Ubuntu 22.04.3 LTS) / x86_64  OK    OK    OK  UNNEEDED, same version is already published
palomino3Windows Server 2022 Datacenter / x64  OK    OK    OK    OK  UNNEEDED, same version is already published
lconwaymacOS 12.7.1 Monterey / x86_64  ERROR    ERROR  skippedskipped
kjohnson3macOS 13.6.5 Ventura / arm64see weekly results here
Package 34/129HostnameOS / ArchINSTALLBUILDCHECKBUILD BIN
dinoR 1.0.0  (landing page)
Michaela Schwaiger
git_last_commit: cb8acee
git_last_commit_date: 2024-04-30 11:55:16 -0400
nebbiolo1Linux (Ubuntu 22.04.3 LTS) / x86_64  OK    OK    OK  UNNEEDED, same version is already published
palomino3Windows Server 2022 Datacenter / x64  OK    OK    OK    OK  UNNEEDED, same version is already published
lconwaymacOS 12.7.1 Monterey / x86_64  ERROR    ERROR  skippedskipped
kjohnson3macOS 13.6.5 Ventura / arm64see weekly results here
Package 35/129HostnameOS / ArchINSTALLBUILDCHECKBUILD BIN
DMRcate 3.0.0  (landing page)
Tim Peters
git_last_commit: 9cd77de
git_last_commit_date: 2024-04-30 10:35:13 -0400
nebbiolo1Linux (Ubuntu 22.04.3 LTS) / x86_64  OK    OK    OK  UNNEEDED, same version is already published
palomino3Windows Server 2022 Datacenter / x64  OK    TIMEOUT  skippedskipped
lconwaymacOS 12.7.1 Monterey / x86_64  ERROR    ERROR  skippedskipped
kjohnson3macOS 13.6.5 Ventura / arm64see weekly results here
Package 36/129HostnameOS / ArchINSTALLBUILDCHECKBUILD BIN
doseR 1.20.0  (landing page)
ake.vastermark
git_last_commit: 9fded83
git_last_commit_date: 2024-04-30 11:12:43 -0400
nebbiolo1Linux (Ubuntu 22.04.3 LTS) / x86_64  OK    OK    OK  UNNEEDED, same version is already published
palomino3Windows Server 2022 Datacenter / x64  OK    OK    OK    OK  UNNEEDED, same version is already published
lconwaymacOS 12.7.1 Monterey / x86_64  ERROR    ERROR  skippedskipped
kjohnson3macOS 13.6.5 Ventura / arm64see weekly results here
Package 37/129HostnameOS / ArchINSTALLBUILDCHECKBUILD BIN
dreamlet 1.2.0  (landing page)
Gabriel Hoffman
git_last_commit: c23624e
git_last_commit_date: 2024-04-30 11:51:18 -0400
nebbiolo1Linux (Ubuntu 22.04.3 LTS) / x86_64  OK    OK    OK  UNNEEDED, same version is already published
palomino3Windows Server 2022 Datacenter / x64  OK    OK    OK    OK  UNNEEDED, same version is already published
lconwaymacOS 12.7.1 Monterey / x86_64  ERROR    ERROR  skippedskipped
kjohnson3macOS 13.6.5 Ventura / arm64see weekly results here
Package 38/129HostnameOS / ArchINSTALLBUILDCHECKBUILD BIN
DRIMSeq 1.32.0  (landing page)
Malgorzata Nowicka
git_last_commit: 6fa442a
git_last_commit_date: 2024-04-30 10:49:23 -0400
nebbiolo1Linux (Ubuntu 22.04.3 LTS) / x86_64  OK    OK    WARNINGS  UNNEEDED, same version is already published
palomino3Windows Server 2022 Datacenter / x64  OK    OK    WARNINGS    OK  UNNEEDED, same version is already published
lconwaymacOS 12.7.1 Monterey / x86_64  OK    OK    WARNINGS    OK  UNNEEDED, same version is already published
kjohnson3macOS 13.6.5 Ventura / arm64see weekly results here
Package 39/129HostnameOS / ArchINSTALLBUILDCHECKBUILD BIN
DropletUtils 1.24.0  (landing page)
Jonathan Griffiths
git_last_commit: b6ab9f0
git_last_commit_date: 2024-04-30 11:03:17 -0400
nebbiolo1Linux (Ubuntu 22.04.3 LTS) / x86_64  OK    OK    WARNINGS  UNNEEDED, same version is already published
palomino3Windows Server 2022 Datacenter / x64  OK    OK    OK    OK  UNNEEDED, same version is already published
lconwaymacOS 12.7.1 Monterey / x86_64  ERROR    ERROR  skippedskipped
kjohnson3macOS 13.6.5 Ventura / arm64see weekly results here
Package 40/129HostnameOS / ArchINSTALLBUILDCHECKBUILD BIN
easyRNASeq 2.40.0  (landing page)
Nicolas Delhomme
git_last_commit: 3956fcf
git_last_commit_date: 2024-04-30 10:26:40 -0400
nebbiolo1Linux (Ubuntu 22.04.3 LTS) / x86_64  ERROR    ERROR  skipped
palomino3Windows Server 2022 Datacenter / x64  ERROR    ERROR  skippedskipped
lconwaymacOS 12.7.1 Monterey / x86_64  ERROR    ERROR  skippedskipped
kjohnson3macOS 13.6.5 Ventura / arm64see weekly results here
Package 41/129HostnameOS / ArchINSTALLBUILDCHECKBUILD BIN
eegc 1.30.0  (landing page)
Xiaoyuan Zhou
git_last_commit: d61283d
git_last_commit_date: 2024-04-30 10:53:13 -0400
nebbiolo1Linux (Ubuntu 22.04.3 LTS) / x86_64  OK    OK    ERROR  
palomino3Windows Server 2022 Datacenter / x64  OK    OK    WARNINGS    OK  UNNEEDED, same version is already published
lconwaymacOS 12.7.1 Monterey / x86_64  ERROR    ERROR  skippedskipped
kjohnson3macOS 13.6.5 Ventura / arm64see weekly results here
Package 42/129HostnameOS / ArchINSTALLBUILDCHECKBUILD BIN
EGSEA 1.32.0  (landing page)
Monther Alhamdoosh
git_last_commit: 2a923ec
git_last_commit_date: 2024-04-30 10:50:55 -0400
nebbiolo1Linux (Ubuntu 22.04.3 LTS) / x86_64  OK    OK    OK  UNNEEDED, same version is already published
palomino3Windows Server 2022 Datacenter / x64  OK    OK    OK    OK  UNNEEDED, same version is already published
lconwaymacOS 12.7.1 Monterey / x86_64  ERROR    ERROR  skippedskipped
kjohnson3macOS 13.6.5 Ventura / arm64see weekly results here
Package 43/129HostnameOS / ArchINSTALLBUILDCHECKBUILD BIN
eisaR 1.16.0  (landing page)
Michael Stadler
git_last_commit: 89f72dc
git_last_commit_date: 2024-04-30 11:21:44 -0400
nebbiolo1Linux (Ubuntu 22.04.3 LTS) / x86_64  OK    OK    OK  UNNEEDED, same version is already published
palomino3Windows Server 2022 Datacenter / x64  OK    OK    OK    OK  UNNEEDED, same version is already published
lconwaymacOS 12.7.1 Monterey / x86_64  ERROR    ERROR  skippedskipped
kjohnson3macOS 13.6.5 Ventura / arm64see weekly results here
Package 44/129HostnameOS / ArchINSTALLBUILDCHECKBUILD BIN
EnrichmentBrowser 2.34.1  (landing page)
Ludwig Geistlinger
git_last_commit: 6cfc989
git_last_commit_date: 2024-05-05 18:27:16 -0400
nebbiolo1Linux (Ubuntu 22.04.3 LTS) / x86_64  OK    OK    OK  UNNEEDED, same version is already published
palomino3Windows Server 2022 Datacenter / x64  OK    OK    OK    OK  UNNEEDED, same version is already published
lconwaymacOS 12.7.1 Monterey / x86_64  ERROR    ERROR  skippedskipped
kjohnson3macOS 13.6.5 Ventura / arm64see weekly results here
Package 45/129HostnameOS / ArchINSTALLBUILDCHECKBUILD BIN
erccdashboard 1.38.0  (landing page)
Sarah Munro
git_last_commit: 33257d1
git_last_commit_date: 2024-04-30 10:38:14 -0400
nebbiolo1Linux (Ubuntu 22.04.3 LTS) / x86_64  OK    OK    OK  UNNEEDED, same version is already published
palomino3Windows Server 2022 Datacenter / x64  OK    OK    OK    OK  UNNEEDED, same version is already published
lconwaymacOS 12.7.1 Monterey / x86_64  OK    OK    OK    OK  UNNEEDED, same version is already published
kjohnson3macOS 13.6.5 Ventura / arm64see weekly results here
Package 46/129HostnameOS / ArchINSTALLBUILDCHECKBUILD BIN
ERSSA 1.22.0  (landing page)
Zixuan Shao
git_last_commit: 44e22fa
git_last_commit_date: 2024-04-30 11:09:19 -0400
nebbiolo1Linux (Ubuntu 22.04.3 LTS) / x86_64  OK    OK    OK  UNNEEDED, same version is already published
palomino3Windows Server 2022 Datacenter / x64  OK    OK    OK    OK  UNNEEDED, same version is already published
lconwaymacOS 12.7.1 Monterey / x86_64  ERROR    ERROR  skippedskipped
kjohnson3macOS 13.6.5 Ventura / arm64see weekly results here
Package 47/129HostnameOS / ArchINSTALLBUILDCHECKBUILD BIN
extraChIPs 1.8.1  (landing page)
Stevie Pederson
git_last_commit: 8147515
git_last_commit_date: 2024-05-04 09:14:23 -0400
nebbiolo1Linux (Ubuntu 22.04.3 LTS) / x86_64  OK    OK    OK  UNNEEDED, same version is already published
palomino3Windows Server 2022 Datacenter / x64  OK    OK    OK    OK  UNNEEDED, same version is already published
lconwaymacOS 12.7.1 Monterey / x86_64  ERROR    ERROR  skippedskipped
kjohnson3macOS 13.6.5 Ventura / arm64see weekly results here
Package 48/129HostnameOS / ArchINSTALLBUILDCHECKBUILD BIN
GDCRNATools 1.24.0  (landing page)
Ruidong Li
git_last_commit: 4b2b185
git_last_commit_date: 2024-04-30 11:03:29 -0400
nebbiolo1Linux (Ubuntu 22.04.3 LTS) / x86_64  OK    OK    OK  UNNEEDED, same version is already published
palomino3Windows Server 2022 Datacenter / x64  OK    OK    OK    OK  UNNEEDED, same version is already published
lconwaymacOS 12.7.1 Monterey / x86_64  ERROR    ERROR  skippedskipped
kjohnson3macOS 13.6.5 Ventura / arm64see weekly results here
Package 49/129HostnameOS / ArchINSTALLBUILDCHECKBUILD BIN
GenomicPlot 1.2.1  (landing page)
Shuye Pu
git_last_commit: ce9c206
git_last_commit_date: 2024-05-13 13:11:21 -0400
nebbiolo1Linux (Ubuntu 22.04.3 LTS) / x86_64  OK    OK    OK  UNNEEDED, same version is already published
palomino3Windows Server 2022 Datacenter / x64  OK    OK    OK    OK  UNNEEDED, same version is already published
lconwaymacOS 12.7.1 Monterey / x86_64  ERROR    ERROR  skippedskipped
kjohnson3macOS 13.6.5 Ventura / arm64see weekly results here
Package 50/129HostnameOS / ArchINSTALLBUILDCHECKBUILD BIN
GEOexplorer 1.10.0  (landing page)
Guy Hunt
git_last_commit: c55e7b5
git_last_commit_date: 2024-04-30 11:36:23 -0400
nebbiolo1Linux (Ubuntu 22.04.3 LTS) / x86_64  OK    OK    WARNINGS  UNNEEDED, same version is already published
palomino3Windows Server 2022 Datacenter / x64  OK    OK    WARNINGS    OK  UNNEEDED, same version is already published
lconwaymacOS 12.7.1 Monterey / x86_64  OK    OK    WARNINGS    OK  UNNEEDED, same version is already published
kjohnson3macOS 13.6.5 Ventura / arm64see weekly results here
Package 51/129HostnameOS / ArchINSTALLBUILDCHECKBUILD BIN
gg4way 1.2.0  (landing page)
Benjamin I Laufer
git_last_commit: 7720b4f
git_last_commit_date: 2024-04-30 11:52:00 -0400
nebbiolo1Linux (Ubuntu 22.04.3 LTS) / x86_64  OK    OK    OK  UNNEEDED, same version is already published
palomino3Windows Server 2022 Datacenter / x64  OK    OK    OK    OK  UNNEEDED, same version is already published
lconwaymacOS 12.7.1 Monterey / x86_64  ERROR    ERROR  skippedskipped
kjohnson3macOS 13.6.5 Ventura / arm64see weekly results here
Package 52/129HostnameOS / ArchINSTALLBUILDCHECKBUILD BIN
gINTomics 1.0.0  (landing page)
Angelo Velle
git_last_commit: 6525a11
git_last_commit_date: 2024-04-30 11:56:24 -0400
nebbiolo1Linux (Ubuntu 22.04.3 LTS) / x86_64  OK    OK    OK  UNNEEDED, same version is already published
palomino3Windows Server 2022 Datacenter / x64  OK    OK    ERROR    OK  
lconwaymacOS 12.7.1 Monterey / x86_64  ERROR    ERROR  skippedskipped
kjohnson3macOS 13.6.5 Ventura / arm64see weekly results here
Package 53/129HostnameOS / ArchINSTALLBUILDCHECKBUILD BIN
Glimma 2.14.0  (landing page)
Shian Su
git_last_commit: 498f03d
git_last_commit_date: 2024-04-30 10:50:10 -0400
nebbiolo1Linux (Ubuntu 22.04.3 LTS) / x86_64  OK    OK    WARNINGS  UNNEEDED, same version is already published
palomino3Windows Server 2022 Datacenter / x64  OK    OK    WARNINGS    OK  UNNEEDED, same version is already published
lconwaymacOS 12.7.1 Monterey / x86_64  ERROR    ERROR  skippedskipped
kjohnson3macOS 13.6.5 Ventura / arm64see weekly results here
Package 54/129HostnameOS / ArchINSTALLBUILDCHECKBUILD BIN
GSEABenchmarkeR 1.24.0  (landing page)
Ludwig Geistlinger
git_last_commit: a404b06
git_last_commit_date: 2024-04-30 11:05:01 -0400
nebbiolo1Linux (Ubuntu 22.04.3 LTS) / x86_64  OK    OK    OK  UNNEEDED, same version is already published
palomino3Windows Server 2022 Datacenter / x64  OK    OK    OK    OK  UNNEEDED, same version is already published
lconwaymacOS 12.7.1 Monterey / x86_64  ERROR    ERROR  skippedskipped
kjohnson3macOS 13.6.5 Ventura / arm64see weekly results here
Package 55/129HostnameOS / ArchINSTALLBUILDCHECKBUILD BIN
hermes 1.8.0  (landing page)
Daniel Sabanés Bové
git_last_commit: ac04ca2
git_last_commit_date: 2024-04-30 11:39:29 -0400
nebbiolo1Linux (Ubuntu 22.04.3 LTS) / x86_64  OK    OK    OK  UNNEEDED, same version is already published
palomino3Windows Server 2022 Datacenter / x64  OK    OK    OK    OK  UNNEEDED, same version is already published
lconwaymacOS 12.7.1 Monterey / x86_64  ERROR    ERROR  skippedskipped
kjohnson3macOS 13.6.5 Ventura / arm64see weekly results here
Package 56/129HostnameOS / ArchINSTALLBUILDCHECKBUILD BIN
HTSFilter 1.44.0  (landing page)
Andrea Rau
git_last_commit: a6c8002
git_last_commit_date: 2024-04-30 10:30:25 -0400
nebbiolo1Linux (Ubuntu 22.04.3 LTS) / x86_64  OK    OK    OK  UNNEEDED, same version is already published
palomino3Windows Server 2022 Datacenter / x64  OK    OK    OK    OK  UNNEEDED, same version is already published
lconwaymacOS 12.7.1 Monterey / x86_64  ERROR    ERROR  skippedskipped
kjohnson3macOS 13.6.5 Ventura / arm64see weekly results here
Package 57/129HostnameOS / ArchINSTALLBUILDCHECKBUILD BIN
icetea 1.22.0  (landing page)
Vivek Bhardwaj
git_last_commit: 4a36367
git_last_commit_date: 2024-04-30 11:07:20 -0400
nebbiolo1Linux (Ubuntu 22.04.3 LTS) / x86_64  OK    OK    WARNINGS  UNNEEDED, same version is already published
palomino3Windows Server 2022 Datacenter / x64  OK    OK    WARNINGS    OK  UNNEEDED, same version is already published
lconwaymacOS 12.7.1 Monterey / x86_64  ERROR    ERROR  skippedskipped
kjohnson3macOS 13.6.5 Ventura / arm64see weekly results here
Package 58/129HostnameOS / ArchINSTALLBUILDCHECKBUILD BIN
infercnv 1.20.0  (landing page)
Christophe Georgescu
git_last_commit: 441a7d9
git_last_commit_date: 2024-04-30 11:14:48 -0400
nebbiolo1Linux (Ubuntu 22.04.3 LTS) / x86_64  OK    OK    OK  UNNEEDED, same version is already published
palomino3Windows Server 2022 Datacenter / x64  OK    OK    OK    OK  UNNEEDED, same version is already published
lconwaymacOS 12.7.1 Monterey / x86_64  ERROR    ERROR  skippedskipped
kjohnson3macOS 13.6.5 Ventura / arm64see weekly results here
Package 59/129HostnameOS / ArchINSTALLBUILDCHECKBUILD BIN
IntEREst 1.28.0  (landing page)
Ali Oghabian , Mikko Frilander
git_last_commit: 9b139fc
git_last_commit_date: 2024-04-30 10:56:44 -0400
nebbiolo1Linux (Ubuntu 22.04.3 LTS) / x86_64  OK    OK    OK  UNNEEDED, same version is already published
palomino3Windows Server 2022 Datacenter / x64  OK    OK    OK    OK  UNNEEDED, same version is already published
lconwaymacOS 12.7.1 Monterey / x86_64  ERROR    ERROR  skippedskipped
kjohnson3macOS 13.6.5 Ventura / arm64see weekly results here
Package 60/129HostnameOS / ArchINSTALLBUILDCHECKBUILD BIN
iSEEde 1.2.0  (landing page)
Kevin Rue-Albrecht
git_last_commit: a8bb541
git_last_commit_date: 2024-04-30 11:50:59 -0400
nebbiolo1Linux (Ubuntu 22.04.3 LTS) / x86_64  OK    OK    OK  UNNEEDED, same version is already published
palomino3Windows Server 2022 Datacenter / x64  OK    OK    OK    OK  UNNEEDED, same version is already published
lconwaymacOS 12.7.1 Monterey / x86_64  ERROR    ERROR  skippedskipped
kjohnson3macOS 13.6.5 Ventura / arm64see weekly results here
Package 61/129HostnameOS / ArchINSTALLBUILDCHECKBUILD BIN
IsoformSwitchAnalyzeR 2.4.0  (landing page)
Kristoffer Vitting-Seerup
git_last_commit: 7835f1d
git_last_commit_date: 2024-04-30 10:58:30 -0400
nebbiolo1Linux (Ubuntu 22.04.3 LTS) / x86_64  OK    OK    OK  UNNEEDED, same version is already published
palomino3Windows Server 2022 Datacenter / x64  OK    OK    OK    OK  UNNEEDED, same version is already published
lconwaymacOS 12.7.1 Monterey / x86_64  ERROR    ERROR  skippedskipped
kjohnson3macOS 13.6.5 Ventura / arm64see weekly results here
Package 62/129HostnameOS / ArchINSTALLBUILDCHECKBUILD BIN
KnowSeq 1.18.0  (landing page)
Daniel Castillo-Secilla
git_last_commit: 2fa8987
git_last_commit_date: 2024-04-30 11:15:37 -0400
nebbiolo1Linux (Ubuntu 22.04.3 LTS) / x86_64  OK    OK    OK  UNNEEDED, same version is already published
palomino3Windows Server 2022 Datacenter / x64  OK    OK    OK    OK  UNNEEDED, same version is already published
lconwaymacOS 12.7.1 Monterey / x86_64  OK    OK    OK    OK  UNNEEDED, same version is already published
kjohnson3macOS 13.6.5 Ventura / arm64see weekly results here
Package 63/129HostnameOS / ArchINSTALLBUILDCHECKBUILD BIN
Maaslin2 1.18.0  (landing page)
Lauren McIver
git_last_commit: 35350f9
git_last_commit_date: 2024-04-30 11:16:06 -0400
nebbiolo1Linux (Ubuntu 22.04.3 LTS) / x86_64  OK    OK    OK  UNNEEDED, same version is already published
palomino3Windows Server 2022 Datacenter / x64  OK    OK    OK    OK  UNNEEDED, same version is already published
lconwaymacOS 12.7.1 Monterey / x86_64  OK    OK    OK    OK  UNNEEDED, same version is already published
kjohnson3macOS 13.6.5 Ventura / arm64see weekly results here
Package 64/129HostnameOS / ArchINSTALLBUILDCHECKBUILD BIN
mastR 1.4.0  (landing page)
Jinjin Chen
git_last_commit: 453f7fa
git_last_commit_date: 2024-04-30 11:48:58 -0400
nebbiolo1Linux (Ubuntu 22.04.3 LTS) / x86_64  OK    OK    OK  UNNEEDED, same version is already published
palomino3Windows Server 2022 Datacenter / x64  OK    OK    OK    OK  UNNEEDED, same version is already published
lconwaymacOS 12.7.1 Monterey / x86_64  ERROR    ERROR  skippedskipped
kjohnson3macOS 13.6.5 Ventura / arm64see weekly results here
Package 65/129HostnameOS / ArchINSTALLBUILDCHECKBUILD BIN
MEB 1.18.0  (landing page)
Jiadi Zhu
git_last_commit: 920079b
git_last_commit_date: 2024-04-30 11:17:45 -0400
nebbiolo1Linux (Ubuntu 22.04.3 LTS) / x86_64  OK    OK    OK  UNNEEDED, same version is already published
palomino3Windows Server 2022 Datacenter / x64  OK    OK    OK    OK  UNNEEDED, same version is already published
lconwaymacOS 12.7.1 Monterey / x86_64  ERROR    ERROR  skippedskipped
kjohnson3macOS 13.6.5 Ventura / arm64see weekly results here
Package 66/129HostnameOS / ArchINSTALLBUILDCHECKBUILD BIN
MEDIPS 1.56.0  (landing page)
Lukas Chavez
git_last_commit: 8bbaaa2
git_last_commit_date: 2024-04-30 10:23:03 -0400
nebbiolo1Linux (Ubuntu 22.04.3 LTS) / x86_64  OK    OK    OK  UNNEEDED, same version is already published
palomino3Windows Server 2022 Datacenter / x64  OK    OK    OK    OK  UNNEEDED, same version is already published
lconwaymacOS 12.7.1 Monterey / x86_64  ERROR    ERROR  skippedskipped
kjohnson3macOS 13.6.5 Ventura / arm64see weekly results here
Package 67/129HostnameOS / ArchINSTALLBUILDCHECKBUILD BIN
metaseqR2 1.16.0  (landing page)
Panagiotis Moulos
git_last_commit: 355b403
git_last_commit_date: 2024-04-30 11:23:52 -0400
nebbiolo1Linux (Ubuntu 22.04.3 LTS) / x86_64  OK    ERROR  skipped
palomino3Windows Server 2022 Datacenter / x64  OK    ERROR  skippedskipped
lconwaymacOS 12.7.1 Monterey / x86_64  ERROR    ERROR  skippedskipped
kjohnson3macOS 13.6.5 Ventura / arm64see weekly results here
Package 68/129HostnameOS / ArchINSTALLBUILDCHECKBUILD BIN
methylMnM 1.42.0  (landing page)
Yan Zhou
git_last_commit: 6935074
git_last_commit_date: 2024-04-30 10:33:55 -0400
nebbiolo1Linux (Ubuntu 22.04.3 LTS) / x86_64  OK    OK    OK  UNNEEDED, same version is already published
palomino3Windows Server 2022 Datacenter / x64  OK    OK    OK    OK  UNNEEDED, same version is already published
lconwaymacOS 12.7.1 Monterey / x86_64  OK    OK    OK    OK  UNNEEDED, same version is already published
kjohnson3macOS 13.6.5 Ventura / arm64see weekly results here
Package 69/129HostnameOS / ArchINSTALLBUILDCHECKBUILD BIN
microbiomeMarker 1.10.0  (landing page)
Yang Cao
git_last_commit: be09871
git_last_commit_date: 2024-04-30 11:37:55 -0400
nebbiolo1Linux (Ubuntu 22.04.3 LTS) / x86_64  OK    OK    ERROR  
palomino3Windows Server 2022 Datacenter / x64  OK    OK    ERROR    OK  
lconwaymacOS 12.7.1 Monterey / x86_64  ERROR    ERROR  skippedskipped
kjohnson3macOS 13.6.5 Ventura / arm64see weekly results here
Package 70/129HostnameOS / ArchINSTALLBUILDCHECKBUILD BIN
miloR 2.0.0  (landing page)
Mike Morgan
git_last_commit: 97eb8a7
git_last_commit_date: 2024-04-30 11:34:02 -0400
nebbiolo1Linux (Ubuntu 22.04.3 LTS) / x86_64  OK    ERROR  skipped
palomino3Windows Server 2022 Datacenter / x64  OK    OK    OK    OK  UNNEEDED, same version is already published
lconwaymacOS 12.7.1 Monterey / x86_64  ERROR    ERROR  skippedskipped
kjohnson3macOS 13.6.5 Ventura / arm64see weekly results here
Package 71/129HostnameOS / ArchINSTALLBUILDCHECKBUILD BIN
MIRit 1.0.0  (landing page)
Jacopo Ronchi
git_last_commit: ed1b3ba
git_last_commit_date: 2024-04-30 11:53:58 -0400
nebbiolo1Linux (Ubuntu 22.04.3 LTS) / x86_64  ERROR    ERROR  skipped
palomino3Windows Server 2022 Datacenter / x64  ERROR    ERROR  skippedskipped
lconwaymacOS 12.7.1 Monterey / x86_64  ERROR    ERROR  skippedskipped
kjohnson3macOS 13.6.5 Ventura / arm64see weekly results here
Package 72/129HostnameOS / ArchINSTALLBUILDCHECKBUILD BIN
MLSeq 2.22.0  (landing page)
Gokmen Zararsiz
git_last_commit: f89a68a
git_last_commit_date: 2024-04-30 10:35:29 -0400
nebbiolo1Linux (Ubuntu 22.04.3 LTS) / x86_64  OK    OK    OK  UNNEEDED, same version is already published
palomino3Windows Server 2022 Datacenter / x64  OK    OK    OK    OK  UNNEEDED, same version is already published
lconwaymacOS 12.7.1 Monterey / x86_64  ERROR    ERROR  skippedskipped
kjohnson3macOS 13.6.5 Ventura / arm64see weekly results here
Package 73/129HostnameOS / ArchINSTALLBUILDCHECKBUILD BIN
moanin 1.12.0  (landing page)
Nelle Varoquaux
git_last_commit: 82a765a
git_last_commit_date: 2024-04-30 11:29:29 -0400
nebbiolo1Linux (Ubuntu 22.04.3 LTS) / x86_64  OK    OK    OK  UNNEEDED, same version is already published
palomino3Windows Server 2022 Datacenter / x64  OK    OK    OK    OK  UNNEEDED, same version is already published
lconwaymacOS 12.7.1 Monterey / x86_64  ERROR    ERROR  skippedskipped
kjohnson3macOS 13.6.5 Ventura / arm64see weekly results here
Package 74/129HostnameOS / ArchINSTALLBUILDCHECKBUILD BIN
mobileRNA 1.0.1  (landing page)
Katie Jeynes-Cupper
git_last_commit: 91c58ae
git_last_commit_date: 2024-05-15 07:34:30 -0400
nebbiolo1Linux (Ubuntu 22.04.3 LTS) / x86_64  OK    OK    OK  UNNEEDED, same version is already published
palomino3Windows Server 2022 Datacenter / x64  OK    OK    OK    OK  UNNEEDED, same version is already published
lconwaymacOS 12.7.1 Monterey / x86_64  ERROR    ERROR  skippedskipped
kjohnson3macOS 13.6.5 Ventura / arm64see weekly results here
Package 75/129HostnameOS / ArchINSTALLBUILDCHECKBUILD BIN
MOSim 2.0.0  (landing page)
Sonia Tarazona
git_last_commit: bee9b3a
git_last_commit_date: 2024-04-30 11:16:41 -0400
nebbiolo1Linux (Ubuntu 22.04.3 LTS) / x86_64  OK    OK    WARNINGS  UNNEEDED, same version is already published
palomino3Windows Server 2022 Datacenter / x64  OK    OK    WARNINGS    OK  UNNEEDED, same version is already published
lconwaymacOS 12.7.1 Monterey / x86_64  ERROR    ERROR  skippedskipped
kjohnson3macOS 13.6.5 Ventura / arm64see weekly results here
Package 76/129HostnameOS / ArchINSTALLBUILDCHECKBUILD BIN
Motif2Site 1.8.0  (landing page)
Peyman Zarrineh
git_last_commit: 0e322d9
git_last_commit_date: 2024-04-30 11:40:23 -0400
nebbiolo1Linux (Ubuntu 22.04.3 LTS) / x86_64  OK    OK    OK  UNNEEDED, same version is already published
palomino3Windows Server 2022 Datacenter / x64  OK    OK    OK    OK  UNNEEDED, same version is already published
lconwaymacOS 12.7.1 Monterey / x86_64  ERROR    ERROR  skippedskipped
kjohnson3macOS 13.6.5 Ventura / arm64see weekly results here
Package 77/129HostnameOS / ArchINSTALLBUILDCHECKBUILD BIN
msgbsR 1.28.0  (landing page)
Benjamin Mayne
git_last_commit: a908a0f
git_last_commit_date: 2024-04-30 10:58:14 -0400
nebbiolo1Linux (Ubuntu 22.04.3 LTS) / x86_64  ERROR    ERROR  skipped
palomino3Windows Server 2022 Datacenter / x64  ERROR    ERROR  skippedskipped
lconwaymacOS 12.7.1 Monterey / x86_64  ERROR    ERROR  skippedskipped
kjohnson3macOS 13.6.5 Ventura / arm64see weekly results here
Package 78/129HostnameOS / ArchINSTALLBUILDCHECKBUILD BIN
msmsTests 1.42.0  (landing page)
Josep Gregori i Font
git_last_commit: 778dc2b
git_last_commit_date: 2024-04-30 10:32:48 -0400
nebbiolo1Linux (Ubuntu 22.04.3 LTS) / x86_64  OK    OK    OK  UNNEEDED, same version is already published
palomino3Windows Server 2022 Datacenter / x64  OK    OK    OK    OK  UNNEEDED, same version is already published
lconwaymacOS 12.7.1 Monterey / x86_64  ERROR    ERROR  skippedskipped
kjohnson3macOS 13.6.5 Ventura / arm64see weekly results here
Package 79/129HostnameOS / ArchINSTALLBUILDCHECKBUILD BIN
multiHiCcompare 1.22.0  (landing page)
Mikhail Dozmorov
git_last_commit: ac513a5
git_last_commit_date: 2024-04-30 11:08:22 -0400
nebbiolo1Linux (Ubuntu 22.04.3 LTS) / x86_64  OK    OK    OK  UNNEEDED, same version is already published
palomino3Windows Server 2022 Datacenter / x64  OK    OK    OK    OK  UNNEEDED, same version is already published
lconwaymacOS 12.7.1 Monterey / x86_64  ERROR    ERROR  skippedskipped
kjohnson3macOS 13.6.5 Ventura / arm64see weekly results here
Package 80/129HostnameOS / ArchINSTALLBUILDCHECKBUILD BIN
muscat 1.18.0  (landing page)
Helena L. Crowell
git_last_commit: b9fcf7f
git_last_commit_date: 2024-04-30 11:16:47 -0400
nebbiolo1Linux (Ubuntu 22.04.3 LTS) / x86_64  OK    OK    OK  UNNEEDED, same version is already published
palomino3Windows Server 2022 Datacenter / x64  OK    OK    OK    OK  UNNEEDED, same version is already published
lconwaymacOS 12.7.1 Monterey / x86_64  ERROR    ERROR  skippedskipped
kjohnson3macOS 13.6.5 Ventura / arm64see weekly results here
Package 81/129HostnameOS / ArchINSTALLBUILDCHECKBUILD BIN
octad 1.6.0  (landing page)
E. Chekalin
git_last_commit: 4228d89
git_last_commit_date: 2024-04-30 11:45:54 -0400
nebbiolo1Linux (Ubuntu 22.04.3 LTS) / x86_64  OK    OK    OK  UNNEEDED, same version is already published
palomino3Windows Server 2022 Datacenter / x64  OK    OK    OK    OK  UNNEEDED, same version is already published
lconwaymacOS 12.7.1 Monterey / x86_64  ERROR    ERROR  skippedskipped
kjohnson3macOS 13.6.5 Ventura / arm64see weekly results here
Package 82/129HostnameOS / ArchINSTALLBUILDCHECKBUILD BIN
PathoStat 1.30.0  (landing page)
Solaiappan Manimaran
git_last_commit: f3f9b98
git_last_commit_date: 2024-04-30 10:54:18 -0400
nebbiolo1Linux (Ubuntu 22.04.3 LTS) / x86_64  OK    OK    OK  UNNEEDED, same version is already published
palomino3Windows Server 2022 Datacenter / x64  OK    OK    OK    OK  UNNEEDED, same version is already published
lconwaymacOS 12.7.1 Monterey / x86_64  ERROR    ERROR  skippedskipped
kjohnson3macOS 13.6.5 Ventura / arm64see weekly results here
Package 83/129HostnameOS / ArchINSTALLBUILDCHECKBUILD BIN
phantasus 1.24.0  (landing page)
Alexey Sergushichev
git_last_commit: d2f95bd
git_last_commit_date: 2024-04-30 11:04:55 -0400
nebbiolo1Linux (Ubuntu 22.04.3 LTS) / x86_64  OK    OK    OK  UNNEEDED, same version is already published
palomino3Windows Server 2022 Datacenter / x64  OK    OK    ERROR    OK  
lconwaymacOS 12.7.1 Monterey / x86_64  ERROR    ERROR  skippedskipped
kjohnson3macOS 13.6.5 Ventura / arm64see weekly results here
Package 84/129HostnameOS / ArchINSTALLBUILDCHECKBUILD BIN
PhIPData 1.12.0  (landing page)
Athena Chen
git_last_commit: c69596b
git_last_commit_date: 2024-04-30 11:31:49 -0400
nebbiolo1Linux (Ubuntu 22.04.3 LTS) / x86_64  OK    OK    OK  UNNEEDED, same version is already published
palomino3Windows Server 2022 Datacenter / x64  OK    OK    OK    OK  UNNEEDED, same version is already published
lconwaymacOS 12.7.1 Monterey / x86_64  ERROR    ERROR  skippedskipped
kjohnson3macOS 13.6.5 Ventura / arm64see weekly results here
Package 85/129HostnameOS / ArchINSTALLBUILDCHECKBUILD BIN
ppcseq 1.12.0  (landing page)
Stefano Mangiola
git_last_commit: f8f6b20
git_last_commit_date: 2024-04-30 11:33:22 -0400
nebbiolo1Linux (Ubuntu 22.04.3 LTS) / x86_64  OK    OK    OK  UNNEEDED, same version is already published
palomino3Windows Server 2022 Datacenter / x64  OK    OK    OK    OK  UNNEEDED, same version is already published
lconwaymacOS 12.7.1 Monterey / x86_64  OK    OK    OK    OK  UNNEEDED, same version is already published
kjohnson3macOS 13.6.5 Ventura / arm64see weekly results here
Package 86/129HostnameOS / ArchINSTALLBUILDCHECKBUILD BIN
PROPER 1.36.0  (landing page)
Hao Wu
git_last_commit: 3d1c75d
git_last_commit_date: 2024-04-30 10:40:53 -0400
nebbiolo1Linux (Ubuntu 22.04.3 LTS) / x86_64  OK    OK    WARNINGS  UNNEEDED, same version is already published
palomino3Windows Server 2022 Datacenter / x64  OK    OK    WARNINGS    OK  UNNEEDED, same version is already published
lconwaymacOS 12.7.1 Monterey / x86_64  OK    OK    ERROR    OK  
kjohnson3macOS 13.6.5 Ventura / arm64see weekly results here
Package 87/129HostnameOS / ArchINSTALLBUILDCHECKBUILD BIN
psichomics 1.30.0  (landing page)
Nuno Saraiva-Agostinho
git_last_commit: 67f272c
git_last_commit_date: 2024-04-30 10:54:27 -0400
nebbiolo1Linux (Ubuntu 22.04.3 LTS) / x86_64  OK    OK    OK  YES
palomino3Windows Server 2022 Datacenter / x64  OK    OK    OK    OK  UNNEEDED, same version is already published
lconwaymacOS 12.7.1 Monterey / x86_64  ERROR    ERROR  skippedskipped
kjohnson3macOS 13.6.5 Ventura / arm64see weekly results here
Package 88/129HostnameOS / ArchINSTALLBUILDCHECKBUILD BIN
RCM 1.20.0  (landing page)
Stijn Hawinkel
git_last_commit: 363e900
git_last_commit_date: 2024-04-30 11:11:47 -0400
nebbiolo1Linux (Ubuntu 22.04.3 LTS) / x86_64  OK    OK    OK  UNNEEDED, same version is already published
palomino3Windows Server 2022 Datacenter / x64  OK    OK    OK    OK  UNNEEDED, same version is already published
lconwaymacOS 12.7.1 Monterey / x86_64  OK    OK    OK    OK  UNNEEDED, same version is already published
kjohnson3macOS 13.6.5 Ventura / arm64see weekly results here
Package 89/129HostnameOS / ArchINSTALLBUILDCHECKBUILD BIN
regsplice 1.30.0  (landing page)
Lukas M. Weber
git_last_commit: 8673818
git_last_commit_date: 2024-04-30 10:54:53 -0400
nebbiolo1Linux (Ubuntu 22.04.3 LTS) / x86_64  OK    OK    OK  UNNEEDED, same version is already published
palomino3Windows Server 2022 Datacenter / x64  OK    OK    OK    OK  UNNEEDED, same version is already published
lconwaymacOS 12.7.1 Monterey / x86_64  ERROR    ERROR  skippedskipped
kjohnson3macOS 13.6.5 Ventura / arm64see weekly results here
Package 90/129HostnameOS / ArchINSTALLBUILDCHECKBUILD BIN
Repitools 1.50.0  (landing page)
Mark Robinson
git_last_commit: bbf5dba
git_last_commit_date: 2024-04-30 10:24:48 -0400
nebbiolo1Linux (Ubuntu 22.04.3 LTS) / x86_64  OK    OK    WARNINGS  UNNEEDED, same version is already published
palomino3Windows Server 2022 Datacenter / x64  OK    OK    WARNINGS    OK  UNNEEDED, same version is already published
lconwaymacOS 12.7.1 Monterey / x86_64  ERROR    ERROR  skippedskipped
kjohnson3macOS 13.6.5 Ventura / arm64see weekly results here
Package 91/129HostnameOS / ArchINSTALLBUILDCHECKBUILD BIN
ReportingTools 2.44.0  (landing page)
Jason A. Hackney , Gabriel Becker
git_last_commit: 6c9e290
git_last_commit_date: 2024-04-30 10:29:01 -0400
nebbiolo1Linux (Ubuntu 22.04.3 LTS) / x86_64  OK    OK    OK  UNNEEDED, same version is already published
palomino3Windows Server 2022 Datacenter / x64  OK    OK    OK    OK  UNNEEDED, same version is already published
lconwaymacOS 12.7.1 Monterey / x86_64  ERROR    ERROR  skippedskipped
kjohnson3macOS 13.6.5 Ventura / arm64see weekly results here
Package 92/129HostnameOS / ArchINSTALLBUILDCHECKBUILD BIN
RNAseqCovarImpute 1.2.0  (landing page)
Brennan Baker
git_last_commit: 91c8004
git_last_commit_date: 2024-04-30 11:52:16 -0400
nebbiolo1Linux (Ubuntu 22.04.3 LTS) / x86_64  OK    OK    OK  UNNEEDED, same version is already published
palomino3Windows Server 2022 Datacenter / x64  OK    OK    OK    OK  UNNEEDED, same version is already published
lconwaymacOS 12.7.1 Monterey / x86_64  OK    ERROR  skippedskipped
kjohnson3macOS 13.6.5 Ventura / arm64see weekly results here
Package 93/129HostnameOS / ArchINSTALLBUILDCHECKBUILD BIN
RnaSeqSampleSize 2.14.0  (landing page)
Shilin Zhao Developer
git_last_commit: 9238b7e
git_last_commit_date: 2024-04-30 11:28:06 -0400
nebbiolo1Linux (Ubuntu 22.04.3 LTS) / x86_64  OK    OK    OK  YES
palomino3Windows Server 2022 Datacenter / x64  OK    OK    OK    OK  UNNEEDED, same version is already published
lconwaymacOS 12.7.1 Monterey / x86_64  ERROR    ERROR  skippedskipped
kjohnson3macOS 13.6.5 Ventura / arm64see weekly results here
Package 94/129HostnameOS / ArchINSTALLBUILDCHECKBUILD BIN
ROSeq 1.16.0  (landing page)
Krishan Gupta
git_last_commit: d804d7b
git_last_commit_date: 2024-04-30 11:23:28 -0400
nebbiolo1Linux (Ubuntu 22.04.3 LTS) / x86_64  OK    OK    WARNINGS  UNNEEDED, same version is already published
palomino3Windows Server 2022 Datacenter / x64  OK    OK    WARNINGS    OK  UNNEEDED, same version is already published
lconwaymacOS 12.7.1 Monterey / x86_64  OK    OK    WARNINGS    OK  UNNEEDED, same version is already published
kjohnson3macOS 13.6.5 Ventura / arm64see weekly results here
Package 95/129HostnameOS / ArchINSTALLBUILDCHECKBUILD BIN
RUVSeq 1.38.0  (landing page)
Davide Risso
git_last_commit: 03610ea
git_last_commit_date: 2024-04-30 10:36:58 -0400
nebbiolo1Linux (Ubuntu 22.04.3 LTS) / x86_64  OK    OK    OK  UNNEEDED, same version is already published
palomino3Windows Server 2022 Datacenter / x64  OK    OK    OK    OK  UNNEEDED, same version is already published
lconwaymacOS 12.7.1 Monterey / x86_64  ERROR    ERROR  skippedskipped
kjohnson3macOS 13.6.5 Ventura / arm64see weekly results here
Package 96/129HostnameOS / ArchINSTALLBUILDCHECKBUILD BIN
Rvisdiff 1.2.0  (landing page)
David Barrios
git_last_commit: 27cbd1c
git_last_commit_date: 2024-04-30 11:51:29 -0400
nebbiolo1Linux (Ubuntu 22.04.3 LTS) / x86_64  OK    OK    OK  UNNEEDED, same version is already published
palomino3Windows Server 2022 Datacenter / x64  OK    OK    OK    OK  UNNEEDED, same version is already published
lconwaymacOS 12.7.1 Monterey / x86_64  OK    ERROR  skippedskipped
kjohnson3macOS 13.6.5 Ventura / arm64see weekly results here
Package 97/129HostnameOS / ArchINSTALLBUILDCHECKBUILD BIN
saseR 1.0.0  (landing page)
Alexandre Segers
git_last_commit: 83a2bb6
git_last_commit_date: 2024-04-30 11:53:31 -0400
nebbiolo1Linux (Ubuntu 22.04.3 LTS) / x86_64  OK    OK    WARNINGS  UNNEEDED, same version is already published
palomino3Windows Server 2022 Datacenter / x64  OK    OK    WARNINGS    OK  UNNEEDED, same version is already published
lconwaymacOS 12.7.1 Monterey / x86_64  ERROR    ERROR  skippedskipped
kjohnson3macOS 13.6.5 Ventura / arm64see weekly results here
Package 98/129HostnameOS / ArchINSTALLBUILDCHECKBUILD BIN
scCB2 1.14.0  (landing page)
Zijian Ni
git_last_commit: 805db9e
git_last_commit_date: 2024-04-30 11:25:13 -0400
nebbiolo1Linux (Ubuntu 22.04.3 LTS) / x86_64  OK    OK    OK  UNNEEDED, same version is already published
palomino3Windows Server 2022 Datacenter / x64  OK    ERROR  skippedskipped
lconwaymacOS 12.7.1 Monterey / x86_64  ERROR    ERROR  skippedskipped
kjohnson3macOS 13.6.5 Ventura / arm64see weekly results here
Package 99/129HostnameOS / ArchINSTALLBUILDCHECKBUILD BIN
scde 2.32.0  (landing page)
Evan Biederstedt
git_last_commit: 2d8db8a
git_last_commit_date: 2024-04-30 10:46:42 -0400
nebbiolo1Linux (Ubuntu 22.04.3 LTS) / x86_64  OK    OK    WARNINGS  UNNEEDED, same version is already published
palomino3Windows Server 2022 Datacenter / x64  OK    OK    WARNINGS    OK  UNNEEDED, same version is already published
lconwaymacOS 12.7.1 Monterey / x86_64  OK    OK    WARNINGS    OK  UNNEEDED, same version is already published
kjohnson3macOS 13.6.5 Ventura / arm64see weekly results here
Package 100/129HostnameOS / ArchINSTALLBUILDCHECKBUILD BIN
scone 1.28.0  (landing page)
Davide Risso
git_last_commit: 298a397
git_last_commit_date: 2024-04-30 10:55:37 -0400
nebbiolo1Linux (Ubuntu 22.04.3 LTS) / x86_64  OK    OK    OK  UNNEEDED, same version is already published
palomino3Windows Server 2022 Datacenter / x64  OK    OK    OK    OK  UNNEEDED, same version is already published
lconwaymacOS 12.7.1 Monterey / x86_64  ERROR    ERROR  skippedskipped
kjohnson3macOS 13.6.5 Ventura / arm64see weekly results here
Package 101/129HostnameOS / ArchINSTALLBUILDCHECKBUILD BIN
scran 1.32.0  (landing page)
Aaron Lun
git_last_commit: 03deb61
git_last_commit_date: 2024-04-30 10:50:14 -0400
nebbiolo1Linux (Ubuntu 22.04.3 LTS) / x86_64  OK    OK    WARNINGS  UNNEEDED, same version is already published
palomino3Windows Server 2022 Datacenter / x64  OK    OK    WARNINGS    OK  UNNEEDED, same version is already published
lconwaymacOS 12.7.1 Monterey / x86_64  ERROR    ERROR  skippedskipped
kjohnson3macOS 13.6.5 Ventura / arm64see weekly results here
Package 102/129HostnameOS / ArchINSTALLBUILDCHECKBUILD BIN
ScreenR 1.6.0  (landing page)
Emanuel Michele Soda
git_last_commit: ecb0863
git_last_commit_date: 2024-04-30 11:43:04 -0400
nebbiolo1Linux (Ubuntu 22.04.3 LTS) / x86_64  OK    OK    OK  UNNEEDED, same version is already published
palomino3Windows Server 2022 Datacenter / x64  OK    OK    OK    OK  UNNEEDED, same version is already published
lconwaymacOS 12.7.1 Monterey / x86_64  OK    OK    OK    OK  UNNEEDED, same version is already published
kjohnson3macOS 13.6.5 Ventura / arm64see weekly results here
Package 103/129HostnameOS / ArchINSTALLBUILDCHECKBUILD BIN
SEtools 1.18.0  (landing page)
Pierre-Luc Germain
git_last_commit: d3e34af
git_last_commit_date: 2024-04-30 11:17:10 -0400
nebbiolo1Linux (Ubuntu 22.04.3 LTS) / x86_64  OK    OK    OK  UNNEEDED, same version is already published
palomino3Windows Server 2022 Datacenter / x64  OK    OK    OK    OK  UNNEEDED, same version is already published
lconwaymacOS 12.7.1 Monterey / x86_64  ERROR    ERROR  skippedskipped
kjohnson3macOS 13.6.5 Ventura / arm64see weekly results here
Package 104/129HostnameOS / ArchINSTALLBUILDCHECKBUILD BIN
SIMD 1.22.0  (landing page)
Jiadi Zhu
git_last_commit: ad56a8a
git_last_commit_date: 2024-04-30 11:09:16 -0400
nebbiolo1Linux (Ubuntu 22.04.3 LTS) / x86_64  OK    OK    OK  UNNEEDED, same version is already published
palomino3Windows Server 2022 Datacenter / x64  OK    OK    OK    OK  UNNEEDED, same version is already published
lconwaymacOS 12.7.1 Monterey / x86_64  OK    OK    OK    OK  UNNEEDED, same version is already published
kjohnson3macOS 13.6.5 Ventura / arm64see weekly results here
Package 105/129HostnameOS / ArchINSTALLBUILDCHECKBUILD BIN
SingleCellSignalR 1.16.0  (landing page)
Jacques Colinge Developer
git_last_commit: f2af9eb
git_last_commit_date: 2024-04-30 11:23:49 -0400
nebbiolo1Linux (Ubuntu 22.04.3 LTS) / x86_64  OK    OK    WARNINGS  UNNEEDED, same version is already published
palomino3Windows Server 2022 Datacenter / x64  OK    OK    WARNINGS    OK  UNNEEDED, same version is already published
lconwaymacOS 12.7.1 Monterey / x86_64  ERROR    ERROR  skippedskipped
kjohnson3macOS 13.6.5 Ventura / arm64see weekly results here
Package 106/129HostnameOS / ArchINSTALLBUILDCHECKBUILD BIN
singscore 1.24.0  (landing page)
Malvika Kharbanda
git_last_commit: 0e6cbd3
git_last_commit_date: 2024-04-30 11:06:26 -0400
nebbiolo1Linux (Ubuntu 22.04.3 LTS) / x86_64  OK    OK    OK  UNNEEDED, same version is already published
palomino3Windows Server 2022 Datacenter / x64  OK    OK    OK    OK  UNNEEDED, same version is already published
lconwaymacOS 12.7.1 Monterey / x86_64  ERROR    ERROR  skippedskipped
kjohnson3macOS 13.6.5 Ventura / arm64see weekly results here
Package 107/129HostnameOS / ArchINSTALLBUILDCHECKBUILD BIN
sparrow 1.10.1  (landing page)
Steve Lianoglou
git_last_commit: d592783
git_last_commit_date: 2024-05-06 17:21:11 -0400
nebbiolo1Linux (Ubuntu 22.04.3 LTS) / x86_64  OK    OK    OK  UNNEEDED, same version is already published
palomino3Windows Server 2022 Datacenter / x64  OK    OK    OK    OK  UNNEEDED, same version is already published
lconwaymacOS 12.7.1 Monterey / x86_64  ERROR    ERROR  skippedskipped
kjohnson3macOS 13.6.5 Ventura / arm64see weekly results here
Package 108/129HostnameOS / ArchINSTALLBUILDCHECKBUILD BIN
spatialHeatmap 2.10.0  (landing page)
Jianhai Zhang
git_last_commit: 59bbb65
git_last_commit_date: 2024-04-30 11:27:48 -0400
nebbiolo1Linux (Ubuntu 22.04.3 LTS) / x86_64  OK    OK    OK  UNNEEDED, same version is already published
palomino3Windows Server 2022 Datacenter / x64  OK    OK    OK    OK  UNNEEDED, same version is already published
lconwaymacOS 12.7.1 Monterey / x86_64  ERROR    ERROR  skippedskipped
kjohnson3macOS 13.6.5 Ventura / arm64see weekly results here
Package 109/129HostnameOS / ArchINSTALLBUILDCHECKBUILD BIN
speckle 1.4.0  (landing page)
Belinda Phipson
git_last_commit: b3b2933
git_last_commit_date: 2024-04-30 11:46:22 -0400
nebbiolo1Linux (Ubuntu 22.04.3 LTS) / x86_64  OK    OK    OK  UNNEEDED, same version is already published
palomino3Windows Server 2022 Datacenter / x64  OK    OK    OK    OK  UNNEEDED, same version is already published
lconwaymacOS 12.7.1 Monterey / x86_64  ERROR    ERROR  skippedskipped
kjohnson3macOS 13.6.5 Ventura / arm64see weekly results here
Package 110/129HostnameOS / ArchINSTALLBUILDCHECKBUILD BIN
splatter 1.28.0  (landing page)
Luke Zappia
git_last_commit: 5e5b43e
git_last_commit_date: 2024-04-30 10:56:03 -0400
nebbiolo1Linux (Ubuntu 22.04.3 LTS) / x86_64  OK    OK    OK  UNNEEDED, same version is already published
palomino3Windows Server 2022 Datacenter / x64  OK    OK    OK    OK  UNNEEDED, same version is already published
lconwaymacOS 12.7.1 Monterey / x86_64  ERROR    ERROR  skippedskipped
kjohnson3macOS 13.6.5 Ventura / arm64see weekly results here
Package 111/129HostnameOS / ArchINSTALLBUILDCHECKBUILD BIN
SPsimSeq 1.14.0  (landing page)
Joris Meys
git_last_commit: d820dc6
git_last_commit_date: 2024-04-30 11:24:41 -0400
nebbiolo1Linux (Ubuntu 22.04.3 LTS) / x86_64  OK    OK    OK  UNNEEDED, same version is already published
palomino3Windows Server 2022 Datacenter / x64  OK    OK    OK    OK  UNNEEDED, same version is already published
lconwaymacOS 12.7.1 Monterey / x86_64  ERROR    ERROR  skippedskipped
kjohnson3macOS 13.6.5 Ventura / arm64see weekly results here
Package 112/129HostnameOS / ArchINSTALLBUILDCHECKBUILD BIN
srnadiff 1.24.0  (landing page)
Zytnicki Matthias
git_last_commit: 12aa125
git_last_commit_date: 2024-04-30 11:03:38 -0400
nebbiolo1Linux (Ubuntu 22.04.3 LTS) / x86_64  OK    OK    WARNINGS  UNNEEDED, same version is already published
palomino3Windows Server 2022 Datacenter / x64  OK    OK    WARNINGS    OK  UNNEEDED, same version is already published
lconwaymacOS 12.7.1 Monterey / x86_64  ERROR    ERROR  skippedskipped
kjohnson3macOS 13.6.5 Ventura / arm64see weekly results here
Package 113/129HostnameOS / ArchINSTALLBUILDCHECKBUILD BIN
sSNAPPY 1.8.0  (landing page)
Wenjun Liu
git_last_commit: 684bb7e
git_last_commit_date: 2024-04-30 11:42:07 -0400
nebbiolo1Linux (Ubuntu 22.04.3 LTS) / x86_64  OK    OK    OK  UNNEEDED, same version is already published
palomino3Windows Server 2022 Datacenter / x64  OK    OK    OK    OK  UNNEEDED, same version is already published
lconwaymacOS 12.7.1 Monterey / x86_64  ERROR    ERROR  skippedskipped
kjohnson3macOS 13.6.5 Ventura / arm64see weekly results here
Package 114/129HostnameOS / ArchINSTALLBUILDCHECKBUILD BIN
standR 1.8.0  (landing page)
Ning Liu
git_last_commit: 897a04b
git_last_commit_date: 2024-04-30 11:41:38 -0400
nebbiolo1Linux (Ubuntu 22.04.3 LTS) / x86_64  OK    OK    OK  UNNEEDED, same version is already published
palomino3Windows Server 2022 Datacenter / x64  OK    OK    OK    OK  UNNEEDED, same version is already published
lconwaymacOS 12.7.1 Monterey / x86_64  ERROR    ERROR  skippedskipped
kjohnson3macOS 13.6.5 Ventura / arm64see weekly results here
Package 115/129HostnameOS / ArchINSTALLBUILDCHECKBUILD BIN
STATegRa 1.40.0  (landing page)
David Gomez-Cabrero , Núria Planell
git_last_commit: 2ddf02c
git_last_commit_date: 2024-04-30 10:39:54 -0400
nebbiolo1Linux (Ubuntu 22.04.3 LTS) / x86_64  OK    OK    OK  UNNEEDED, same version is already published
palomino3Windows Server 2022 Datacenter / x64  OK    OK    OK    OK  UNNEEDED, same version is already published
lconwaymacOS 12.7.1 Monterey / x86_64  OK    OK    OK    OK  UNNEEDED, same version is already published
kjohnson3macOS 13.6.5 Ventura / arm64see weekly results here
Package 116/129HostnameOS / ArchINSTALLBUILDCHECKBUILD BIN
SurfR 1.0.0  (landing page)
Aurora Maurizio
git_last_commit: 21e00c6
git_last_commit_date: 2024-04-30 11:54:06 -0400
nebbiolo1Linux (Ubuntu 22.04.3 LTS) / x86_64  OK    OK    OK  UNNEEDED, same version is already published
palomino3Windows Server 2022 Datacenter / x64  OK    OK    OK    OK  UNNEEDED, same version is already published
lconwaymacOS 12.7.1 Monterey / x86_64  ERROR    ERROR  skippedskipped
kjohnson3macOS 13.6.5 Ventura / arm64see weekly results here
Package 117/129HostnameOS / ArchINSTALLBUILDCHECKBUILD BIN
sva 3.52.0  (landing page)
Jeffrey T. Leek , John D. Storey
git_last_commit: ccf795f
git_last_commit_date: 2024-04-30 10:25:58 -0400
nebbiolo1Linux (Ubuntu 22.04.3 LTS) / x86_64  OK    OK    OK  UNNEEDED, same version is already published
palomino3Windows Server 2022 Datacenter / x64  OK    OK    OK    OK  UNNEEDED, same version is already published
lconwaymacOS 12.7.1 Monterey / x86_64  OK    OK    OK    OK  UNNEEDED, same version is already published
kjohnson3macOS 13.6.5 Ventura / arm64see weekly results here
Package 118/129HostnameOS / ArchINSTALLBUILDCHECKBUILD BIN
TBSignatureProfiler 1.16.0  (landing page)
Aubrey R. Odom
git_last_commit: 5f3c2c3
git_last_commit_date: 2024-04-30 11:23:30 -0400
nebbiolo1Linux (Ubuntu 22.04.3 LTS) / x86_64  OK    OK    OK  UNNEEDED, same version is already published
palomino3Windows Server 2022 Datacenter / x64  OK    OK    OK    OK  UNNEEDED, same version is already published
lconwaymacOS 12.7.1 Monterey / x86_64  ERROR    ERROR  skippedskipped
kjohnson3macOS 13.6.5 Ventura / arm64see weekly results here
Package 119/129HostnameOS / ArchINSTALLBUILDCHECKBUILD BIN
TCC 1.44.0  (landing page)
Jianqiang Sun
git_last_commit: bbe4206
git_last_commit_date: 2024-04-30 10:33:13 -0400
nebbiolo1Linux (Ubuntu 22.04.3 LTS) / x86_64  OK    OK    OK  UNNEEDED, same version is already published
palomino3Windows Server 2022 Datacenter / x64  OK    OK    OK    OK  UNNEEDED, same version is already published
lconwaymacOS 12.7.1 Monterey / x86_64  ERROR    ERROR  skippedskipped
kjohnson3macOS 13.6.5 Ventura / arm64see weekly results here
Package 120/129HostnameOS / ArchINSTALLBUILDCHECKBUILD BIN
TCseq 1.28.0  (landing page)
Mengjun Wu
git_last_commit: 8cfa4e6
git_last_commit_date: 2024-04-30 10:55:45 -0400
nebbiolo1Linux (Ubuntu 22.04.3 LTS) / x86_64  OK    OK    WARNINGS  UNNEEDED, same version is already published
palomino3Windows Server 2022 Datacenter / x64  OK    OK    WARNINGS    OK  UNNEEDED, same version is already published
lconwaymacOS 12.7.1 Monterey / x86_64  ERROR    ERROR  skippedskipped
kjohnson3macOS 13.6.5 Ventura / arm64see weekly results here
Package 121/129HostnameOS / ArchINSTALLBUILDCHECKBUILD BIN
tradeSeq 1.18.0  (landing page)
Hector Roux de Bezieux
git_last_commit: 41b77d8
git_last_commit_date: 2024-04-30 11:19:07 -0400
nebbiolo1Linux (Ubuntu 22.04.3 LTS) / x86_64  OK    OK    OK  UNNEEDED, same version is already published
palomino3Windows Server 2022 Datacenter / x64  OK    OK    OK    OK  UNNEEDED, same version is already published
lconwaymacOS 12.7.1 Monterey / x86_64  ERROR    ERROR  skippedskipped
kjohnson3macOS 13.6.5 Ventura / arm64see weekly results here
Package 122/129HostnameOS / ArchINSTALLBUILDCHECKBUILD BIN
tRanslatome 1.42.0  (landing page)
Toma Tebaldi , Erik Dassi
git_last_commit: 7fa9e77
git_last_commit_date: 2024-04-30 10:32:02 -0400
nebbiolo1Linux (Ubuntu 22.04.3 LTS) / x86_64  OK    OK    OK  UNNEEDED, same version is already published
palomino3Windows Server 2022 Datacenter / x64  OK    OK    OK    OK  UNNEEDED, same version is already published
lconwaymacOS 12.7.1 Monterey / x86_64  ERROR    ERROR  skippedskipped
kjohnson3macOS 13.6.5 Ventura / arm64see weekly results here
Package 123/129HostnameOS / ArchINSTALLBUILDCHECKBUILD BIN
treeclimbR 1.0.0  (landing page)
Charlotte Soneson
git_last_commit: 5915a6e
git_last_commit_date: 2024-04-30 11:54:54 -0400
nebbiolo1Linux (Ubuntu 22.04.3 LTS) / x86_64  OK    OK    OK  UNNEEDED, same version is already published
palomino3Windows Server 2022 Datacenter / x64  OK    OK    OK    OK  UNNEEDED, same version is already published
lconwaymacOS 12.7.1 Monterey / x86_64  ERROR    ERROR  skippedskipped
kjohnson3macOS 13.6.5 Ventura / arm64see weekly results here
Package 124/129HostnameOS / ArchINSTALLBUILDCHECKBUILD BIN
treekoR 1.12.0  (landing page)
Adam Chan
git_last_commit: 7408f62
git_last_commit_date: 2024-04-30 11:33:24 -0400
nebbiolo1Linux (Ubuntu 22.04.3 LTS) / x86_64  OK    OK    OK  UNNEEDED, same version is already published
palomino3Windows Server 2022 Datacenter / x64  OK    OK    OK    OK  UNNEEDED, same version is already published
lconwaymacOS 12.7.1 Monterey / x86_64  ERROR    ERROR  skippedskipped
kjohnson3macOS 13.6.5 Ventura / arm64see weekly results here
Package 125/129HostnameOS / ArchINSTALLBUILDCHECKBUILD BIN
tweeDEseq 1.50.0  (landing page)
Dolors Pelegri-Siso
git_last_commit: cfa23be
git_last_commit_date: 2024-04-30 10:26:14 -0400
nebbiolo1Linux (Ubuntu 22.04.3 LTS) / x86_64  OK    OK    WARNINGS  UNNEEDED, same version is already published
palomino3Windows Server 2022 Datacenter / x64  OK    OK    WARNINGS    OK  UNNEEDED, same version is already published
lconwaymacOS 12.7.1 Monterey / x86_64  OK    OK    WARNINGS    OK  UNNEEDED, same version is already published
kjohnson3macOS 13.6.5 Ventura / arm64see weekly results here
Package 126/129HostnameOS / ArchINSTALLBUILDCHECKBUILD BIN
vidger 1.24.0  (landing page)
Brandon Monier
git_last_commit: 92fdf04
git_last_commit_date: 2024-04-30 11:04:24 -0400
nebbiolo1Linux (Ubuntu 22.04.3 LTS) / x86_64  OK    OK    OK  UNNEEDED, same version is already published
palomino3Windows Server 2022 Datacenter / x64  OK    OK    OK    OK  UNNEEDED, same version is already published
lconwaymacOS 12.7.1 Monterey / x86_64  ERROR    ERROR  skippedskipped
kjohnson3macOS 13.6.5 Ventura / arm64see weekly results here
Package 127/129HostnameOS / ArchINSTALLBUILDCHECKBUILD BIN
xcore 1.8.0  (landing page)
Maciej Migdał
git_last_commit: 3e50ac6
git_last_commit_date: 2024-04-30 11:40:48 -0400
nebbiolo1Linux (Ubuntu 22.04.3 LTS) / x86_64  OK    OK    OK  UNNEEDED, same version is already published
palomino3Windows Server 2022 Datacenter / x64  OK    OK    OK    OK  UNNEEDED, same version is already published
lconwaymacOS 12.7.1 Monterey / x86_64  ERROR    ERROR  skippedskipped
kjohnson3macOS 13.6.5 Ventura / arm64see weekly results here
Package 128/129HostnameOS / ArchINSTALLBUILDCHECKBUILD BIN
yarn 1.30.0  (landing page)
Joseph N Paulson
git_last_commit: 54b819d
git_last_commit_date: 2024-04-30 10:55:03 -0400
nebbiolo1Linux (Ubuntu 22.04.3 LTS) / x86_64  OK    OK    ERROR  
palomino3Windows Server 2022 Datacenter / x64  OK    OK    OK    OK  UNNEEDED, same version is already published
lconwaymacOS 12.7.1 Monterey / x86_64  ERROR    ERROR  skippedskipped
kjohnson3macOS 13.6.5 Ventura / arm64see weekly results here
Package 129/129HostnameOS / ArchINSTALLBUILDCHECKBUILD BIN
zinbwave 1.26.0  (landing page)
Davide Risso
git_last_commit: 59373ed
git_last_commit_date: 2024-04-30 10:58:36 -0400
nebbiolo1Linux (Ubuntu 22.04.3 LTS) / x86_64  OK    OK    OK  UNNEEDED, same version is already published
palomino3Windows Server 2022 Datacenter / x64  OK    OK    OK    OK  UNNEEDED, same version is already published
lconwaymacOS 12.7.1 Monterey / x86_64  ERROR    ERROR  skippedskipped
kjohnson3macOS 13.6.5 Ventura / arm64see weekly results here