Back to Multiple platform build/check report for BioC 3.19:   simplified   long
ABCD[E]FGHIJKLMNOPQRSTUVWXYZ

This page was generated on 2024-06-18 17:58 -0400 (Tue, 18 Jun 2024).

HostnameOSArch (*)R versionInstalled pkgs
nebbiolo1Linux (Ubuntu 22.04.3 LTS)x86_644.4.0 (2024-04-24) -- "Puppy Cup" 4758
palomino3Windows Server 2022 Datacenterx644.4.0 (2024-04-24 ucrt) -- "Puppy Cup" 4492
merida1macOS 12.7.4 Montereyx86_644.4.0 (2024-04-24) -- "Puppy Cup" 4464
kjohnson1macOS 13.6.6 Venturaarm644.4.0 (2024-04-24) -- "Puppy Cup" 4464
Click on any hostname to see more info about the system (e.g. compilers)      (*) as reported by 'uname -p', except on Windows and Mac OS X

Package 634/2300HostnameOS / ArchINSTALLBUILDCHECKBUILD BIN
edge 2.36.0  (landing page)
John D. Storey , Andrew J. Bass
Snapshot Date: 2024-06-16 14:00 -0400 (Sun, 16 Jun 2024)
git_url: https://git.bioconductor.org/packages/edge
git_branch: RELEASE_3_19
git_last_commit: 82be43e
git_last_commit_date: 2024-04-30 10:43:47 -0400 (Tue, 30 Apr 2024)
nebbiolo1Linux (Ubuntu 22.04.3 LTS) / x86_64  OK    OK    OK  UNNEEDED, same version is already published
palomino3Windows Server 2022 Datacenter / x64  OK    OK    OK    OK  UNNEEDED, same version is already published
merida1macOS 12.7.4 Monterey / x86_64  OK    OK    OK    OK  UNNEEDED, same version is already published
kjohnson1macOS 13.6.6 Ventura / arm64  OK    OK    OK    OK  UNNEEDED, same version is already published


CHECK results for edge on palomino3

To the developers/maintainers of the edge package:
- Allow up to 24 hours (and sometimes 48 hours) for your latest push to git@git.bioconductor.org:packages/edge.git to reflect on this report. See Troubleshooting Build Report for more information.
- Use the following Renviron settings to reproduce errors and warnings.
- If 'R CMD check' started to fail recently on the Linux builder(s) over a missing dependency, add the missing dependency to 'Suggests:' in your DESCRIPTION file. See Renviron.bioc for more information.

raw results


Summary

Package: edge
Version: 2.36.0
Command: F:\biocbuild\bbs-3.19-bioc\R\bin\R.exe CMD check --no-multiarch --install=check:edge.install-out.txt --library=F:\biocbuild\bbs-3.19-bioc\R\library --no-vignettes --timings edge_2.36.0.tar.gz
StartedAt: 2024-06-17 03:16:43 -0400 (Mon, 17 Jun 2024)
EndedAt: 2024-06-17 03:21:41 -0400 (Mon, 17 Jun 2024)
EllapsedTime: 297.8 seconds
RetCode: 0
Status:   OK  
CheckDir: edge.Rcheck
Warnings: 0

Command output

##############################################################################
##############################################################################
###
### Running command:
###
###   F:\biocbuild\bbs-3.19-bioc\R\bin\R.exe CMD check --no-multiarch --install=check:edge.install-out.txt --library=F:\biocbuild\bbs-3.19-bioc\R\library --no-vignettes --timings edge_2.36.0.tar.gz
###
##############################################################################
##############################################################################


* using log directory 'F:/biocbuild/bbs-3.19-bioc/meat/edge.Rcheck'
* using R version 4.4.0 (2024-04-24 ucrt)
* using platform: x86_64-w64-mingw32
* R was compiled by
    gcc.exe (GCC) 13.2.0
    GNU Fortran (GCC) 13.2.0
* running under: Windows Server 2022 x64 (build 20348)
* using session charset: UTF-8
* using option '--no-vignettes'
* checking for file 'edge/DESCRIPTION' ... OK
* checking extension type ... Package
* this is package 'edge' version '2.36.0'
* checking package namespace information ... OK
* checking package dependencies ... OK
* checking if this is a source package ... OK
* checking if there is a namespace ... OK
* checking for hidden files and directories ... OK
* checking for portable file names ... OK
* checking whether package 'edge' can be installed ... OK
* used C compiler: 'gcc.exe (GCC) 13.2.0'
* checking installed package size ... OK
* checking package directory ... OK
* checking 'build' directory ... OK
* checking DESCRIPTION meta-information ... OK
* checking top-level files ... OK
* checking for left-over files ... OK
* checking index information ... OK
* checking package subdirectories ... OK
* checking code files for non-ASCII characters ... OK
* checking R files for syntax errors ... OK
* checking whether the package can be loaded ... OK
* checking whether the package can be loaded with stated dependencies ... OK
* checking whether the package can be unloaded cleanly ... OK
* checking whether the namespace can be loaded with stated dependencies ... OK
* checking whether the namespace can be unloaded cleanly ... OK
* checking dependencies in R code ... OK
* checking S3 generic/method consistency ... OK
* checking replacement functions ... OK
* checking foreign function calls ... OK
* checking R code for possible problems ... NOTE
build_study: no visible global function definition for 'as.formula'
createSet: no visible global function definition for 'model.matrix'
deSetCheck: no visible global function definition for 'model.matrix'
fitFDist: no visible global function definition for 'median'
fitFDist: no visible global function definition for 'lm.fit'
fitFDist: no visible global function definition for 'predict'
fit_wmodels: no visible global function definition for 'model.matrix'
fit_wmodels: no visible global function definition for 'lm.wfit'
null: no visible global function definition for 'model.matrix'
apply_sva,deSet: no visible global function definition for 'as.formula'
apply_sva,deSet: no visible global function definition for 'terms'
fit_models,deSet: no visible global function definition for
  'model.matrix'
fullModel<-,deSet: no visible global function definition for
  'model.matrix'
lrt,deSet-deFit: no visible global function definition for 'pf'
nullModel<-,deSet: no visible global function definition for
  'model.matrix'
Undefined global functions or variables:
  as.formula lm.fit lm.wfit median model.matrix pf predict terms
Consider adding
  importFrom("stats", "as.formula", "lm.fit", "lm.wfit", "median",
             "model.matrix", "pf", "predict", "terms")
to your NAMESPACE file.
* checking Rd files ... OK
* checking Rd metadata ... OK
* checking Rd cross-references ... OK
* checking for missing documentation entries ... OK
* checking for code/documentation mismatches ... OK
* checking Rd \usage sections ... OK
* checking Rd contents ... OK
* checking for unstated dependencies in examples ... OK
* checking contents of 'data' directory ... OK
* checking data for non-ASCII characters ... OK
* checking LazyData ... OK
* checking data for ASCII and uncompressed saves ... OK
* checking line endings in C/C++/Fortran sources/headers ... OK
* checking compiled code ... NOTE
Note: information on .o files for x64 is not available
File 'F:/biocbuild/bbs-3.19-bioc/R/library/edge/libs/x64/edge.dll':
  Found '_exit', possibly from '_exit' (C)
  Found 'abort', possibly from 'abort' (C), 'runtime' (Fortran)

Compiled code should not call entry points which might terminate R nor
write to stdout/stderr instead of to the console, nor use Fortran I/O
nor system RNGs nor [v]sprintf. The detected symbols are linked into
the code but might come from libraries and not actually be called.

See 'Writing portable packages' in the 'Writing R Extensions' manual.
* checking sizes of PDF files under 'inst/doc' ... NOTE
  'qpdf' made some significant size reductions:
     compacted 'edge.pdf' from 456Kb to 349Kb
  consider running tools::compactPDF() on these files,
  or build the source package with --compact-vignettes
* checking files in 'vignettes' ... OK
* checking examples ... OK
* checking for unstated dependencies in 'tests' ... OK
* checking tests ...
  Running 'testthat.R'
 OK
* checking for unstated dependencies in vignettes ... OK
* checking package vignettes ... OK
* checking running R code from vignettes ... SKIPPED
* checking re-building of vignette outputs ... SKIPPED
* checking PDF version of manual ... OK
* DONE

Status: 3 NOTEs
See
  'F:/biocbuild/bbs-3.19-bioc/meat/edge.Rcheck/00check.log'
for details.


Installation output

edge.Rcheck/00install.out

##############################################################################
##############################################################################
###
### Running command:
###
###   F:\biocbuild\bbs-3.19-bioc\R\bin\R.exe CMD INSTALL edge
###
##############################################################################
##############################################################################


* installing to library 'F:/biocbuild/bbs-3.19-bioc/R/library'
* installing *source* package 'edge' ...
** using staged installation
** libs
using C compiler: 'gcc.exe (GCC) 13.2.0'
gcc  -I"F:/biocbuild/bbs-3.19-bioc/R/include" -DNDEBUG     -I"C:/rtools44/x86_64-w64-mingw32.static.posix/include"     -O2 -Wall  -mfpmath=sse -msse2 -mstackrealign  -c edge-init.c -o edge-init.o
gcc  -I"F:/biocbuild/bbs-3.19-bioc/R/include" -DNDEBUG     -I"C:/rtools44/x86_64-w64-mingw32.static.posix/include"     -O2 -Wall  -mfpmath=sse -msse2 -mstackrealign  -c edgeKLODP.c -o edgeKLODP.o
edgeKLODP.c: In function 'odpScoreCluster':
edgeKLODP.c:11:19: warning: 'middle' may be used uninitialized [-Wmaybe-uninitialized]
   11 |   double *first, *middle;
      |                   ^~~~~~
gcc -shared -s -static-libgcc -o edge.dll tmp.def edge-init.o edgeKLODP.o -LC:/rtools44/x86_64-w64-mingw32.static.posix/lib/x64 -LC:/rtools44/x86_64-w64-mingw32.static.posix/lib -LF:/biocbuild/bbs-3.19-bioc/R/bin/x64 -lR
installing to F:/biocbuild/bbs-3.19-bioc/R/library/00LOCK-edge/00new/edge/libs/x64
** R
** data
*** moving datasets to lazyload DB
** inst
** byte-compile and prepare package for lazy loading
** help
*** installing help indices
** building package indices
** installing vignettes
** testing if installed package can be loaded from temporary location
** testing if installed package can be loaded from final location
** testing if installed package keeps a record of temporary installation path
* DONE (edge)

Tests output

edge.Rcheck/tests/testthat.Rout


R version 4.4.0 (2024-04-24 ucrt) -- "Puppy Cup"
Copyright (C) 2024 The R Foundation for Statistical Computing
Platform: x86_64-w64-mingw32/x64

R is free software and comes with ABSOLUTELY NO WARRANTY.
You are welcome to redistribute it under certain conditions.
Type 'license()' or 'licence()' for distribution details.

R is a collaborative project with many contributors.
Type 'contributors()' for more information and
'citation()' on how to cite R or R packages in publications.

Type 'demo()' for some demos, 'help()' for on-line help, or
'help.start()' for an HTML browser interface to help.
Type 'q()' to quit R.

> library(testthat)
> library(edge)
Loading required package: Biobase
Loading required package: BiocGenerics

Attaching package: 'BiocGenerics'

The following objects are masked from 'package:stats':

    IQR, mad, sd, var, xtabs

The following objects are masked from 'package:base':

    Filter, Find, Map, Position, Reduce, anyDuplicated, aperm, append,
    as.data.frame, basename, cbind, colnames, dirname, do.call,
    duplicated, eval, evalq, get, grep, grepl, intersect, is.unsorted,
    lapply, mapply, match, mget, order, paste, pmax, pmax.int, pmin,
    pmin.int, rank, rbind, rownames, sapply, setdiff, table, tapply,
    union, unique, unsplit, which.max, which.min

Welcome to Bioconductor

    Vignettes contain introductory material; view with
    'browseVignettes()'. To cite Bioconductor, see
    'citation("Biobase")', and for packages 'citation("pkgname")'.

> 
> test_check("edge")
[ FAIL 0 | WARN 0 | SKIP 0 | PASS 29 ]
> 
> proc.time()
   user  system elapsed 
  10.92    4.48   15.40 

Example timings

edge.Rcheck/edge-Ex.timings

nameusersystemelapsed
apply_qvalue1.260.031.29
apply_sva2.610.052.66
betaCoef0.270.020.28
build_models0.330.010.35
build_study0.330.020.34
deSet0.640.010.66
edge000
endotoxin0.950.020.97
fitFull0.360.000.36
fitNull0.250.050.29
fit_models0.860.010.88
fullMatrix0.260.020.28
fullModel0.470.060.53
gibson0.750.030.78
individual0.320.020.33
kidney0.960.061.03
kl_clust0.430.030.45
lrt1.000.131.13
nullMatrix0.260.000.26
nullModel0.710.010.72
odp1.680.061.75
qvalueObj1.140.061.20
resFull0.340.000.34
resNull0.380.000.38
sType0.380.000.38
show1.110.051.15
summary1.610.001.61