Back to Multiple platform build/check report for BioC 3.19:   simplified   long
ABCD[E]FGHIJKLMNOPQRSTUVWXYZ

This page was generated on 2024-06-21 17:38 -0400 (Fri, 21 Jun 2024).

HostnameOSArch (*)R versionInstalled pkgs
nebbiolo1Linux (Ubuntu 22.04.3 LTS)x86_644.4.0 (2024-04-24) -- "Puppy Cup" 4758
palomino3Windows Server 2022 Datacenterx644.4.0 (2024-04-24 ucrt) -- "Puppy Cup" 4492
merida1macOS 12.7.4 Montereyx86_644.4.0 (2024-04-24) -- "Puppy Cup" 4506
kjohnson1macOS 13.6.6 Venturaarm644.4.0 (2024-04-24) -- "Puppy Cup" 4464
Click on any hostname to see more info about the system (e.g. compilers)      (*) as reported by 'uname -p', except on Windows and Mac OS X

Package 634/2300HostnameOS / ArchINSTALLBUILDCHECKBUILD BIN
edge 2.36.0  (landing page)
John D. Storey , Andrew J. Bass
Snapshot Date: 2024-06-19 14:00 -0400 (Wed, 19 Jun 2024)
git_url: https://git.bioconductor.org/packages/edge
git_branch: RELEASE_3_19
git_last_commit: 82be43e
git_last_commit_date: 2024-04-30 10:43:47 -0400 (Tue, 30 Apr 2024)
nebbiolo1Linux (Ubuntu 22.04.3 LTS) / x86_64  OK    OK    OK  UNNEEDED, same version is already published
palomino3Windows Server 2022 Datacenter / x64  OK    OK    OK    OK  UNNEEDED, same version is already published
merida1macOS 12.7.4 Monterey / x86_64  OK    OK    OK    OK  UNNEEDED, same version is already published
kjohnson1macOS 13.6.6 Ventura / arm64  OK    OK    OK    OK  UNNEEDED, same version is already published


CHECK results for edge on nebbiolo1

To the developers/maintainers of the edge package:
- Allow up to 24 hours (and sometimes 48 hours) for your latest push to git@git.bioconductor.org:packages/edge.git to reflect on this report. See Troubleshooting Build Report for more information.
- Use the following Renviron settings to reproduce errors and warnings.
- If 'R CMD check' started to fail recently on the Linux builder(s) over a missing dependency, add the missing dependency to 'Suggests:' in your DESCRIPTION file. See Renviron.bioc for more information.

raw results


Summary

Package: edge
Version: 2.36.0
Command: /home/biocbuild/bbs-3.19-bioc/R/bin/R CMD check --install=check:edge.install-out.txt --library=/home/biocbuild/bbs-3.19-bioc/R/site-library --timings edge_2.36.0.tar.gz
StartedAt: 2024-06-19 22:48:56 -0400 (Wed, 19 Jun 2024)
EndedAt: 2024-06-19 22:52:23 -0400 (Wed, 19 Jun 2024)
EllapsedTime: 206.4 seconds
RetCode: 0
Status:   OK  
CheckDir: edge.Rcheck
Warnings: 0

Command output

##############################################################################
##############################################################################
###
### Running command:
###
###   /home/biocbuild/bbs-3.19-bioc/R/bin/R CMD check --install=check:edge.install-out.txt --library=/home/biocbuild/bbs-3.19-bioc/R/site-library --timings edge_2.36.0.tar.gz
###
##############################################################################
##############################################################################


* using log directory ‘/home/biocbuild/bbs-3.19-bioc/meat/edge.Rcheck’
* using R version 4.4.0 (2024-04-24)
* using platform: x86_64-pc-linux-gnu
* R was compiled by
    gcc (Ubuntu 11.4.0-1ubuntu1~22.04) 11.4.0
    GNU Fortran (Ubuntu 11.4.0-1ubuntu1~22.04) 11.4.0
* running under: Ubuntu 22.04.4 LTS
* using session charset: UTF-8
* checking for file ‘edge/DESCRIPTION’ ... OK
* checking extension type ... Package
* this is package ‘edge’ version ‘2.36.0’
* checking package namespace information ... OK
* checking package dependencies ... OK
* checking if this is a source package ... OK
* checking if there is a namespace ... OK
* checking for hidden files and directories ... OK
* checking for portable file names ... OK
* checking for sufficient/correct file permissions ... OK
* checking whether package ‘edge’ can be installed ... OK
* used C compiler: ‘gcc (Ubuntu 11.4.0-1ubuntu1~22.04) 11.4.0’
* checking installed package size ... OK
* checking package directory ... OK
* checking ‘build’ directory ... OK
* checking DESCRIPTION meta-information ... OK
* checking top-level files ... OK
* checking for left-over files ... OK
* checking index information ... OK
* checking package subdirectories ... OK
* checking code files for non-ASCII characters ... OK
* checking R files for syntax errors ... OK
* checking whether the package can be loaded ... OK
* checking whether the package can be loaded with stated dependencies ... OK
* checking whether the package can be unloaded cleanly ... OK
* checking whether the namespace can be loaded with stated dependencies ... OK
* checking whether the namespace can be unloaded cleanly ... OK
* checking loading without being on the library search path ... OK
* checking dependencies in R code ... OK
* checking S3 generic/method consistency ... OK
* checking replacement functions ... OK
* checking foreign function calls ... OK
* checking R code for possible problems ... NOTE
build_study: no visible global function definition for ‘as.formula’
createSet: no visible global function definition for ‘model.matrix’
deSetCheck: no visible global function definition for ‘model.matrix’
fitFDist: no visible global function definition for ‘median’
fitFDist: no visible global function definition for ‘lm.fit’
fitFDist: no visible global function definition for ‘predict’
fit_wmodels: no visible global function definition for ‘model.matrix’
fit_wmodels: no visible global function definition for ‘lm.wfit’
null: no visible global function definition for ‘model.matrix’
apply_sva,deSet: no visible global function definition for ‘as.formula’
apply_sva,deSet: no visible global function definition for ‘terms’
fit_models,deSet: no visible global function definition for
  ‘model.matrix’
fullModel<-,deSet: no visible global function definition for
  ‘model.matrix’
lrt,deSet-deFit: no visible global function definition for ‘pf’
nullModel<-,deSet: no visible global function definition for
  ‘model.matrix’
Undefined global functions or variables:
  as.formula lm.fit lm.wfit median model.matrix pf predict terms
Consider adding
  importFrom("stats", "as.formula", "lm.fit", "lm.wfit", "median",
             "model.matrix", "pf", "predict", "terms")
to your NAMESPACE file.
* checking Rd files ... OK
* checking Rd metadata ... OK
* checking Rd cross-references ... OK
* checking for missing documentation entries ... OK
* checking for code/documentation mismatches ... OK
* checking Rd \usage sections ... OK
* checking Rd contents ... OK
* checking for unstated dependencies in examples ... OK
* checking contents of ‘data’ directory ... OK
* checking data for non-ASCII characters ... OK
* checking LazyData ... OK
* checking data for ASCII and uncompressed saves ... OK
* checking line endings in C/C++/Fortran sources/headers ... OK
* checking compiled code ... NOTE
Note: information on .o files is not available
* checking files in ‘vignettes’ ... OK
* checking examples ... OK
* checking for unstated dependencies in ‘tests’ ... OK
* checking tests ...
  Running ‘testthat.R’
 OK
* checking for unstated dependencies in vignettes ... OK
* checking package vignettes ... OK
* checking re-building of vignette outputs ... OK
* checking PDF version of manual ... OK
* DONE

Status: 2 NOTEs
See
  ‘/home/biocbuild/bbs-3.19-bioc/meat/edge.Rcheck/00check.log’
for details.


Installation output

edge.Rcheck/00install.out

##############################################################################
##############################################################################
###
### Running command:
###
###   /home/biocbuild/bbs-3.19-bioc/R/bin/R CMD INSTALL edge
###
##############################################################################
##############################################################################


* installing to library ‘/home/biocbuild/bbs-3.19-bioc/R/site-library’
* installing *source* package ‘edge’ ...
** using staged installation
** libs
using C compiler: ‘gcc (Ubuntu 11.4.0-1ubuntu1~22.04) 11.4.0’
gcc -I"/home/biocbuild/bbs-3.19-bioc/R/include" -DNDEBUG   -I/usr/local/include    -fpic  -g -O2  -Wall -c edge-init.c -o edge-init.o
gcc -I"/home/biocbuild/bbs-3.19-bioc/R/include" -DNDEBUG   -I/usr/local/include    -fpic  -g -O2  -Wall -c edgeKLODP.c -o edgeKLODP.o
edgeKLODP.c: In function ‘odpScoreCluster’:
edgeKLODP.c:65:5: warning: ‘middle’ may be used uninitialized in this function [-Wmaybe-uninitialized]
   65 |     free_vector(middle, 0, *p - 1);
      |     ^~~~~~~~~~~~~~~~~~~~~~~~~~~~~~
gcc -shared -L/home/biocbuild/bbs-3.19-bioc/R/lib -L/usr/local/lib -o edge.so edge-init.o edgeKLODP.o -L/home/biocbuild/bbs-3.19-bioc/R/lib -lR
installing to /home/biocbuild/bbs-3.19-bioc/R/site-library/00LOCK-edge/00new/edge/libs
** R
** data
*** moving datasets to lazyload DB
** inst
** byte-compile and prepare package for lazy loading
** help
*** installing help indices
** building package indices
** installing vignettes
** testing if installed package can be loaded from temporary location
** checking absolute paths in shared objects and dynamic libraries
** testing if installed package can be loaded from final location
** testing if installed package keeps a record of temporary installation path
* DONE (edge)

Tests output

edge.Rcheck/tests/testthat.Rout


R version 4.4.0 (2024-04-24) -- "Puppy Cup"
Copyright (C) 2024 The R Foundation for Statistical Computing
Platform: x86_64-pc-linux-gnu

R is free software and comes with ABSOLUTELY NO WARRANTY.
You are welcome to redistribute it under certain conditions.
Type 'license()' or 'licence()' for distribution details.

R is a collaborative project with many contributors.
Type 'contributors()' for more information and
'citation()' on how to cite R or R packages in publications.

Type 'demo()' for some demos, 'help()' for on-line help, or
'help.start()' for an HTML browser interface to help.
Type 'q()' to quit R.

> library(testthat)
> library(edge)
Loading required package: Biobase
Loading required package: BiocGenerics

Attaching package: 'BiocGenerics'

The following objects are masked from 'package:stats':

    IQR, mad, sd, var, xtabs

The following objects are masked from 'package:base':

    Filter, Find, Map, Position, Reduce, anyDuplicated, aperm, append,
    as.data.frame, basename, cbind, colnames, dirname, do.call,
    duplicated, eval, evalq, get, grep, grepl, intersect, is.unsorted,
    lapply, mapply, match, mget, order, paste, pmax, pmax.int, pmin,
    pmin.int, rank, rbind, rownames, sapply, setdiff, table, tapply,
    union, unique, unsplit, which.max, which.min

Welcome to Bioconductor

    Vignettes contain introductory material; view with
    'browseVignettes()'. To cite Bioconductor, see
    'citation("Biobase")', and for packages 'citation("pkgname")'.

> 
> test_check("edge")
[ FAIL 0 | WARN 0 | SKIP 0 | PASS 29 ]
> 
> proc.time()
   user  system elapsed 
  9.852   0.596  10.438 

Example timings

edge.Rcheck/edge-Ex.timings

nameusersystemelapsed
apply_qvalue0.6240.0200.645
apply_sva2.0400.0482.088
betaCoef0.2550.0000.255
build_models0.2510.0000.252
build_study0.2520.0000.252
deSet0.9600.0080.968
edge000
endotoxin0.6800.0240.704
fitFull0.240.000.24
fitNull0.2690.0000.268
fit_models0.2630.0080.272
fullMatrix0.2300.0080.237
fullModel0.3870.0220.410
gibson0.6160.0120.628
individual0.2280.0000.229
kidney1.1830.0281.211
kl_clust0.3780.0120.390
lrt0.7720.0160.789
nullMatrix0.2390.0040.242
nullModel0.5490.0000.549
odp1.3480.0221.370
qvalueObj0.7990.0080.808
resFull0.2610.0040.264
resNull0.2440.0000.245
sType0.2470.0040.251
show0.7440.0080.752
summary0.7440.0120.757