Index of /checkResults/3.19/bioc-LATEST/ecolitk/raw-results/palomino3

[ICO]NameLast modifiedSizeDescription

[DIR]Parent Directory  -  
[TXT]buildbin-out.txt22-Jun-2024 06:39 1.2K 
[   ]buildbin-summary.dcf22-Jun-2024 06:39 515  
[TXT]buildsrc-out.txt22-Jun-2024 06:39 899  
[   ]buildsrc-summary.dcf22-Jun-2024 06:39 452  
[TXT]checksrc-out.txt22-Jun-2024 06:39 4.1K 
[   ]checksrc-summary.dcf22-Jun-2024 06:39 453  
[TXT]install-out.txt22-Jun-2024 06:39 1.0K 
[   ]install-summary.dcf22-Jun-2024 06:39 268