Index of /checkResults/3.19/bioc-LATEST/ecolitk/raw-results/nebbiolo1

[ICO]NameLast modifiedSizeDescription

[DIR]Parent Directory  -  
[TXT]buildsrc-out.txt22-Jun-2024 06:38 869  
[   ]buildsrc-summary.dcf22-Jun-2024 06:38 417  
[TXT]checksrc-out.txt22-Jun-2024 06:38 4.1K 
[   ]checksrc-summary.dcf22-Jun-2024 06:38 419  
[TXT]install-out.txt22-Jun-2024 06:38 1.0K 
[   ]install-summary.dcf22-Jun-2024 06:38 258