Index of /checkResults/3.19/bioc-LATEST/ecolitk/raw-results/merida1

[ICO]NameLast modifiedSizeDescription

[DIR]Parent Directory  -  
[   ]install-summary.dcf17-Jul-2024 06:41 268  
[   ]buildsrc-summary.dcf17-Jul-2024 06:41 427  
[   ]checksrc-summary.dcf17-Jul-2024 06:41 449  
[   ]buildbin-summary.dcf17-Jul-2024 06:41 530  
[TXT]buildsrc-out.txt17-Jul-2024 06:41 879  
[TXT]install-out.txt17-Jul-2024 06:41 1.0K 
[TXT]buildbin-out.txt17-Jul-2024 06:41 1.2K 
[TXT]checksrc-out.txt17-Jul-2024 06:41 4.2K