Index of /checkResults/3.19/bioc-LATEST/ecolitk/raw-results/merida1

[ICO]NameLast modifiedSizeDescription

[DIR]Parent Directory  -  
[TXT]buildbin-out.txt05-Mar-2024 01:39 1.2K 
[   ]buildbin-summary.dcf05-Mar-2024 01:39 529  
[TXT]buildsrc-out.txt05-Mar-2024 01:39 879  
[   ]buildsrc-summary.dcf05-Mar-2024 01:39 427  
[TXT]checksrc-out.txt05-Mar-2024 01:39 4.2K 
[   ]checksrc-summary.dcf05-Mar-2024 01:39 449  
[TXT]install-out.txt05-Mar-2024 01:39 1.0K 
[   ]install-summary.dcf05-Mar-2024 01:39 268