Index of /checkResults/3.19/bioc-LATEST/derfinderPlot/raw-results/lconway

[ICO]NameLast modifiedSizeDescription

[DIR]Parent Directory  -  
[TXT]buildbin-out.txt12-Jun-2024 03:42 1.2K 
[   ]buildbin-summary.dcf12-Jun-2024 03:42 566  
[TXT]buildsrc-out.txt12-Jun-2024 03:42 880  
[   ]buildsrc-summary.dcf12-Jun-2024 03:42 446  
[TXT]checksrc-out.txt12-Jun-2024 03:42 3.3K 
[   ]checksrc-summary.dcf12-Jun-2024 03:42 468  
[TXT]install-out.txt12-Jun-2024 03:42 1.0K 
[   ]install-summary.dcf12-Jun-2024 03:42 281