Index of /checkResults/3.19/bioc-LATEST/derfinderPlot/raw-results/kjohnson3

[ICO]NameLast modifiedSizeDescription

[DIR]Parent Directory  -  
[TXT]buildbin-out.txt12-Jun-2024 03:43 1.2K 
[   ]buildbin-summary.dcf12-Jun-2024 03:43 567  
[TXT]buildsrc-out.txt12-Jun-2024 03:43 880  
[   ]buildsrc-summary.dcf12-Jun-2024 03:43 446  
[TXT]checksrc-out.txt12-Jun-2024 03:43 3.4K 
[   ]checksrc-summary.dcf12-Jun-2024 03:43 469  
[TXT]install-out.txt12-Jun-2024 03:43 1.0K 
[   ]install-summary.dcf12-Jun-2024 03:43 281