Back to Multiple platform build/check report for BioC 3.19:   simplified   long
ABC[D]EFGHIJKLMNOPQRSTUVWXYZ

This page was generated on 2024-05-18 11:35:56 -0400 (Sat, 18 May 2024).

HostnameOSArch (*)R versionInstalled pkgs
nebbiolo1Linux (Ubuntu 22.04.3 LTS)x86_644.4.0 (2024-04-24) -- "Puppy Cup" 4751
palomino3Windows Server 2022 Datacenterx644.4.0 (2024-04-24 ucrt) -- "Puppy Cup" 4485
lconwaymacOS 12.7.1 Montereyx86_644.4.0 (2024-04-24) -- "Puppy Cup" 4515
Click on any hostname to see more info about the system (e.g. compilers)      (*) as reported by 'uname -p', except on Windows and Mac OS X

Package 554/2300HostnameOS / ArchINSTALLBUILDCHECKBUILD BIN
derfinder 1.38.0  (landing page)
Leonardo Collado-Torres
Snapshot Date: 2024-05-17 14:00:11 -0400 (Fri, 17 May 2024)
git_url: https://git.bioconductor.org/packages/derfinder
git_branch: RELEASE_3_19
git_last_commit: e2fef91
git_last_commit_date: 2024-04-30 10:39:14 -0400 (Tue, 30 Apr 2024)
nebbiolo1Linux (Ubuntu 22.04.3 LTS) / x86_64  OK    OK    OK  UNNEEDED, same version is already published
palomino3Windows Server 2022 Datacenter / x64  OK    OK    OK    OK  UNNEEDED, same version is already published
lconwaymacOS 12.7.1 Monterey / x86_64  OK    OK    OK    OK  UNNEEDED, same version is already published
kjohnson3macOS 13.6.5 Ventura / arm64see weekly results here

CHECK results for derfinder on nebbiolo1


To the developers/maintainers of the derfinder package:
- Allow up to 24 hours (and sometimes 48 hours) for your latest push to git@git.bioconductor.org:packages/derfinder.git to reflect on this report. See Troubleshooting Build Report for more information.
- Use the following Renviron settings to reproduce errors and warnings.
- If 'R CMD check' started to fail recently on the Linux builder(s) over a missing dependency, add the missing dependency to 'Suggests:' in your DESCRIPTION file. See Renviron.bioc for more information.

raw results


Summary

Package: derfinder
Version: 1.38.0
Command: /home/biocbuild/bbs-3.19-bioc/R/bin/R CMD check --install=check:derfinder.install-out.txt --library=/home/biocbuild/bbs-3.19-bioc/R/site-library --timings derfinder_1.38.0.tar.gz
StartedAt: 2024-05-17 21:59:19 -0400 (Fri, 17 May 2024)
EndedAt: 2024-05-17 22:10:29 -0400 (Fri, 17 May 2024)
EllapsedTime: 670.3 seconds
RetCode: 0
Status:   OK  
CheckDir: derfinder.Rcheck
Warnings: 0

Command output

##############################################################################
##############################################################################
###
### Running command:
###
###   /home/biocbuild/bbs-3.19-bioc/R/bin/R CMD check --install=check:derfinder.install-out.txt --library=/home/biocbuild/bbs-3.19-bioc/R/site-library --timings derfinder_1.38.0.tar.gz
###
##############################################################################
##############################################################################


* using log directory ‘/home/biocbuild/bbs-3.19-bioc/meat/derfinder.Rcheck’
* using R version 4.4.0 (2024-04-24)
* using platform: x86_64-pc-linux-gnu
* R was compiled by
    gcc (Ubuntu 11.4.0-1ubuntu1~22.04) 11.4.0
    GNU Fortran (Ubuntu 11.4.0-1ubuntu1~22.04) 11.4.0
* running under: Ubuntu 22.04.4 LTS
* using session charset: UTF-8
* checking for file ‘derfinder/DESCRIPTION’ ... OK
* checking extension type ... Package
* this is package ‘derfinder’ version ‘1.38.0’
* package encoding: UTF-8
* checking package namespace information ... OK
* checking package dependencies ... OK
* checking if this is a source package ... OK
* checking if there is a namespace ... OK
* checking for hidden files and directories ... OK
* checking for portable file names ... OK
* checking for sufficient/correct file permissions ... OK
* checking whether package ‘derfinder’ can be installed ... OK
* checking installed package size ... OK
* checking package directory ... OK
* checking ‘build’ directory ... OK
* checking DESCRIPTION meta-information ... OK
* checking top-level files ... OK
* checking for left-over files ... OK
* checking index information ... OK
* checking package subdirectories ... OK
* checking code files for non-ASCII characters ... OK
* checking R files for syntax errors ... OK
* checking whether the package can be loaded ... OK
* checking whether the package can be loaded with stated dependencies ... OK
* checking whether the package can be unloaded cleanly ... OK
* checking whether the namespace can be loaded with stated dependencies ... OK
* checking whether the namespace can be unloaded cleanly ... OK
* checking loading without being on the library search path ... OK
* checking dependencies in R code ... NOTE
Unexported objects imported by ':::' calls:
  ‘GenomeInfoDb:::.guessSpeciesStyle’
  ‘GenomeInfoDb:::.supportedSeqnameMappings’
  See the note in ?`:::` about the use of this operator.
There are ::: calls to the package's namespace in its code. A package
  almost never needs to use ::: for its own objects:
  ‘.smootherFstats’
* checking S3 generic/method consistency ... OK
* checking replacement functions ... OK
* checking foreign function calls ... OK
* checking R code for possible problems ... OK
* checking Rd files ... NOTE
checkRd: (-1) createBwSample.Rd:59: Lost braces
    59 | link{coerceGR}
       |     ^
checkRd: (-1) derfinder-deprecated.Rd:30-31: Lost braces in \itemize; meant \describe ?
checkRd: (-1) sampleDepth.Rd:41-47: Lost braces
    41 | equal to quantiles of interest. The resulting values are transformed {log2(x
       |                                                                      ^
* checking Rd metadata ... OK
* checking Rd cross-references ... OK
* checking for missing documentation entries ... OK
* checking for code/documentation mismatches ... OK
* checking Rd \usage sections ... OK
* checking Rd contents ... OK
* checking for unstated dependencies in examples ... OK
* checking contents of ‘data’ directory ... OK
* checking data for non-ASCII characters ... OK
* checking LazyData ... OK
* checking data for ASCII and uncompressed saves ... OK
* checking files in ‘vignettes’ ... OK
* checking examples ... OK
Examples with CPU (user + system) or elapsed time > 5s
                user system elapsed
railMatrix     8.341  0.588   8.955
coverageToExon 4.566  0.523   5.089
* checking for unstated dependencies in ‘tests’ ... OK
* checking tests ...
  Running ‘test-all.R’
 OK
* checking for unstated dependencies in vignettes ... OK
* checking package vignettes ... OK
* checking re-building of vignette outputs ... OK
* checking PDF version of manual ... OK
* DONE

Status: 2 NOTEs
See
  ‘/home/biocbuild/bbs-3.19-bioc/meat/derfinder.Rcheck/00check.log’
for details.


Installation output

derfinder.Rcheck/00install.out

##############################################################################
##############################################################################
###
### Running command:
###
###   /home/biocbuild/bbs-3.19-bioc/R/bin/R CMD INSTALL derfinder
###
##############################################################################
##############################################################################


* installing to library ‘/home/biocbuild/bbs-3.19-bioc/R/site-library’
* installing *source* package ‘derfinder’ ...
** using staged installation
** R
** data
*** moving datasets to lazyload DB
** inst
** byte-compile and prepare package for lazy loading
** help
*** installing help indices
** building package indices
** installing vignettes
** testing if installed package can be loaded from temporary location
** testing if installed package can be loaded from final location
** testing if installed package keeps a record of temporary installation path
* DONE (derfinder)

Tests output

derfinder.Rcheck/tests/test-all.Rout


R version 4.4.0 (2024-04-24) -- "Puppy Cup"
Copyright (C) 2024 The R Foundation for Statistical Computing
Platform: x86_64-pc-linux-gnu

R is free software and comes with ABSOLUTELY NO WARRANTY.
You are welcome to redistribute it under certain conditions.
Type 'license()' or 'licence()' for distribution details.

R is a collaborative project with many contributors.
Type 'contributors()' for more information and
'citation()' on how to cite R or R packages in publications.

Type 'demo()' for some demos, 'help()' for on-line help, or
'help.start()' for an HTML browser interface to help.
Type 'q()' to quit R.

> ## Disable the tests if the system variable 'R_DISABLE_TESTS' is set to TRUE
> 
> flag <- as.logical(Sys.getenv("R_DISABLE_TESTS"))
> if (is.na(flag) | flag == FALSE) {
+     library("testthat")
+     test_check("derfinder")
+ }
Loading required package: derfinder
class: SerialParam
  bpisup: FALSE; bpnworkers: 1; bptasks: 0; bpjobname: BPJOB
  bplog: FALSE; bpthreshold: INFO; bpstopOnError: TRUE
  bpRNGseed: ; bptimeout: NA; bpprogressbar: FALSE
  bpexportglobals: FALSE; bpexportvariables: FALSE; bpforceGC: FALSE
  bpfallback: FALSE
  bplogdir: NA
  bpresultdir: NA
Error in x$.self$finalize() : attempt to apply non-function
class: SerialParam
  bpisup: FALSE; bpnworkers: 1; bptasks: 0; bpjobname: BPJOB
  bplog: FALSE; bpthreshold: INFO; bpstopOnError: TRUE
  bpRNGseed: ; bptimeout: NA; bpprogressbar: FALSE
  bpexportglobals: FALSE; bpexportvariables: FALSE; bpforceGC: FALSE
  bpfallback: FALSE
  bplogdir: NA
  bpresultdir: NA
class: SerialParam
  bpisup: FALSE; bpnworkers: 1; bptasks: 0; bpjobname: BPJOB
  bplog: FALSE; bpthreshold: INFO; bpstopOnError: TRUE
  bpRNGseed: ; bptimeout: NA; bpprogressbar: FALSE
  bpexportglobals: FALSE; bpexportvariables: FALSE; bpforceGC: FALSE
  bpfallback: FALSE
  bplogdir: NA
  bpresultdir: NA
class: SerialParam
  bpisup: FALSE; bpnworkers: 1; bptasks: 0; bpjobname: BPJOB
  bplog: FALSE; bpthreshold: INFO; bpstopOnError: TRUE
  bpRNGseed: ; bptimeout: NA; bpprogressbar: FALSE
  bpexportglobals: FALSE; bpexportvariables: FALSE; bpforceGC: FALSE
  bpfallback: FALSE
  bplogdir: NA
  bpresultdir: NA
class: SerialParam
  bpisup: FALSE; bpnworkers: 1; bptasks: 0; bpjobname: BPJOB
  bplog: FALSE; bpthreshold: INFO; bpstopOnError: TRUE
  bpRNGseed: ; bptimeout: NA; bpprogressbar: FALSE
  bpexportglobals: FALSE; bpexportvariables: FALSE; bpforceGC: FALSE
  bpfallback: FALSE
  bplogdir: NA
  bpresultdir: NA
class: SerialParam
  bpisup: FALSE; bpnworkers: 1; bptasks: 0; bpjobname: BPJOB
  bplog: FALSE; bpthreshold: INFO; bpstopOnError: TRUE
  bpRNGseed: ; bptimeout: NA; bpprogressbar: FALSE
  bpexportglobals: FALSE; bpexportvariables: FALSE; bpforceGC: FALSE
  bpfallback: FALSE
  bplogdir: NA
  bpresultdir: NA
class: SerialParam
  bpisup: FALSE; bpnworkers: 1; bptasks: 0; bpjobname: BPJOB
  bplog: FALSE; bpthreshold: INFO; bpstopOnError: TRUE
  bpRNGseed: ; bptimeout: NA; bpprogressbar: FALSE
  bpexportglobals: FALSE; bpexportvariables: FALSE; bpforceGC: FALSE
  bpfallback: FALSE
  bplogdir: NA
  bpresultdir: NA
class: SerialParam
  bpisup: FALSE; bpnworkers: 1; bptasks: 0; bpjobname: BPJOB
  bplog: FALSE; bpthreshold: INFO; bpstopOnError: TRUE
  bpRNGseed: ; bptimeout: NA; bpprogressbar: FALSE
  bpexportglobals: FALSE; bpexportvariables: FALSE; bpforceGC: FALSE
  bpfallback: FALSE
  bplogdir: NA
  bpresultdir: NA
[ FAIL 0 | WARN 3 | SKIP 0 | PASS 137 ]

[ FAIL 0 | WARN 3 | SKIP 0 | PASS 137 ]
Warning message:
call dbDisconnect() when finished working with a connection 
> 
> proc.time()
   user  system elapsed 
168.976   7.696 177.078 

Example timings

derfinder.Rcheck/derfinder-Ex.timings

nameusersystemelapsed
analyzeChr1.9520.0792.033
annotateRegions0.3000.0480.349
calculatePvalues0.8260.0440.870
calculateStats0.4140.0000.414
coerceGR0.0730.0000.073
collapseFullCoverage0.0070.0000.007
coverageToExon4.5660.5235.089
createBw0.1710.0010.172
createBwSample0.0610.0000.061
define_cluster0.0060.0000.005
derfinder-deprecated0.0020.0000.002
extendedMapSeqlevels0.0660.0030.069
filterData0.1350.0010.136
findRegions0.4850.0110.497
fullCoverage0.2560.0000.256
getRegionCoverage0.3540.0280.853
getTotalMapped0.010.000.01
loadCoverage0.1550.0150.171
makeGenomicState3.5860.2773.862
makeModels0.0160.0060.021
mergeResults0.3540.0270.381
preprocessCoverage0.3400.0130.352
railMatrix8.3410.5888.955
rawFiles0.0030.0000.003
regionMatrix0.8860.0920.978
sampleDepth0.0130.0000.013