Back to Multiple platform build/check report for BioC 3.19:   simplified   long
ABC[D]EFGHIJKLMNOPQRSTUVWXYZ

This page was generated on 2024-05-27 11:35:47 -0400 (Mon, 27 May 2024).

HostnameOSArch (*)R versionInstalled pkgs
nebbiolo1Linux (Ubuntu 22.04.3 LTS)x86_644.4.0 (2024-04-24) -- "Puppy Cup" 4752
lconwaymacOS 12.7.1 Montereyx86_644.4.0 (2024-04-24) -- "Puppy Cup" 4517
Click on any hostname to see more info about the system (e.g. compilers)      (*) as reported by 'uname -p', except on Windows and Mac OS X

Package 517/2300HostnameOS / ArchINSTALLBUILDCHECKBUILD BIN
ddPCRclust 1.24.0  (landing page)
Benedikt G. Brink
Snapshot Date: 2024-05-26 14:00:09 -0400 (Sun, 26 May 2024)
git_url: https://git.bioconductor.org/packages/ddPCRclust
git_branch: RELEASE_3_19
git_last_commit: 103b3c4
git_last_commit_date: 2024-04-30 11:04:16 -0400 (Tue, 30 Apr 2024)
nebbiolo1Linux (Ubuntu 22.04.3 LTS) / x86_64  OK    OK    OK  UNNEEDED, same version is already published
lconwaymacOS 12.7.1 Monterey / x86_64  OK    OK    OK    OK  UNNEEDED, same version is already published
kjohnson3macOS 13.6.5 Ventura / arm64see weekly results here

BUILD results for ddPCRclust on lconway


To the developers/maintainers of the ddPCRclust package:
- Allow up to 24 hours (and sometimes 48 hours) for your latest push to git@git.bioconductor.org:packages/ddPCRclust.git to reflect on this report. See Troubleshooting Build Report for more information.
- Use the following Renviron settings to reproduce errors and warnings.
- If 'R CMD check' started to fail recently on the Linux builder(s) over a missing dependency, add the missing dependency to 'Suggests:' in your DESCRIPTION file. See Renviron.bioc for more information.

raw results


Summary

Package: ddPCRclust
Version: 1.24.0
Command: /Library/Frameworks/R.framework/Resources/bin/R CMD build --keep-empty-dirs --no-resave-data ddPCRclust
StartedAt: 2024-05-26 16:46:32 -0400 (Sun, 26 May 2024)
EndedAt: 2024-05-26 16:47:16 -0400 (Sun, 26 May 2024)
EllapsedTime: 43.4 seconds
RetCode: 0
Status:   OK  
PackageFile: ddPCRclust_1.24.0.tar.gz
PackageFileSize: 1.191 MiB

Command output

##############################################################################
##############################################################################
###
### Running command:
###
###   /Library/Frameworks/R.framework/Resources/bin/R CMD build --keep-empty-dirs --no-resave-data ddPCRclust
###
##############################################################################
##############################################################################


* checking for file ‘ddPCRclust/DESCRIPTION’ ... OK
* preparing ‘ddPCRclust’:
* checking DESCRIPTION meta-information ... OK
* installing the package to build vignettes
* creating vignettes ... OK
* checking for LF line-endings in source and make files and shell scripts
* checking for empty or unneeded directories
Omitted ‘LazyData’ from DESCRIPTION
* building ‘ddPCRclust_1.24.0.tar.gz’