Index of /checkResults/3.19/bioc-LATEST/cytoviewer/raw-results/merida1

[ICO]NameLast modifiedSizeDescription

[DIR]Parent Directory  -  
[TXT]buildbin-out.txt17-Jul-2024 06:40 1.2K 
[   ]buildbin-summary.dcf17-Jul-2024 06:40 546  
[TXT]buildsrc-out.txt17-Jul-2024 06:40 827  
[   ]buildsrc-summary.dcf17-Jul-2024 06:40 435  
[TXT]checksrc-out.txt17-Jul-2024 06:40 3.1K 
[   ]checksrc-summary.dcf17-Jul-2024 06:40 454  
[TXT]install-out.txt17-Jul-2024 06:40 1.0K 
[   ]install-summary.dcf17-Jul-2024 06:40 275