Index of /checkResults/3.19/bioc-LATEST/cytoviewer/raw-results/kjohnson1

[ICO]NameLast modifiedSizeDescription

[DIR]Parent Directory  -  
[TXT]buildbin-out.txt17-Jul-2024 06:42 1.2K 
[   ]buildbin-summary.dcf17-Jul-2024 06:42 545  
[TXT]buildsrc-out.txt17-Jul-2024 06:42 827  
[   ]buildsrc-summary.dcf17-Jul-2024 06:42 433  
[TXT]checksrc-out.txt17-Jul-2024 06:42 3.1K 
[   ]checksrc-summary.dcf17-Jul-2024 06:42 454  
[TXT]install-out.txt17-Jul-2024 06:42 1.0K 
[   ]install-summary.dcf17-Jul-2024 06:42 274