Back to Multiple platform build/check report for BioC 3.19:   simplified   long
AB[C]DEFGHIJKLMNOPQRSTUVWXYZ

This page was generated on 2024-07-19 17:37 -0400 (Fri, 19 Jul 2024).

HostnameOSArch (*)R versionInstalled pkgs
nebbiolo1Linux (Ubuntu 22.04.3 LTS)x86_644.4.1 (2024-06-14) -- "Race for Your Life" 4742
palomino7Windows Server 2022 Datacenterx644.4.1 (2024-06-14 ucrt) -- "Race for Your Life" 4484
merida1macOS 12.7.5 Montereyx86_644.4.1 (2024-06-14) -- "Race for Your Life" 4513
kjohnson1macOS 13.6.6 Venturaarm644.4.1 (2024-06-14) -- "Race for Your Life" 4462
Click on any hostname to see more info about the system (e.g. compilers)      (*) as reported by 'uname -p', except on Windows and Mac OS X

Package 495/2300HostnameOS / ArchINSTALLBUILDCHECKBUILD BIN
cytolib 2.16.0  (landing page)
Mike Jiang
Snapshot Date: 2024-07-17 14:00 -0400 (Wed, 17 Jul 2024)
git_url: https://git.bioconductor.org/packages/cytolib
git_branch: RELEASE_3_19
git_last_commit: 939e51d
git_last_commit_date: 2024-04-30 10:59:52 -0400 (Tue, 30 Apr 2024)
nebbiolo1Linux (Ubuntu 22.04.3 LTS) / x86_64  OK    OK    WARNINGS  UNNEEDED, same version is already published
palomino7Windows Server 2022 Datacenter / x64  OK    OK    WARNINGS    OK  
merida1macOS 12.7.5 Monterey / x86_64  OK    OK    WARNINGS    OK  UNNEEDED, same version is already published
kjohnson1macOS 13.6.6 Ventura / arm64  OK    OK    WARNINGS    OK  UNNEEDED, same version is already published


INSTALL results for cytolib on nebbiolo1

To the developers/maintainers of the cytolib package:
- Allow up to 24 hours (and sometimes 48 hours) for your latest push to git@git.bioconductor.org:packages/cytolib.git to reflect on this report. See Troubleshooting Build Report for more information.
- Use the following Renviron settings to reproduce errors and warnings.
- If 'R CMD check' started to fail recently on the Linux builder(s) over a missing dependency, add the missing dependency to 'Suggests:' in your DESCRIPTION file. See Renviron.bioc for more information.

raw results


Summary

Package: cytolib
Version: 2.16.0
Command: /home/biocbuild/bbs-3.19-bioc/R/bin/R CMD INSTALL cytolib
StartedAt: 2024-07-17 15:05:45 -0400 (Wed, 17 Jul 2024)
EndedAt: 2024-07-17 15:08:09 -0400 (Wed, 17 Jul 2024)
EllapsedTime: 144.3 seconds
RetCode: 0
Status:   OK  

Command output

##############################################################################
##############################################################################
###
### Running command:
###
###   /home/biocbuild/bbs-3.19-bioc/R/bin/R CMD INSTALL cytolib
###
##############################################################################
##############################################################################


* installing to library ‘/home/biocbuild/bbs-3.19-bioc/R/site-library’
* installing *source* package ‘cytolib’ ...
** using staged installation
checking for a sed that does not truncate output... /usr/bin/sed
checking whether the C++ compiler works... yes
checking for C++ compiler default output file name... a.out
checking for suffix of executables... 
checking whether we are cross compiling... no
checking for suffix of object files... o
checking whether we are using the GNU C++ compiler... yes
checking whether g++ -std=gnu++17 accepts -g... yes
checking how to run the C++ preprocessor... g++ -std=gnu++17 -E
checking whether we are using the GNU C++ compiler... (cached) yes
checking whether g++ -std=gnu++17 accepts -g... (cached) yes
configure: Parsing cytolib version info ...
configure: CYTOLIB_VERSION=2.16.0
configure: creating ./config.status
config.status: creating inst/include/cytolib/cytolibConfig.h
config.status: creating src/Makevars
** libs
using C++ compiler: ‘g++ (Ubuntu 11.4.0-1ubuntu1~22.04) 11.4.0’
using C++11
g++ -std=gnu++11 -I"/home/biocbuild/bbs-3.19-bioc/R/include" -DNDEBUG -DROUT -I../inst/include -w -Wfatal-errors -DBOOST_NO_AUTO_PTR -DBOOST_FILESYSTEM_NO_CXX20_ATOMIC_REF -DBOOST_FILESYSTEM_SINGLE_THREADED  -I'/home/biocbuild/bbs-3.19-bioc/R/site-library/BH/include' -I'/home/biocbuild/bbs-3.19-bioc/R/site-library/RProtoBufLib/include' -I'/home/biocbuild/bbs-3.19-bioc/R/site-library/Rhdf5lib/include' -I/usr/local/include    -fpic  -g -O2  -Wall  -c dummy.cpp -o dummy.o
g++ -std=gnu++11 -I"/home/biocbuild/bbs-3.19-bioc/R/include" -DNDEBUG -DROUT -I../inst/include -w -Wfatal-errors -DBOOST_NO_AUTO_PTR -DBOOST_FILESYSTEM_NO_CXX20_ATOMIC_REF -DBOOST_FILESYSTEM_SINGLE_THREADED  -I'/home/biocbuild/bbs-3.19-bioc/R/site-library/BH/include' -I'/home/biocbuild/bbs-3.19-bioc/R/site-library/RProtoBufLib/include' -I'/home/biocbuild/bbs-3.19-bioc/R/site-library/Rhdf5lib/include' -I/usr/local/include    -fpic  -g -O2  -Wall  -c boost/libs/system/src/error_code.cpp -o boost/libs/system/src/error_code.o
g++ -std=gnu++11 -I"/home/biocbuild/bbs-3.19-bioc/R/include" -DNDEBUG -DROUT -I../inst/include -w -Wfatal-errors -DBOOST_NO_AUTO_PTR -DBOOST_FILESYSTEM_NO_CXX20_ATOMIC_REF -DBOOST_FILESYSTEM_SINGLE_THREADED  -I'/home/biocbuild/bbs-3.19-bioc/R/site-library/BH/include' -I'/home/biocbuild/bbs-3.19-bioc/R/site-library/RProtoBufLib/include' -I'/home/biocbuild/bbs-3.19-bioc/R/site-library/Rhdf5lib/include' -I/usr/local/include    -fpic  -g -O2  -Wall  -c boost/libs/filesystem/src/codecvt_error_category.cpp -o boost/libs/filesystem/src/codecvt_error_category.o
g++ -std=gnu++11 -I"/home/biocbuild/bbs-3.19-bioc/R/include" -DNDEBUG -DROUT -I../inst/include -w -Wfatal-errors -DBOOST_NO_AUTO_PTR -DBOOST_FILESYSTEM_NO_CXX20_ATOMIC_REF -DBOOST_FILESYSTEM_SINGLE_THREADED  -I'/home/biocbuild/bbs-3.19-bioc/R/site-library/BH/include' -I'/home/biocbuild/bbs-3.19-bioc/R/site-library/RProtoBufLib/include' -I'/home/biocbuild/bbs-3.19-bioc/R/site-library/Rhdf5lib/include' -I/usr/local/include    -fpic  -g -O2  -Wall  -c boost/libs/filesystem/src/directory.cpp -o boost/libs/filesystem/src/directory.o
g++ -std=gnu++11 -I"/home/biocbuild/bbs-3.19-bioc/R/include" -DNDEBUG -DROUT -I../inst/include -w -Wfatal-errors -DBOOST_NO_AUTO_PTR -DBOOST_FILESYSTEM_NO_CXX20_ATOMIC_REF -DBOOST_FILESYSTEM_SINGLE_THREADED  -I'/home/biocbuild/bbs-3.19-bioc/R/site-library/BH/include' -I'/home/biocbuild/bbs-3.19-bioc/R/site-library/RProtoBufLib/include' -I'/home/biocbuild/bbs-3.19-bioc/R/site-library/Rhdf5lib/include' -I/usr/local/include    -fpic  -g -O2  -Wall  -c boost/libs/filesystem/src/exception.cpp -o boost/libs/filesystem/src/exception.o
g++ -std=gnu++11 -I"/home/biocbuild/bbs-3.19-bioc/R/include" -DNDEBUG -DROUT -I../inst/include -w -Wfatal-errors -DBOOST_NO_AUTO_PTR -DBOOST_FILESYSTEM_NO_CXX20_ATOMIC_REF -DBOOST_FILESYSTEM_SINGLE_THREADED  -I'/home/biocbuild/bbs-3.19-bioc/R/site-library/BH/include' -I'/home/biocbuild/bbs-3.19-bioc/R/site-library/RProtoBufLib/include' -I'/home/biocbuild/bbs-3.19-bioc/R/site-library/Rhdf5lib/include' -I/usr/local/include    -fpic  -g -O2  -Wall  -c boost/libs/filesystem/src/operations.cpp -o boost/libs/filesystem/src/operations.o
g++ -std=gnu++11 -I"/home/biocbuild/bbs-3.19-bioc/R/include" -DNDEBUG -DROUT -I../inst/include -w -Wfatal-errors -DBOOST_NO_AUTO_PTR -DBOOST_FILESYSTEM_NO_CXX20_ATOMIC_REF -DBOOST_FILESYSTEM_SINGLE_THREADED  -I'/home/biocbuild/bbs-3.19-bioc/R/site-library/BH/include' -I'/home/biocbuild/bbs-3.19-bioc/R/site-library/RProtoBufLib/include' -I'/home/biocbuild/bbs-3.19-bioc/R/site-library/Rhdf5lib/include' -I/usr/local/include    -fpic  -g -O2  -Wall  -c boost/libs/filesystem/src/path.cpp -o boost/libs/filesystem/src/path.o
g++ -std=gnu++11 -I"/home/biocbuild/bbs-3.19-bioc/R/include" -DNDEBUG -DROUT -I../inst/include -w -Wfatal-errors -DBOOST_NO_AUTO_PTR -DBOOST_FILESYSTEM_NO_CXX20_ATOMIC_REF -DBOOST_FILESYSTEM_SINGLE_THREADED  -I'/home/biocbuild/bbs-3.19-bioc/R/site-library/BH/include' -I'/home/biocbuild/bbs-3.19-bioc/R/site-library/RProtoBufLib/include' -I'/home/biocbuild/bbs-3.19-bioc/R/site-library/Rhdf5lib/include' -I/usr/local/include    -fpic  -g -O2  -Wall  -c boost/libs/filesystem/src/path_traits.cpp -o boost/libs/filesystem/src/path_traits.o
g++ -std=gnu++11 -I"/home/biocbuild/bbs-3.19-bioc/R/include" -DNDEBUG -DROUT -I../inst/include -w -Wfatal-errors -DBOOST_NO_AUTO_PTR -DBOOST_FILESYSTEM_NO_CXX20_ATOMIC_REF -DBOOST_FILESYSTEM_SINGLE_THREADED  -I'/home/biocbuild/bbs-3.19-bioc/R/site-library/BH/include' -I'/home/biocbuild/bbs-3.19-bioc/R/site-library/RProtoBufLib/include' -I'/home/biocbuild/bbs-3.19-bioc/R/site-library/Rhdf5lib/include' -I/usr/local/include    -fpic  -g -O2  -Wall  -c boost/libs/filesystem/src/portability.cpp -o boost/libs/filesystem/src/portability.o
g++ -std=gnu++11 -I"/home/biocbuild/bbs-3.19-bioc/R/include" -DNDEBUG -DROUT -I../inst/include -w -Wfatal-errors -DBOOST_NO_AUTO_PTR -DBOOST_FILESYSTEM_NO_CXX20_ATOMIC_REF -DBOOST_FILESYSTEM_SINGLE_THREADED  -I'/home/biocbuild/bbs-3.19-bioc/R/site-library/BH/include' -I'/home/biocbuild/bbs-3.19-bioc/R/site-library/RProtoBufLib/include' -I'/home/biocbuild/bbs-3.19-bioc/R/site-library/Rhdf5lib/include' -I/usr/local/include    -fpic  -g -O2  -Wall  -c boost/libs/filesystem/src/unique_path.cpp -o boost/libs/filesystem/src/unique_path.o
g++ -std=gnu++11 -I"/home/biocbuild/bbs-3.19-bioc/R/include" -DNDEBUG -DROUT -I../inst/include -w -Wfatal-errors -DBOOST_NO_AUTO_PTR -DBOOST_FILESYSTEM_NO_CXX20_ATOMIC_REF -DBOOST_FILESYSTEM_SINGLE_THREADED  -I'/home/biocbuild/bbs-3.19-bioc/R/site-library/BH/include' -I'/home/biocbuild/bbs-3.19-bioc/R/site-library/RProtoBufLib/include' -I'/home/biocbuild/bbs-3.19-bioc/R/site-library/Rhdf5lib/include' -I/usr/local/include    -fpic  -g -O2  -Wall  -c boost/libs/filesystem/src/utf8_codecvt_facet.cpp -o boost/libs/filesystem/src/utf8_codecvt_facet.o
g++ -std=gnu++11 -I"/home/biocbuild/bbs-3.19-bioc/R/include" -DNDEBUG -DROUT -I../inst/include -w -Wfatal-errors -DBOOST_NO_AUTO_PTR -DBOOST_FILESYSTEM_NO_CXX20_ATOMIC_REF -DBOOST_FILESYSTEM_SINGLE_THREADED  -I'/home/biocbuild/bbs-3.19-bioc/R/site-library/BH/include' -I'/home/biocbuild/bbs-3.19-bioc/R/site-library/RProtoBufLib/include' -I'/home/biocbuild/bbs-3.19-bioc/R/site-library/Rhdf5lib/include' -I/usr/local/include    -fpic  -g -O2  -Wall  -c boost/libs/filesystem/src/windows_file_codecvt.cpp -o boost/libs/filesystem/src/windows_file_codecvt.o
g++ -std=gnu++11 -I"/home/biocbuild/bbs-3.19-bioc/R/include" -DNDEBUG -DROUT -I../inst/include -w -Wfatal-errors -DBOOST_NO_AUTO_PTR -DBOOST_FILESYSTEM_NO_CXX20_ATOMIC_REF -DBOOST_FILESYSTEM_SINGLE_THREADED  -I'/home/biocbuild/bbs-3.19-bioc/R/site-library/BH/include' -I'/home/biocbuild/bbs-3.19-bioc/R/site-library/RProtoBufLib/include' -I'/home/biocbuild/bbs-3.19-bioc/R/site-library/Rhdf5lib/include' -I/usr/local/include    -fpic  -g -O2  -Wall  -c CytoFrame.cpp -o CytoFrame.o
g++ -std=gnu++11 -I"/home/biocbuild/bbs-3.19-bioc/R/include" -DNDEBUG -DROUT -I../inst/include -w -Wfatal-errors -DBOOST_NO_AUTO_PTR -DBOOST_FILESYSTEM_NO_CXX20_ATOMIC_REF -DBOOST_FILESYSTEM_SINGLE_THREADED  -I'/home/biocbuild/bbs-3.19-bioc/R/site-library/BH/include' -I'/home/biocbuild/bbs-3.19-bioc/R/site-library/RProtoBufLib/include' -I'/home/biocbuild/bbs-3.19-bioc/R/site-library/Rhdf5lib/include' -I/usr/local/include    -fpic  -g -O2  -Wall  -c CytoFrameView.cpp -o CytoFrameView.o
g++ -std=gnu++11 -I"/home/biocbuild/bbs-3.19-bioc/R/include" -DNDEBUG -DROUT -I../inst/include -w -Wfatal-errors -DBOOST_NO_AUTO_PTR -DBOOST_FILESYSTEM_NO_CXX20_ATOMIC_REF -DBOOST_FILESYSTEM_SINGLE_THREADED  -I'/home/biocbuild/bbs-3.19-bioc/R/site-library/BH/include' -I'/home/biocbuild/bbs-3.19-bioc/R/site-library/RProtoBufLib/include' -I'/home/biocbuild/bbs-3.19-bioc/R/site-library/Rhdf5lib/include' -I/usr/local/include    -fpic  -g -O2  -Wall  -c CytoVFS.cpp -o CytoVFS.o
g++ -std=gnu++11 -I"/home/biocbuild/bbs-3.19-bioc/R/include" -DNDEBUG -DROUT -I../inst/include -w -Wfatal-errors -DBOOST_NO_AUTO_PTR -DBOOST_FILESYSTEM_NO_CXX20_ATOMIC_REF -DBOOST_FILESYSTEM_SINGLE_THREADED  -I'/home/biocbuild/bbs-3.19-bioc/R/site-library/BH/include' -I'/home/biocbuild/bbs-3.19-bioc/R/site-library/RProtoBufLib/include' -I'/home/biocbuild/bbs-3.19-bioc/R/site-library/Rhdf5lib/include' -I/usr/local/include    -fpic  -g -O2  -Wall  -c GatingHierarchy.cpp -o GatingHierarchy.o
g++ -std=gnu++11 -I"/home/biocbuild/bbs-3.19-bioc/R/include" -DNDEBUG -DROUT -I../inst/include -w -Wfatal-errors -DBOOST_NO_AUTO_PTR -DBOOST_FILESYSTEM_NO_CXX20_ATOMIC_REF -DBOOST_FILESYSTEM_SINGLE_THREADED  -I'/home/biocbuild/bbs-3.19-bioc/R/site-library/BH/include' -I'/home/biocbuild/bbs-3.19-bioc/R/site-library/RProtoBufLib/include' -I'/home/biocbuild/bbs-3.19-bioc/R/site-library/Rhdf5lib/include' -I/usr/local/include    -fpic  -g -O2  -Wall  -c GatingSet.cpp -o GatingSet.o
g++ -std=gnu++11 -I"/home/biocbuild/bbs-3.19-bioc/R/include" -DNDEBUG -DROUT -I../inst/include -w -Wfatal-errors -DBOOST_NO_AUTO_PTR -DBOOST_FILESYSTEM_NO_CXX20_ATOMIC_REF -DBOOST_FILESYSTEM_SINGLE_THREADED  -I'/home/biocbuild/bbs-3.19-bioc/R/site-library/BH/include' -I'/home/biocbuild/bbs-3.19-bioc/R/site-library/RProtoBufLib/include' -I'/home/biocbuild/bbs-3.19-bioc/R/site-library/Rhdf5lib/include' -I/usr/local/include    -fpic  -g -O2  -Wall  -c H5CytoFrame.cpp -o H5CytoFrame.o
g++ -std=gnu++11 -I"/home/biocbuild/bbs-3.19-bioc/R/include" -DNDEBUG -DROUT -I../inst/include -w -Wfatal-errors -DBOOST_NO_AUTO_PTR -DBOOST_FILESYSTEM_NO_CXX20_ATOMIC_REF -DBOOST_FILESYSTEM_SINGLE_THREADED  -I'/home/biocbuild/bbs-3.19-bioc/R/site-library/BH/include' -I'/home/biocbuild/bbs-3.19-bioc/R/site-library/RProtoBufLib/include' -I'/home/biocbuild/bbs-3.19-bioc/R/site-library/Rhdf5lib/include' -I/usr/local/include    -fpic  -g -O2  -Wall  -c MemCytoFrame.cpp -o MemCytoFrame.o
g++ -std=gnu++11 -I"/home/biocbuild/bbs-3.19-bioc/R/include" -DNDEBUG -DROUT -I../inst/include -w -Wfatal-errors -DBOOST_NO_AUTO_PTR -DBOOST_FILESYSTEM_NO_CXX20_ATOMIC_REF -DBOOST_FILESYSTEM_SINGLE_THREADED  -I'/home/biocbuild/bbs-3.19-bioc/R/site-library/BH/include' -I'/home/biocbuild/bbs-3.19-bioc/R/site-library/RProtoBufLib/include' -I'/home/biocbuild/bbs-3.19-bioc/R/site-library/Rhdf5lib/include' -I/usr/local/include    -fpic  -g -O2  -Wall  -c POPINDICES.cpp -o POPINDICES.o
g++ -std=gnu++11 -I"/home/biocbuild/bbs-3.19-bioc/R/include" -DNDEBUG -DROUT -I../inst/include -w -Wfatal-errors -DBOOST_NO_AUTO_PTR -DBOOST_FILESYSTEM_NO_CXX20_ATOMIC_REF -DBOOST_FILESYSTEM_SINGLE_THREADED  -I'/home/biocbuild/bbs-3.19-bioc/R/site-library/BH/include' -I'/home/biocbuild/bbs-3.19-bioc/R/site-library/RProtoBufLib/include' -I'/home/biocbuild/bbs-3.19-bioc/R/site-library/Rhdf5lib/include' -I/usr/local/include    -fpic  -g -O2  -Wall  -c calibrationTable.cpp -o calibrationTable.o
g++ -std=gnu++11 -I"/home/biocbuild/bbs-3.19-bioc/R/include" -DNDEBUG -DROUT -I../inst/include -w -Wfatal-errors -DBOOST_NO_AUTO_PTR -DBOOST_FILESYSTEM_NO_CXX20_ATOMIC_REF -DBOOST_FILESYSTEM_SINGLE_THREADED  -I'/home/biocbuild/bbs-3.19-bioc/R/site-library/BH/include' -I'/home/biocbuild/bbs-3.19-bioc/R/site-library/RProtoBufLib/include' -I'/home/biocbuild/bbs-3.19-bioc/R/site-library/Rhdf5lib/include' -I/usr/local/include    -fpic  -g -O2  -Wall  -c compensation.cpp -o compensation.o
g++ -std=gnu++11 -I"/home/biocbuild/bbs-3.19-bioc/R/include" -DNDEBUG -DROUT -I../inst/include -w -Wfatal-errors -DBOOST_NO_AUTO_PTR -DBOOST_FILESYSTEM_NO_CXX20_ATOMIC_REF -DBOOST_FILESYSTEM_SINGLE_THREADED  -I'/home/biocbuild/bbs-3.19-bioc/R/site-library/BH/include' -I'/home/biocbuild/bbs-3.19-bioc/R/site-library/RProtoBufLib/include' -I'/home/biocbuild/bbs-3.19-bioc/R/site-library/Rhdf5lib/include' -I/usr/local/include    -fpic  -g -O2  -Wall  -c ellipse2points.cpp -o ellipse2points.o
g++ -std=gnu++11 -I"/home/biocbuild/bbs-3.19-bioc/R/include" -DNDEBUG -DROUT -I../inst/include -w -Wfatal-errors -DBOOST_NO_AUTO_PTR -DBOOST_FILESYSTEM_NO_CXX20_ATOMIC_REF -DBOOST_FILESYSTEM_SINGLE_THREADED  -I'/home/biocbuild/bbs-3.19-bioc/R/site-library/BH/include' -I'/home/biocbuild/bbs-3.19-bioc/R/site-library/RProtoBufLib/include' -I'/home/biocbuild/bbs-3.19-bioc/R/site-library/Rhdf5lib/include' -I/usr/local/include    -fpic  -g -O2  -Wall  -c gate.cpp -o gate.o
g++ -std=gnu++11 -I"/home/biocbuild/bbs-3.19-bioc/R/include" -DNDEBUG -DROUT -I../inst/include -w -Wfatal-errors -DBOOST_NO_AUTO_PTR -DBOOST_FILESYSTEM_NO_CXX20_ATOMIC_REF -DBOOST_FILESYSTEM_SINGLE_THREADED  -I'/home/biocbuild/bbs-3.19-bioc/R/site-library/BH/include' -I'/home/biocbuild/bbs-3.19-bioc/R/site-library/RProtoBufLib/include' -I'/home/biocbuild/bbs-3.19-bioc/R/site-library/Rhdf5lib/include' -I/usr/local/include    -fpic  -g -O2  -Wall  -c global.cpp -o global.o
g++ -std=gnu++11 -I"/home/biocbuild/bbs-3.19-bioc/R/include" -DNDEBUG -DROUT -I../inst/include -w -Wfatal-errors -DBOOST_NO_AUTO_PTR -DBOOST_FILESYSTEM_NO_CXX20_ATOMIC_REF -DBOOST_FILESYSTEM_SINGLE_THREADED  -I'/home/biocbuild/bbs-3.19-bioc/R/site-library/BH/include' -I'/home/biocbuild/bbs-3.19-bioc/R/site-library/RProtoBufLib/include' -I'/home/biocbuild/bbs-3.19-bioc/R/site-library/Rhdf5lib/include' -I/usr/local/include    -fpic  -g -O2  -Wall  -c in_polygon.cpp -o in_polygon.o
g++ -std=gnu++11 -I"/home/biocbuild/bbs-3.19-bioc/R/include" -DNDEBUG -DROUT -I../inst/include -w -Wfatal-errors -DBOOST_NO_AUTO_PTR -DBOOST_FILESYSTEM_NO_CXX20_ATOMIC_REF -DBOOST_FILESYSTEM_SINGLE_THREADED  -I'/home/biocbuild/bbs-3.19-bioc/R/site-library/BH/include' -I'/home/biocbuild/bbs-3.19-bioc/R/site-library/RProtoBufLib/include' -I'/home/biocbuild/bbs-3.19-bioc/R/site-library/Rhdf5lib/include' -I/usr/local/include    -fpic  -g -O2  -Wall  -c nodeProperties.cpp -o nodeProperties.o
g++ -std=gnu++11 -I"/home/biocbuild/bbs-3.19-bioc/R/include" -DNDEBUG -DROUT -I../inst/include -w -Wfatal-errors -DBOOST_NO_AUTO_PTR -DBOOST_FILESYSTEM_NO_CXX20_ATOMIC_REF -DBOOST_FILESYSTEM_SINGLE_THREADED  -I'/home/biocbuild/bbs-3.19-bioc/R/site-library/BH/include' -I'/home/biocbuild/bbs-3.19-bioc/R/site-library/RProtoBufLib/include' -I'/home/biocbuild/bbs-3.19-bioc/R/site-library/Rhdf5lib/include' -I/usr/local/include    -fpic  -g -O2  -Wall  -c spline.cpp -o spline.o
g++ -std=gnu++11 -I"/home/biocbuild/bbs-3.19-bioc/R/include" -DNDEBUG -DROUT -I../inst/include -w -Wfatal-errors -DBOOST_NO_AUTO_PTR -DBOOST_FILESYSTEM_NO_CXX20_ATOMIC_REF -DBOOST_FILESYSTEM_SINGLE_THREADED  -I'/home/biocbuild/bbs-3.19-bioc/R/site-library/BH/include' -I'/home/biocbuild/bbs-3.19-bioc/R/site-library/RProtoBufLib/include' -I'/home/biocbuild/bbs-3.19-bioc/R/site-library/Rhdf5lib/include' -I/usr/local/include    -fpic  -g -O2  -Wall  -c trans_group.cpp -o trans_group.o
g++ -std=gnu++11 -I"/home/biocbuild/bbs-3.19-bioc/R/include" -DNDEBUG -DROUT -I../inst/include -w -Wfatal-errors -DBOOST_NO_AUTO_PTR -DBOOST_FILESYSTEM_NO_CXX20_ATOMIC_REF -DBOOST_FILESYSTEM_SINGLE_THREADED  -I'/home/biocbuild/bbs-3.19-bioc/R/site-library/BH/include' -I'/home/biocbuild/bbs-3.19-bioc/R/site-library/RProtoBufLib/include' -I'/home/biocbuild/bbs-3.19-bioc/R/site-library/Rhdf5lib/include' -I/usr/local/include    -fpic  -g -O2  -Wall  -c transformation.cpp -o transformation.o
mkdir -p "/home/biocbuild/bbs-3.19-bioc/R/site-library/00LOCK-cytolib/00new/cytolib/lib"
ar rs "/home/biocbuild/bbs-3.19-bioc/R/site-library/00LOCK-cytolib/00new/cytolib/lib/libcytolib.a" CytoFrame.o CytoFrameView.o CytoVFS.o GatingHierarchy.o GatingSet.o H5CytoFrame.o MemCytoFrame.o POPINDICES.o calibrationTable.o compensation.o dummy.o ellipse2points.o gate.o global.o in_polygon.o nodeProperties.o spline.o trans_group.o transformation.o boost/libs/filesystem/src/codecvt_error_category.o boost/libs/filesystem/src/directory.o boost/libs/filesystem/src/exception.o boost/libs/filesystem/src/operations.o boost/libs/filesystem/src/path.o boost/libs/filesystem/src/path_traits.o boost/libs/filesystem/src/portability.o boost/libs/filesystem/src/unique_path.o boost/libs/filesystem/src/utf8_codecvt_facet.o boost/libs/filesystem/src/windows_file_codecvt.o boost/libs/system/src/error_code.o
ar: creating /home/biocbuild/bbs-3.19-bioc/R/site-library/00LOCK-cytolib/00new/cytolib/lib/libcytolib.a
g++ -std=gnu++11 -shared -L/home/biocbuild/bbs-3.19-bioc/R/lib -L/usr/local/lib -o cytolib.so dummy.o -L/home/biocbuild/bbs-3.19-bioc/R/lib -lR
installing to /home/biocbuild/bbs-3.19-bioc/R/site-library/00LOCK-cytolib/00new/cytolib/libs
** R
** inst
** byte-compile and prepare package for lazy loading
** help
*** installing help indices
** building package indices
** installing vignettes
** testing if installed package can be loaded from temporary location
** checking absolute paths in shared objects and dynamic libraries
** testing if installed package can be loaded from final location
** testing if installed package keeps a record of temporary installation path
* DONE (cytolib)