Index of /checkResults/3.19/bioc-LATEST/ctsGE/raw-results/palomino3

[ICO]NameLast modifiedSizeDescription

[DIR]Parent Directory  -  
[TXT]buildbin-out.txt29-Jun-2024 06:41 1.0K 
[   ]buildbin-summary.dcf29-Jun-2024 06:41 503  
[TXT]buildsrc-out.txt29-Jun-2024 06:41 1.0K 
[   ]buildsrc-summary.dcf29-Jun-2024 06:41 442  
[TXT]checksrc-out.txt29-Jun-2024 06:41 3.1K 
[   ]checksrc-summary.dcf29-Jun-2024 06:41 438  
[TXT]install-out.txt29-Jun-2024 06:41 956  
[   ]install-summary.dcf29-Jun-2024 06:41 264