Index of /checkResults/3.19/bioc-LATEST/ctsGE/raw-results/nebbiolo1

[ICO]NameLast modifiedSizeDescription

[DIR]Parent Directory  -  
[TXT]buildsrc-out.txt17-Jul-2024 06:38 1.0K 
[   ]buildsrc-summary.dcf17-Jul-2024 06:38 411  
[TXT]checksrc-out.txt17-Jul-2024 06:38 3.1K 
[   ]checksrc-summary.dcf17-Jul-2024 06:38 405  
[TXT]install-out.txt17-Jul-2024 06:38 946  
[   ]install-summary.dcf17-Jul-2024 06:38 254