Index of /checkResults/3.19/bioc-LATEST/ctsGE/raw-results/merida1

[ICO]NameLast modifiedSizeDescription

[DIR]Parent Directory  -  
[TXT]buildbin-out.txt17-Jul-2024 06:40 1.1K 
[   ]buildbin-summary.dcf17-Jul-2024 06:40 518  
[TXT]buildsrc-out.txt17-Jul-2024 06:40 1.0K 
[   ]buildsrc-summary.dcf17-Jul-2024 06:40 421  
[TXT]checksrc-out.txt17-Jul-2024 06:40 3.2K 
[   ]checksrc-summary.dcf17-Jul-2024 06:40 436  
[TXT]install-out.txt17-Jul-2024 06:40 1.0K 
[   ]install-summary.dcf17-Jul-2024 06:40 265