Index of /checkResults/3.19/bioc-LATEST/ctsGE/raw-results/lconway

[ICO]NameLast modifiedSizeDescription

[DIR]Parent Directory  -  
[TXT]buildbin-out.txt12-Jun-2024 03:42 1.1K 
[   ]buildbin-summary.dcf12-Jun-2024 03:42 517  
[TXT]buildsrc-out.txt12-Jun-2024 03:42 1.0K 
[   ]buildsrc-summary.dcf12-Jun-2024 03:42 421  
[TXT]checksrc-out.txt12-Jun-2024 03:42 3.1K 
[   ]checksrc-summary.dcf12-Jun-2024 03:42 435  
[TXT]install-out.txt12-Jun-2024 03:42 1.0K 
[   ]install-summary.dcf12-Jun-2024 03:42 265