Index of /checkResults/3.19/bioc-LATEST/ctsGE/raw-results/kunpeng2

[ICO]NameLast modifiedSizeDescription

[DIR]Parent Directory  -  
[TXT]buildsrc-out.txt10-May-2024 00:40 1.0K 
[   ]buildsrc-summary.dcf10-May-2024 00:40 422  
[TXT]checksrc-out.txt10-May-2024 00:40 3.2K 
[   ]checksrc-summary.dcf10-May-2024 00:40 442  
[TXT]install-out.txt10-May-2024 00:40 968  
[   ]install-summary.dcf10-May-2024 00:40 265