Index of /checkResults/3.19/bioc-LATEST/ctsGE/raw-results/kjohnson1

[ICO]NameLast modifiedSizeDescription

[DIR]Parent Directory  -  
[TXT]buildbin-out.txt17-Jul-2024 06:42 1.1K 
[   ]buildbin-summary.dcf17-Jul-2024 06:42 517  
[TXT]buildsrc-out.txt17-Jul-2024 06:42 1.0K 
[   ]buildsrc-summary.dcf17-Jul-2024 06:42 421  
[TXT]checksrc-out.txt17-Jul-2024 06:42 3.1K 
[   ]checksrc-summary.dcf17-Jul-2024 06:42 435  
[TXT]install-out.txt17-Jul-2024 06:42 1.0K 
[   ]install-summary.dcf17-Jul-2024 06:42 264