Back to Multiple platform build/check report for BioC 3.19:   simplified   long
AB[C]DEFGHIJKLMNOPQRSTUVWXYZ

This page was generated on 2024-07-24 09:05 -0400 (Wed, 24 Jul 2024).

HostnameOSArch (*)R versionInstalled pkgs
nebbiolo1Linux (Ubuntu 22.04.3 LTS)x86_644.4.1 (2024-06-14) -- "Race for Your Life" 4747
palomino7Windows Server 2022 Datacenterx644.4.1 (2024-06-14 ucrt) -- "Race for Your Life" 4489
merida1macOS 12.7.5 Montereyx86_644.4.1 (2024-06-14) -- "Race for Your Life" 4518
kjohnson1macOS 13.6.6 Venturaarm644.4.1 (2024-06-14) -- "Race for Your Life" 4467
Click on any hostname to see more info about the system (e.g. compilers)      (*) as reported by 'uname -p', except on Windows and Mac OS X

Package 465/2300HostnameOS / ArchINSTALLBUILDCHECKBUILD BIN
crisprShiny 1.0.0  (landing page)
Jean-Philippe Fortin
Snapshot Date: 2024-07-21 14:00 -0400 (Sun, 21 Jul 2024)
git_url: https://git.bioconductor.org/packages/crisprShiny
git_branch: RELEASE_3_19
git_last_commit: fa59fba
git_last_commit_date: 2024-04-30 11:54:23 -0400 (Tue, 30 Apr 2024)
nebbiolo1Linux (Ubuntu 22.04.3 LTS) / x86_64  OK    OK    OK  UNNEEDED, same version is already published
palomino7Windows Server 2022 Datacenter / x64  OK    OK    OK    OK  UNNEEDED, same version is already published
merida1macOS 12.7.5 Monterey / x86_64  OK    OK    OK    OK  UNNEEDED, same version is already published
kjohnson1macOS 13.6.6 Ventura / arm64  OK    OK    OK    OK  UNNEEDED, same version is already published


BUILD BIN results for crisprShiny on merida1

To the developers/maintainers of the crisprShiny package:
- Allow up to 24 hours (and sometimes 48 hours) for your latest push to git@git.bioconductor.org:packages/crisprShiny.git to reflect on this report. See Troubleshooting Build Report for more information.
- Use the following Renviron settings to reproduce errors and warnings.
- If 'R CMD check' started to fail recently on the Linux builder(s) over a missing dependency, add the missing dependency to 'Suggests:' in your DESCRIPTION file. See Renviron.bioc for more information.

raw results


Summary

Package: crisprShiny
Version: 1.0.0
Command: rm -rf crisprShiny.buildbin-libdir && mkdir crisprShiny.buildbin-libdir && /Users/biocbuild/BBS/utils/build-universal.sh crisprShiny_1.0.0.tar.gz /Library/Frameworks/R.framework/Resources/bin/R crisprShiny.buildbin-libdir
StartedAt: 2024-07-22 15:15:16 -0400 (Mon, 22 Jul 2024)
EndedAt: 2024-07-22 15:17:11 -0400 (Mon, 22 Jul 2024)
EllapsedTime: 115.5 seconds
RetCode: 0
Status:   OK  
PackageFile: crisprShiny_1.0.0.tgz
PackageFileSize: 1.29 MiB

Command output

##############################################################################
##############################################################################
###
### Running command:
###
###   rm -rf crisprShiny.buildbin-libdir && mkdir crisprShiny.buildbin-libdir && /Users/biocbuild/BBS/utils/build-universal.sh crisprShiny_1.0.0.tar.gz /Library/Frameworks/R.framework/Resources/bin/R crisprShiny.buildbin-libdir
###
##############################################################################
##############################################################################


>>>>>>> 
>>>>>>> INSTALLATION WITH 'R CMD INSTALL --preclean --no-multiarch --library=crisprShiny.buildbin-libdir crisprShiny_1.0.0.tar.gz'
>>>>>>> 

* installing *source* package ‘crisprShiny’ ...
** using staged installation
** R
** data
** inst
** byte-compile and prepare package for lazy loading
** help
*** installing help indices
** building package indices
** installing vignettes
** testing if installed package can be loaded from temporary location
** testing if installed package can be loaded from final location
** testing if installed package keeps a record of temporary installation path
* DONE (crisprShiny)