Index of /checkResults/3.19/bioc-LATEST/crisprScore/raw-results/nebbiolo1

[ICO]NameLast modifiedSizeDescription

[DIR]Parent Directory  -  
[TXT]buildsrc-out.txt20-Jul-2024 06:37 1.6K 
[   ]buildsrc-summary.dcf20-Jul-2024 06:37 427  
[TXT]checksrc-out.txt20-Jul-2024 06:37 4.7K 
[   ]checksrc-summary.dcf20-Jul-2024 06:37 428  
[TXT]install-out.txt20-Jul-2024 06:37 867  
[   ]install-summary.dcf20-Jul-2024 06:37 266