Index of /checkResults/3.19/bioc-LATEST/crisprScore/raw-results/merida1

[ICO]NameLast modifiedSizeDescription

[DIR]Parent Directory  -  
[TXT]buildbin-out.txt20-Jul-2024 06:39 1.1K 
[   ]buildbin-summary.dcf20-Jul-2024 06:39 550  
[TXT]buildsrc-out.txt20-Jul-2024 06:39 1.6K 
[   ]buildsrc-summary.dcf20-Jul-2024 06:39 437  
[TXT]checksrc-out.txt20-Jul-2024 06:39 4.7K 
[   ]checksrc-summary.dcf20-Jul-2024 06:39 458  
[TXT]install-out.txt20-Jul-2024 06:39 902  
[   ]install-summary.dcf20-Jul-2024 06:39 276