Index of /checkResults/3.19/bioc-LATEST/crisprScore/raw-results

[ICO]NameLast modifiedSizeDescription

[DIR]Parent Directory  -  
[DIR]kjohnson1/20-Jul-2024 06:41 -  
[DIR]kjohnson3/12-Jun-2024 03:43 -  
[DIR]kunpeng2/10-May-2024 00:40 -  
[DIR]lconway/12-Jun-2024 03:42 -  
[DIR]merida1/20-Jul-2024 06:39 -  
[DIR]nebbiolo1/20-Jul-2024 06:37 -  
[DIR]palomino3/29-Jun-2024 06:41 -  
[DIR]palomino7/20-Jul-2024 06:38 -  
[   ]info.dcf20-Jul-2024 06:36 285