Back to Multiple platform build/check report for BioC 3.19:   simplified   long
AB[C]DEFGHIJKLMNOPQRSTUVWXYZ

This page was generated on 2024-05-29 11:34:19 -0400 (Wed, 29 May 2024).

HostnameOSArch (*)R versionInstalled pkgs
nebbiolo1Linux (Ubuntu 22.04.3 LTS)x86_644.4.0 (2024-04-24) -- "Puppy Cup" 4753
lconwaymacOS 12.7.1 Montereyx86_644.4.0 (2024-04-24) -- "Puppy Cup" 4518
Click on any hostname to see more info about the system (e.g. compilers)      (*) as reported by 'uname -p', except on Windows and Mac OS X

All results for package crisprBase


To the developers/maintainers of the crisprBase package:
- Allow up to 24 hours (and sometimes 48 hours) for your latest push to git@git.bioconductor.org:packages/crisprBase.git to reflect on this report. See Troubleshooting Build Report for more information.
- Use the following Renviron settings to reproduce errors and warnings.
- If 'R CMD check' started to fail recently on the Linux builder(s) over a missing dependency, add the missing dependency to 'Suggests:' in your DESCRIPTION file. See Renviron.bioc for more information.

raw results

Package 458/2300HostnameOS / ArchINSTALLBUILDCHECKBUILD BIN
crisprBase 1.8.0  (landing page)
Jean-Philippe Fortin
Snapshot Date: 2024-05-28 14:00:10 -0400 (Tue, 28 May 2024)
git_url: https://git.bioconductor.org/packages/crisprBase
git_branch: RELEASE_3_19
git_last_commit: 1b765b0
git_last_commit_date: 2024-04-30 11:39:39 -0400 (Tue, 30 Apr 2024)
nebbiolo1Linux (Ubuntu 22.04.3 LTS) / x86_64  OK    OK    OK  UNNEEDED, same version is already published
lconwaymacOS 12.7.1 Monterey / x86_64  OK    OK    OK    OK  UNNEEDED, same version is already published
kjohnson3macOS 13.6.5 Ventura / arm64see weekly results here

Results for Bioconductor software packages that depend directly on package crisprBase

QUICK STATSOS / ArchINSTALLBUILDCHECKBUILD BIN
nebbiolo1Linux (Ubuntu 22.04.3 LTS) / x86_64
006
006
0006
lconwaymacOS 12.7.1 Monterey / x86_64
006
006
0006
006
Package 1/6HostnameOS / ArchINSTALLBUILDCHECKBUILD BIN
crisprBowtie 1.8.0  (landing page)
Jean-Philippe Fortin
git_last_commit: 3d96121
git_last_commit_date: 2024-04-30 11:40:26 -0400
nebbiolo1Linux (Ubuntu 22.04.3 LTS) / x86_64  OK    OK    OK  UNNEEDED, same version is already published
lconwaymacOS 12.7.1 Monterey / x86_64  OK    OK    OK    OK  UNNEEDED, same version is already published
kjohnson3macOS 13.6.5 Ventura / arm64see weekly results here
Package 2/6HostnameOS / ArchINSTALLBUILDCHECKBUILD BIN
crisprBwa 1.8.0  (landing page)
Jean-Philippe Fortin
git_last_commit: c95f75b
git_last_commit_date: 2024-04-30 11:42:16 -0400
nebbiolo1Linux (Ubuntu 22.04.3 LTS) / x86_64  OK    OK    OK  UNNEEDED, same version is already published
lconwaymacOS 12.7.1 Monterey / x86_64  OK    OK    OK    OK  UNNEEDED, same version is already published
kjohnson3macOS 13.6.5 Ventura / arm64see weekly results here
Package 3/6HostnameOS / ArchINSTALLBUILDCHECKBUILD BIN
crisprDesign 1.6.0  (landing page)
Jean-Philippe Fortin
git_last_commit: 9c8b631
git_last_commit_date: 2024-04-30 11:43:47 -0400
nebbiolo1Linux (Ubuntu 22.04.3 LTS) / x86_64  OK    OK    OK  UNNEEDED, same version is already published
lconwaymacOS 12.7.1 Monterey / x86_64  OK    OK    OK    OK  UNNEEDED, same version is already published
kjohnson3macOS 13.6.5 Ventura / arm64see weekly results here
Package 4/6HostnameOS / ArchINSTALLBUILDCHECKBUILD BIN
crisprShiny 1.0.0  (landing page)
Jean-Philippe Fortin
git_last_commit: fa59fba
git_last_commit_date: 2024-04-30 11:54:23 -0400
nebbiolo1Linux (Ubuntu 22.04.3 LTS) / x86_64  OK    OK    OK  UNNEEDED, same version is already published
lconwaymacOS 12.7.1 Monterey / x86_64  OK    OK    OK    OK  UNNEEDED, same version is already published
kjohnson3macOS 13.6.5 Ventura / arm64see weekly results here
Package 5/6HostnameOS / ArchINSTALLBUILDCHECKBUILD BIN
crisprVerse 1.6.0  (landing page)
Jean-Philippe Fortin
git_last_commit: db98c24
git_last_commit_date: 2024-04-30 11:44:09 -0400
nebbiolo1Linux (Ubuntu 22.04.3 LTS) / x86_64  OK    OK    OK  UNNEEDED, same version is already published
lconwaymacOS 12.7.1 Monterey / x86_64  OK    OK    OK    OK  UNNEEDED, same version is already published
kjohnson3macOS 13.6.5 Ventura / arm64see weekly results here
Package 6/6HostnameOS / ArchINSTALLBUILDCHECKBUILD BIN
crisprViz 1.6.0  (landing page)
Jean-Philippe Fortin
git_last_commit: 11641c3
git_last_commit_date: 2024-04-30 11:44:44 -0400
nebbiolo1Linux (Ubuntu 22.04.3 LTS) / x86_64  OK    OK    OK  UNNEEDED, same version is already published
lconwaymacOS 12.7.1 Monterey / x86_64  OK    OK    OK    OK  UNNEEDED, same version is already published
kjohnson3macOS 13.6.5 Ventura / arm64see weekly results here