Back to Multiple platform build/check report for BioC 3.19:   simplified   long
AB[C]DEFGHIJKLMNOPQRSTUVWXYZ

This page was generated on 2024-06-14 14:37 -0400 (Fri, 14 Jun 2024).

HostnameOSArch (*)R versionInstalled pkgs
nebbiolo1Linux (Ubuntu 22.04.3 LTS)x86_644.4.0 (2024-04-24) -- "Puppy Cup" 4757
palomino3Windows Server 2022 Datacenterx644.4.0 (2024-04-24 ucrt) -- "Puppy Cup" 4491
Click on any hostname to see more info about the system (e.g. compilers)      (*) as reported by 'uname -p', except on Windows and Mac OS X

Package 424/2300HostnameOS / ArchINSTALLBUILDCHECKBUILD BIN
condiments 1.12.0  (landing page)
Hector Roux de Bezieux
Snapshot Date: 2024-06-12 14:00 -0400 (Wed, 12 Jun 2024)
git_url: https://git.bioconductor.org/packages/condiments
git_branch: RELEASE_3_19
git_last_commit: 9b27d5c
git_last_commit_date: 2024-04-30 11:32:42 -0400 (Tue, 30 Apr 2024)
nebbiolo1Linux (Ubuntu 22.04.3 LTS) / x86_64  OK    OK    OK  UNNEEDED, same version is already published
palomino3Windows Server 2022 Datacenter / x64  OK    OK    OK    OK  UNNEEDED, same version is already published


CHECK results for condiments on nebbiolo1

To the developers/maintainers of the condiments package:
- Allow up to 24 hours (and sometimes 48 hours) for your latest push to git@git.bioconductor.org:packages/condiments.git to reflect on this report. See Troubleshooting Build Report for more information.
- Use the following Renviron settings to reproduce errors and warnings.
- If 'R CMD check' started to fail recently on the Linux builder(s) over a missing dependency, add the missing dependency to 'Suggests:' in your DESCRIPTION file. See Renviron.bioc for more information.

raw results


Summary

Package: condiments
Version: 1.12.0
Command: /home/biocbuild/bbs-3.19-bioc/R/bin/R CMD check --install=check:condiments.install-out.txt --library=/home/biocbuild/bbs-3.19-bioc/R/site-library --timings condiments_1.12.0.tar.gz
StartedAt: 2024-06-12 21:54:03 -0400 (Wed, 12 Jun 2024)
EndedAt: 2024-06-12 22:03:31 -0400 (Wed, 12 Jun 2024)
EllapsedTime: 567.2 seconds
RetCode: 0
Status:   OK  
CheckDir: condiments.Rcheck
Warnings: 0

Command output

##############################################################################
##############################################################################
###
### Running command:
###
###   /home/biocbuild/bbs-3.19-bioc/R/bin/R CMD check --install=check:condiments.install-out.txt --library=/home/biocbuild/bbs-3.19-bioc/R/site-library --timings condiments_1.12.0.tar.gz
###
##############################################################################
##############################################################################


* using log directory ‘/home/biocbuild/bbs-3.19-bioc/meat/condiments.Rcheck’
* using R version 4.4.0 (2024-04-24)
* using platform: x86_64-pc-linux-gnu
* R was compiled by
    gcc (Ubuntu 11.4.0-1ubuntu1~22.04) 11.4.0
    GNU Fortran (Ubuntu 11.4.0-1ubuntu1~22.04) 11.4.0
* running under: Ubuntu 22.04.4 LTS
* using session charset: UTF-8
* checking for file ‘condiments/DESCRIPTION’ ... OK
* checking extension type ... Package
* this is package ‘condiments’ version ‘1.12.0’
* package encoding: UTF-8
* checking package namespace information ... OK
* checking package dependencies ... OK
* checking if this is a source package ... OK
* checking if there is a namespace ... OK
* checking for hidden files and directories ... OK
* checking for portable file names ... OK
* checking for sufficient/correct file permissions ... OK
* checking whether package ‘condiments’ can be installed ... OK
* checking installed package size ... OK
* checking package directory ... OK
* checking ‘build’ directory ... OK
* checking DESCRIPTION meta-information ... OK
* checking top-level files ... OK
* checking for left-over files ... OK
* checking index information ... OK
* checking package subdirectories ... OK
* checking code files for non-ASCII characters ... OK
* checking R files for syntax errors ... OK
* checking whether the package can be loaded ... OK
* checking whether the package can be loaded with stated dependencies ... OK
* checking whether the package can be unloaded cleanly ... OK
* checking whether the namespace can be loaded with stated dependencies ... OK
* checking whether the namespace can be unloaded cleanly ... OK
* checking loading without being on the library search path ... OK
* checking dependencies in R code ... OK
* checking S3 generic/method consistency ... OK
* checking replacement functions ... OK
* checking foreign function calls ... OK
* checking R code for possible problems ... NOTE
.condition_sling: no visible binding for global variable ‘.’
.condition_sling : <anonymous>: no visible binding for global variable
  ‘.’
.distinct_inputs: no visible binding for global variable ‘Samples’
.distinct_inputs: no visible binding for global variable ‘.’
.fateSelectionTest: no visible binding for global variable ‘pair’
.fateSelectionTest: no visible binding for global variable ‘statistic’
.fateSelectionTest: no visible binding for global variable ‘p.value’
.multiple_samples: no visible binding for global variable ‘p.value’
.progressionTest: no visible binding for global variable ‘lineage’
.progressionTest: no visible binding for global variable ‘statistic’
.progressionTest: no visible binding for global variable ‘p.value’
.topologyTest_multipleSamples: no visible binding for global variable
  ‘p.value’
fateSelectionTest_multipleSamples,SlingshotDataSet: no visible binding
  for global variable ‘condition’
progressionTest_multipleSamples,SlingshotDataSet: no visible binding
  for global variable ‘condition’
Undefined global functions or variables:
  . Samples condition lineage p.value pair statistic
* checking Rd files ... OK
* checking Rd metadata ... OK
* checking Rd cross-references ... OK
* checking for missing documentation entries ... OK
* checking for code/documentation mismatches ... OK
* checking Rd \usage sections ... OK
* checking Rd contents ... OK
* checking for unstated dependencies in examples ... OK
* checking contents of ‘data’ directory ... OK
* checking data for non-ASCII characters ... OK
* checking data for ASCII and uncompressed saves ... OK
* checking files in ‘vignettes’ ... OK
* checking examples ... OK
* checking for unstated dependencies in ‘tests’ ... OK
* checking tests ...
  Running ‘testthat.R’
 OK
* checking for unstated dependencies in vignettes ... OK
* checking package vignettes ... OK
* checking re-building of vignette outputs ... OK
* checking PDF version of manual ... OK
* DONE

Status: 1 NOTE
See
  ‘/home/biocbuild/bbs-3.19-bioc/meat/condiments.Rcheck/00check.log’
for details.


Installation output

condiments.Rcheck/00install.out

##############################################################################
##############################################################################
###
### Running command:
###
###   /home/biocbuild/bbs-3.19-bioc/R/bin/R CMD INSTALL condiments
###
##############################################################################
##############################################################################


* installing to library ‘/home/biocbuild/bbs-3.19-bioc/R/site-library’
* installing *source* package ‘condiments’ ...
** using staged installation
** R
** data
** inst
** byte-compile and prepare package for lazy loading
** help
*** installing help indices
*** copying figures
** building package indices
** installing vignettes
** testing if installed package can be loaded from temporary location
** testing if installed package can be loaded from final location
** testing if installed package keeps a record of temporary installation path
* DONE (condiments)

Tests output

condiments.Rcheck/tests/testthat.Rout


R version 4.4.0 (2024-04-24) -- "Puppy Cup"
Copyright (C) 2024 The R Foundation for Statistical Computing
Platform: x86_64-pc-linux-gnu

R is free software and comes with ABSOLUTELY NO WARRANTY.
You are welcome to redistribute it under certain conditions.
Type 'license()' or 'licence()' for distribution details.

R is a collaborative project with many contributors.
Type 'contributors()' for more information and
'citation()' on how to cite R or R packages in publications.

Type 'demo()' for some demos, 'help()' for on-line help, or
'help.start()' for an HTML browser interface to help.
Type 'q()' to quit R.

> library(condiments)
> library(testthat)
> test_check("condiments")
note: only 1 unique complexity parameters in default grid. Truncating the grid to 1 .

note: only 1 unique complexity parameters in default grid. Truncating the grid to 1 .

note: only 1 unique complexity parameters in default grid. Truncating the grid to 1 .

note: only 2 unique complexity parameters in default grid. Truncating the grid to 2 .

note: only 1 unique complexity parameters in default grid. Truncating the grid to 1 .

note: only 1 unique complexity parameters in default grid. Truncating the grid to 1 .

note: only 1 unique complexity parameters in default grid. Truncating the grid to 1 .

note: only 2 unique complexity parameters in default grid. Truncating the grid to 2 .

note: only 1 unique complexity parameters in default grid. Truncating the grid to 1 .

note: only 1 unique complexity parameters in default grid. Truncating the grid to 1 .

note: only 1 unique complexity parameters in default grid. Truncating the grid to 1 .

note: only 1 unique complexity parameters in default grid. Truncating the grid to 1 .

note: only 1 unique complexity parameters in default grid. Truncating the grid to 1 .

note: only 1 unique complexity parameters in default grid. Truncating the grid to 1 .

note: only 1 unique complexity parameters in default grid. Truncating the grid to 1 .

note: only 1 unique complexity parameters in default grid. Truncating the grid to 1 .

note: only 1 unique complexity parameters in default grid. Truncating the grid to 1 .

note: only 1 unique complexity parameters in default grid. Truncating the grid to 1 .

note: only 1 unique complexity parameters in default grid. Truncating the grid to 1 .

note: only 1 unique complexity parameters in default grid. Truncating the grid to 1 .

note: only 1 unique complexity parameters in default grid. Truncating the grid to 1 .

note: only 1 unique complexity parameters in default grid. Truncating the grid to 1 .

note: only 1 unique complexity parameters in default grid. Truncating the grid to 1 .

note: only 1 unique complexity parameters in default grid. Truncating the grid to 1 .

note: only 1 unique complexity parameters in default grid. Truncating the grid to 1 .

note: only 1 unique complexity parameters in default grid. Truncating the grid to 1 .

note: only 1 unique complexity parameters in default grid. Truncating the grid to 1 .

note: only 1 unique complexity parameters in default grid. Truncating the grid to 1 .

note: only 1 unique complexity parameters in default grid. Truncating the grid to 1 .

note: only 1 unique complexity parameters in default grid. Truncating the grid to 1 .

note: only 1 unique complexity parameters in default grid. Truncating the grid to 1 .

note: only 1 unique complexity parameters in default grid. Truncating the grid to 1 .

note: only 1 unique complexity parameters in default grid. Truncating the grid to 1 .

note: only 1 unique complexity parameters in default grid. Truncating the grid to 1 .

note: only 1 unique complexity parameters in default grid. Truncating the grid to 1 .

note: only 1 unique complexity parameters in default grid. Truncating the grid to 1 .

note: only 1 unique complexity parameters in default grid. Truncating the grid to 1 .

note: only 1 unique complexity parameters in default grid. Truncating the grid to 1 .

note: only 1 unique complexity parameters in default grid. Truncating the grid to 1 .

note: only 1 unique complexity parameters in default grid. Truncating the grid to 1 .

note: only 1 unique complexity parameters in default grid. Truncating the grid to 1 .

note: only 1 unique complexity parameters in default grid. Truncating the grid to 1 .

[ FAIL 0 | WARN 0 | SKIP 0 | PASS 112 ]
> 
> proc.time()
   user  system elapsed 
149.726   6.163 155.879 

Example timings

condiments.Rcheck/condiments-Ex.timings

nameusersystemelapsed
create_differential_topology0.0010.0030.004
differentiationTest1.9950.2242.219
fateSelectionTest1.4980.1071.607
fateSelectionTest_multipleSamples2.1860.1912.379
imbalance_score0.2040.0120.216
merge_sds0.2720.0120.284
nLineages0.2100.0080.217
progressionTest0.3020.0120.315
progressionTest_multipleSamples0.2660.0160.281
slingshot_conditions0.5590.0560.615
topologyTest3.2690.0673.336
topologyTest_multipleSamples3.3530.0773.429
weights_from_pst0.2490.0120.261