Back to Multiple platform build/check report for BioC 3.19:   simplified   long
AB[C]DEFGHIJKLMNOPQRSTUVWXYZ

This page was generated on 2024-05-17 11:37:42 -0400 (Fri, 17 May 2024).

HostnameOSArch (*)R versionInstalled pkgs
nebbiolo1Linux (Ubuntu 22.04.3 LTS)x86_644.4.0 (2024-04-24) -- "Puppy Cup" 4751
palomino3Windows Server 2022 Datacenterx644.4.0 (2024-04-24 ucrt) -- "Puppy Cup" 4485
lconwaymacOS 12.7.1 Montereyx86_644.4.0 (2024-04-24) -- "Puppy Cup" 4515
Click on any hostname to see more info about the system (e.g. compilers)      (*) as reported by 'uname -p', except on Windows and Mac OS X

Package 279/2300HostnameOS / ArchINSTALLBUILDCHECKBUILD BIN
categoryCompare 1.48.0  (landing page)
Robert M. Flight
Snapshot Date: 2024-05-16 14:00:15 -0400 (Thu, 16 May 2024)
git_url: https://git.bioconductor.org/packages/categoryCompare
git_branch: RELEASE_3_19
git_last_commit: 50862bb
git_last_commit_date: 2024-04-30 10:27:40 -0400 (Tue, 30 Apr 2024)
nebbiolo1Linux (Ubuntu 22.04.3 LTS) / x86_64  OK    OK    OK  UNNEEDED, same version is already published
palomino3Windows Server 2022 Datacenter / x64  OK    OK    OK    OK  UNNEEDED, same version is already published
lconwaymacOS 12.7.1 Monterey / x86_64  OK    OK    OK    OK  UNNEEDED, same version is already published
kjohnson3macOS 13.6.5 Ventura / arm64see weekly results here

CHECK results for categoryCompare on lconway


To the developers/maintainers of the categoryCompare package:
- Allow up to 24 hours (and sometimes 48 hours) for your latest push to git@git.bioconductor.org:packages/categoryCompare.git to reflect on this report. See Troubleshooting Build Report for more information.
- Use the following Renviron settings to reproduce errors and warnings.
- If 'R CMD check' started to fail recently on the Linux builder(s) over a missing dependency, add the missing dependency to 'Suggests:' in your DESCRIPTION file. See Renviron.bioc for more information.

raw results


Summary

Package: categoryCompare
Version: 1.48.0
Command: /Library/Frameworks/R.framework/Resources/bin/R CMD check --install=check:categoryCompare.install-out.txt --library=/Library/Frameworks/R.framework/Resources/library --no-vignettes --timings categoryCompare_1.48.0.tar.gz
StartedAt: 2024-05-16 19:38:29 -0400 (Thu, 16 May 2024)
EndedAt: 2024-05-16 19:42:05 -0400 (Thu, 16 May 2024)
EllapsedTime: 216.1 seconds
RetCode: 0
Status:   OK  
CheckDir: categoryCompare.Rcheck
Warnings: 0

Command output

##############################################################################
##############################################################################
###
### Running command:
###
###   /Library/Frameworks/R.framework/Resources/bin/R CMD check --install=check:categoryCompare.install-out.txt --library=/Library/Frameworks/R.framework/Resources/library --no-vignettes --timings categoryCompare_1.48.0.tar.gz
###
##############################################################################
##############################################################################


* using log directory ‘/Users/biocbuild/bbs-3.19-bioc/meat/categoryCompare.Rcheck’
* using R version 4.4.0 (2024-04-24)
* using platform: x86_64-apple-darwin20
* R was compiled by
    Apple clang version 14.0.0 (clang-1400.0.29.202)
    GNU Fortran (GCC) 12.2.0
* running under: macOS Monterey 12.7.1
* using session charset: UTF-8
* using option ‘--no-vignettes’
* checking for file ‘categoryCompare/DESCRIPTION’ ... OK
* this is package ‘categoryCompare’ version ‘1.48.0’
* checking package namespace information ... OK
* checking package dependencies ... OK
* checking if this is a source package ... OK
* checking if there is a namespace ... OK
* checking for hidden files and directories ... OK
* checking for portable file names ... OK
* checking for sufficient/correct file permissions ... OK
* checking whether package ‘categoryCompare’ can be installed ... OK
* checking installed package size ... OK
* checking package directory ... OK
* checking ‘build’ directory ... OK
* checking DESCRIPTION meta-information ... OK
* checking top-level files ... OK
* checking for left-over files ... OK
* checking index information ... OK
* checking package subdirectories ... OK
* checking code files for non-ASCII characters ... OK
* checking R files for syntax errors ... OK
* checking whether the package can be loaded ... OK
* checking whether the package can be loaded with stated dependencies ... OK
* checking whether the package can be unloaded cleanly ... OK
* checking whether the namespace can be loaded with stated dependencies ... OK
* checking whether the namespace can be unloaded cleanly ... OK
* checking dependencies in R code ... OK
* checking S3 generic/method consistency ... OK
* checking replacement functions ... OK
* checking foreign function calls ... OK
* checking R code for possible problems ... NOTE
.ccCompareGO: no visible binding for global variable ‘GOBPPARENTS’
.ccCompareGO: no visible binding for global variable ‘GOMFPARENTS’
.ccCompareGO: no visible binding for global variable ‘GOCCPARENTS’
.ccCompareGO: no visible binding for global variable ‘GOTERM’
.ccCompareGO: no visible binding for global variable ‘Term’
.cytOutNodes: ... may be used in an incorrect context:
  exportImage(filename = fileName, type = "png", network = cwObj, ...)
.getDesc : <anonymous>: no visible global function definition for
  ‘Term’
show,HyperGResultCC: no visible global function definition for
  ‘description’
Undefined global functions or variables:
  GOBPPARENTS GOCCPARENTS GOMFPARENTS GOTERM Term description
* checking Rd files ... NOTE
checkRd: (-1) ccData.Rd:21: Lost braces
    21 |   \code{table10}{: Log-ratio output from \pkg{limma} for the comparison of presence-absence of estrogen at 10 hours}
       |                 ^
checkRd: (-1) ccData.Rd:23: Lost braces
    23 |   \code{table48}{: Log-ratio output from \pkg{limma} for the comparison of presence-absence of estrogen at 48 hours}
       |                 ^
checkRd: (-1) ccData.Rd:25: Lost braces
    25 |   \code{gUniverse}{: All of the genes measured on the chip}
       |                   ^
checkRd: (-1) ccData.Rd:27: Lost braces
    27 |         \code{gseaRes}{: Toy results of GSEA analysis of 3 different tissues}
       |                       ^
checkRd: (-1) ccData.Rd:29: Lost braces
    29 |         \code{enrichLists}{: Apply \code{\link{ccEnrich}} to a ccGeneList from \code{table10} and \code{table48}}
       |                           ^
checkRd: (-1) ccData.Rd:31: Lost braces
    31 |         \code{ccResults}{: Apply \code{\link{ccCompare}} to \code{enrichLists}}
       |                         ^
checkRd: (-1) ccData.Rd:33: Lost braces
    33 |         \code{ccResultsBPHier}{: Modify \code{enrichLists$BP} to use a "hierarchical" layout}
       |                               ^
checkRd: (-1) ccData.Rd:35: Lost braces
    35 |         \code{geneLists}{: a \code{ccGeneList} generated from genes in table10 and table48}
       |                         ^
checkRd: (-1) ccData.Rd:37: Lost braces
    37 |         \code{ccOpts}{: a \code{ccOptions} object describing what we are going to do as far as feature list comparisons}
       |                      ^
* checking Rd metadata ... OK
* checking Rd cross-references ... OK
* checking for missing documentation entries ... OK
* checking for code/documentation mismatches ... OK
* checking Rd \usage sections ... OK
* checking Rd contents ... OK
* checking for unstated dependencies in examples ... OK
* checking contents of ‘data’ directory ... OK
* checking data for non-ASCII characters ... OK
* checking data for ASCII and uncompressed saves ... OK
* checking files in ‘vignettes’ ... OK
* checking examples ... OK
* checking for unstated dependencies in vignettes ... OK
* checking package vignettes ... OK
* checking running R code from vignettes ... SKIPPED
* checking re-building of vignette outputs ... SKIPPED
* checking PDF version of manual ... OK
* DONE

Status: 2 NOTEs
See
  ‘/Users/biocbuild/bbs-3.19-bioc/meat/categoryCompare.Rcheck/00check.log’
for details.


Installation output

categoryCompare.Rcheck/00install.out

##############################################################################
##############################################################################
###
### Running command:
###
###   /Library/Frameworks/R.framework/Resources/bin/R CMD INSTALL categoryCompare
###
##############################################################################
##############################################################################


* installing to library ‘/Library/Frameworks/R.framework/Versions/4.4-x86_64/Resources/library’
* installing *source* package ‘categoryCompare’ ...
** using staged installation
** R
** data
** inst
** byte-compile and prepare package for lazy loading
Note: ... may be used in an incorrect context 
** help
*** installing help indices
** building package indices
** installing vignettes
** testing if installed package can be loaded from temporary location
** testing if installed package can be loaded from final location
** testing if installed package keeps a record of temporary installation path
* DONE (categoryCompare)

Tests output


Example timings

categoryCompare.Rcheck/categoryCompare-Ex.timings

nameusersystemelapsed
GENccEnrichResult-class0.5470.0160.569
HyperGParamsCC-class0.0010.0010.003
HyperGResultCC-class0.0010.0000.002
breakEdges-methods1.2220.0301.279
ccCompare0.5330.0100.548
ccCompareCollection-class0.0010.0000.000
ccCompareResult-class0.0010.0010.001
ccData0.5230.0090.535
ccEnrich0.5560.0100.572
ccEnrichCollection-class1.9950.0502.065
ccEnrichResult-class1.8870.0611.966
ccGeneList-class1.1300.0171.154
ccOptions-class0.0180.0020.020
ccOutCyt-methods0.0000.0000.001
ccSigList-class0.0010.0000.001
cytOutData-methods0.0000.0000.001
cytOutNodes-methods0.0000.0000.001
hyperGTestCC0.8500.0260.884
mergeLists-methods0.9390.0300.976
mergedData-class0.9140.0210.945
minCount1.8410.0641.926
minNodes000
pvalueType1.6760.0481.736
show-methods0.0000.0000.001