Index of /checkResults/3.19/bioc-LATEST/biosigner/raw-results/kjohnson3

[ICO]NameLast modifiedSizeDescription

[DIR]Parent Directory  -  
[TXT]buildbin-out.txt12-Jun-2024 03:43 1.2K 
[   ]buildbin-summary.dcf12-Jun-2024 03:43 542  
[TXT]buildsrc-out.txt12-Jun-2024 03:43 887  
[   ]buildsrc-summary.dcf12-Jun-2024 03:43 434  
[TXT]checksrc-out.txt12-Jun-2024 03:43 4.1K 
[   ]checksrc-summary.dcf12-Jun-2024 03:43 456  
[TXT]install-out.txt12-Jun-2024 03:43 1.0K 
[   ]install-summary.dcf12-Jun-2024 03:43 273