Index of /checkResults/3.19/bioc-LATEST/appreci8R/raw-results/palomino3

[ICO]NameLast modifiedSizeDescription

[DIR]Parent Directory  -  
[TXT]buildbin-out.txt29-Jun-2024 06:41 3.0K 
[   ]buildbin-summary.dcf29-Jun-2024 06:41 528  
[TXT]buildsrc-out.txt29-Jun-2024 06:41 919  
[   ]buildsrc-summary.dcf29-Jun-2024 06:41 461  
[TXT]checksrc-out.txt29-Jun-2024 06:41 4.5K 
[   ]checksrc-summary.dcf29-Jun-2024 06:41 455  
[TXT]install-out.txt29-Jun-2024 06:41 2.8K 
[   ]install-summary.dcf29-Jun-2024 06:41 273