Index of /checkResults/3.19/bioc-LATEST/appreci8R/raw-results/nebbiolo1

[ICO]NameLast modifiedSizeDescription

[DIR]Parent Directory  -  
[TXT]buildsrc-out.txt13-Jul-2024 06:38 886  
[   ]buildsrc-summary.dcf13-Jul-2024 06:38 424  
[TXT]checksrc-out.txt13-Jul-2024 06:38 4.5K 
[   ]checksrc-summary.dcf13-Jul-2024 06:38 422  
[TXT]install-out.txt13-Jul-2024 06:38 3.0K 
[   ]install-summary.dcf13-Jul-2024 06:38 263