Back to Multiple platform build/check report for BioC 3.19:   simplified   long
[A]BCDEFGHIJKLMNOPQRSTUVWXYZ

This page was generated on 2024-05-21 11:37:43 -0400 (Tue, 21 May 2024).

HostnameOSArch (*)R versionInstalled pkgs
nebbiolo1Linux (Ubuntu 22.04.3 LTS)x86_644.4.0 (2024-04-24) -- "Puppy Cup" 4751
palomino3Windows Server 2022 Datacenterx644.4.0 (2024-04-24 ucrt) -- "Puppy Cup" 4485
lconwaymacOS 12.7.1 Montereyx86_644.4.0 (2024-04-24) -- "Puppy Cup" 4515
Click on any hostname to see more info about the system (e.g. compilers)      (*) as reported by 'uname -p', except on Windows and Mac OS X

Package 61/2300HostnameOS / ArchINSTALLBUILDCHECKBUILD BIN
amplican 1.26.0  (landing page)
Eivind Valen
Snapshot Date: 2024-05-20 14:00:15 -0400 (Mon, 20 May 2024)
git_url: https://git.bioconductor.org/packages/amplican
git_branch: RELEASE_3_19
git_last_commit: 0d1f719
git_last_commit_date: 2024-04-30 11:00:30 -0400 (Tue, 30 Apr 2024)
nebbiolo1Linux (Ubuntu 22.04.3 LTS) / x86_64  OK    OK    OK  UNNEEDED, same version is already published
palomino3Windows Server 2022 Datacenter / x64  OK    OK    OK    OK  UNNEEDED, same version is already published
lconwaymacOS 12.7.1 Monterey / x86_64  OK    OK    OK    OK  UNNEEDED, same version is already published
kjohnson3macOS 13.6.5 Ventura / arm64see weekly results here

CHECK results for amplican on lconway


To the developers/maintainers of the amplican package:
- Allow up to 24 hours (and sometimes 48 hours) for your latest push to git@git.bioconductor.org:packages/amplican.git to reflect on this report. See Troubleshooting Build Report for more information.
- Use the following Renviron settings to reproduce errors and warnings.
- If 'R CMD check' started to fail recently on the Linux builder(s) over a missing dependency, add the missing dependency to 'Suggests:' in your DESCRIPTION file. See Renviron.bioc for more information.

raw results


Summary

Package: amplican
Version: 1.26.0
Command: /Library/Frameworks/R.framework/Resources/bin/R CMD check --install=check:amplican.install-out.txt --library=/Library/Frameworks/R.framework/Resources/library --no-vignettes --timings amplican_1.26.0.tar.gz
StartedAt: 2024-05-20 19:02:15 -0400 (Mon, 20 May 2024)
EndedAt: 2024-05-20 19:05:36 -0400 (Mon, 20 May 2024)
EllapsedTime: 201.2 seconds
RetCode: 0
Status:   OK  
CheckDir: amplican.Rcheck
Warnings: 0

Command output

##############################################################################
##############################################################################
###
### Running command:
###
###   /Library/Frameworks/R.framework/Resources/bin/R CMD check --install=check:amplican.install-out.txt --library=/Library/Frameworks/R.framework/Resources/library --no-vignettes --timings amplican_1.26.0.tar.gz
###
##############################################################################
##############################################################################


* using log directory ‘/Users/biocbuild/bbs-3.19-bioc/meat/amplican.Rcheck’
* using R version 4.4.0 (2024-04-24)
* using platform: x86_64-apple-darwin20
* R was compiled by
    Apple clang version 14.0.0 (clang-1400.0.29.202)
    GNU Fortran (GCC) 12.2.0
* running under: macOS Monterey 12.7.1
* using session charset: UTF-8
* using option ‘--no-vignettes’
* checking for file ‘amplican/DESCRIPTION’ ... OK
* checking extension type ... Package
* this is package ‘amplican’ version ‘1.26.0’
* package encoding: UTF-8
* checking package namespace information ... OK
* checking package dependencies ... OK
* checking if this is a source package ... OK
* checking if there is a namespace ... OK
* checking for hidden files and directories ... OK
* checking for portable file names ... OK
* checking for sufficient/correct file permissions ... OK
* checking whether package ‘amplican’ can be installed ... OK
* used C++ compiler: ‘Apple clang version 14.0.0 (clang-1400.0.29.202)’
* used SDK: ‘MacOSX11.3.sdk’
* checking installed package size ... OK
* checking package directory ... OK
* checking ‘build’ directory ... OK
* checking DESCRIPTION meta-information ... OK
* checking top-level files ... OK
* checking for left-over files ... OK
* checking index information ... OK
* checking package subdirectories ... OK
* checking code files for non-ASCII characters ... OK
* checking R files for syntax errors ... OK
* checking whether the package can be loaded ... OK
* checking whether the package can be loaded with stated dependencies ... OK
* checking whether the package can be unloaded cleanly ... OK
* checking whether the namespace can be loaded with stated dependencies ... OK
* checking whether the namespace can be unloaded cleanly ... OK
* checking whether startup messages can be suppressed ... OK
* checking dependencies in R code ... NOTE
There are ::: calls to the package's namespace in its code. A package
  almost never needs to use ::: for its own objects:
  ‘get_seq’
* checking S3 generic/method consistency ... OK
* checking replacement functions ... OK
* checking foreign function calls ... OK
* checking R code for possible problems ... OK
* checking Rd files ... NOTE
checkRd: (-1) amplicanAlign.Rd:64: Lost braces in \itemize; meant \describe ?
checkRd: (-1) amplicanAlign.Rd:65-68: Lost braces in \itemize; meant \describe ?
checkRd: (-1) amplicanAlign.Rd:69: Lost braces in \itemize; meant \describe ?
checkRd: (-1) amplicanAlign.Rd:70: Lost braces in \itemize; meant \describe ?
checkRd: (-1) amplicanPipeline.Rd:58-59: Lost braces in \itemize; meant \describe ?
checkRd: (-1) amplicanPipeline.Rd:60-70: Lost braces in \itemize; meant \describe ?
checkRd: (-1) amplicanPipeline.Rd:71: Lost braces in \itemize; meant \describe ?
checkRd: (-1) amplicanPipeline.Rd:72-73: Lost braces in \itemize; meant \describe ?
checkRd: (-1) amplicanPipeline.Rd:106: Lost braces in \itemize; meant \describe ?
checkRd: (-1) amplicanPipeline.Rd:107-110: Lost braces in \itemize; meant \describe ?
checkRd: (-1) amplicanPipeline.Rd:111: Lost braces in \itemize; meant \describe ?
checkRd: (-1) amplicanPipeline.Rd:112: Lost braces in \itemize; meant \describe ?
checkRd: (-1) amplicanPipelineConservative.Rd:58-59: Lost braces in \itemize; meant \describe ?
checkRd: (-1) amplicanPipelineConservative.Rd:60-70: Lost braces in \itemize; meant \describe ?
checkRd: (-1) amplicanPipelineConservative.Rd:71: Lost braces in \itemize; meant \describe ?
checkRd: (-1) amplicanPipelineConservative.Rd:72-73: Lost braces in \itemize; meant \describe ?
checkRd: (-1) amplicanPipelineConservative.Rd:106: Lost braces in \itemize; meant \describe ?
checkRd: (-1) amplicanPipelineConservative.Rd:107-110: Lost braces in \itemize; meant \describe ?
checkRd: (-1) amplicanPipelineConservative.Rd:111: Lost braces in \itemize; meant \describe ?
checkRd: (-1) amplicanPipelineConservative.Rd:112: Lost braces in \itemize; meant \describe ?
checkRd: (-1) amplicanSummarize.Rd:26-27: Lost braces in \itemize; meant \describe ?
checkRd: (-1) amplicanSummarize.Rd:28-29: Lost braces in \itemize; meant \describe ?
checkRd: (-1) makeAlignment.Rd:52: Lost braces in \itemize; meant \describe ?
checkRd: (-1) makeAlignment.Rd:53-56: Lost braces in \itemize; meant \describe ?
checkRd: (-1) makeAlignment.Rd:57: Lost braces in \itemize; meant \describe ?
checkRd: (-1) makeAlignment.Rd:58: Lost braces in \itemize; meant \describe ?
checkRd: (-1) plot_variants.Rd:74-75: Lost braces in \itemize; meant \describe ?
checkRd: (-1) plot_variants.Rd:76: Lost braces in \itemize; meant \describe ?
checkRd: (-1) plot_variants.Rd:77-78: Lost braces in \itemize; meant \describe ?
* checking Rd metadata ... OK
* checking Rd cross-references ... OK
* checking for missing documentation entries ... OK
* checking for code/documentation mismatches ... OK
* checking Rd \usage sections ... NOTE
Documented arguments not in \usage in Rd file 'getEventInfo.Rd':
  ‘ampl_len’

Functions with \usage entries need to have the appropriate \alias
entries, and all their arguments documented.
The \usage entries must correspond to syntactically valid R code.
See chapter ‘Writing R documentation files’ in the ‘Writing R
Extensions’ manual.
* checking Rd contents ... OK
* checking for unstated dependencies in examples ... OK
* checking line endings in C/C++/Fortran sources/headers ... OK
* checking compiled code ... NOTE
Note: information on .o files is not available
* checking files in ‘vignettes’ ... OK
* checking examples ... OK
Examples with CPU (user + system) or elapsed time > 5s
                  user system elapsed
amplicanPipeline 8.793  0.658   9.559
amplicanAlign    8.110  1.005   9.246
* checking for unstated dependencies in ‘tests’ ... OK
* checking tests ...
  Running ‘testthat.R’
 OK
* checking for unstated dependencies in vignettes ... OK
* checking package vignettes ... OK
* checking running R code from vignettes ... SKIPPED
* checking re-building of vignette outputs ... SKIPPED
* checking PDF version of manual ... OK
* DONE

Status: 4 NOTEs
See
  ‘/Users/biocbuild/bbs-3.19-bioc/meat/amplican.Rcheck/00check.log’
for details.


Installation output

amplican.Rcheck/00install.out

##############################################################################
##############################################################################
###
### Running command:
###
###   /Library/Frameworks/R.framework/Resources/bin/R CMD INSTALL amplican
###
##############################################################################
##############################################################################


* installing to library ‘/Library/Frameworks/R.framework/Versions/4.4-x86_64/Resources/library’
* installing *source* package ‘amplican’ ...
** using staged installation
** libs
using C++ compiler: ‘Apple clang version 14.0.0 (clang-1400.0.29.202)’
using SDK: ‘MacOSX11.3.sdk’
clang++ -arch x86_64 -std=gnu++17 -I"/Library/Frameworks/R.framework/Resources/include" -DNDEBUG  -I'/Library/Frameworks/R.framework/Versions/4.4-x86_64/Resources/library/Rcpp/include' -I/opt/R/x86_64/include    -fPIC  -falign-functions=64 -Wall -g -O2   -c RcppExports.cpp -o RcppExports.o
clang++ -arch x86_64 -std=gnu++17 -I"/Library/Frameworks/R.framework/Resources/include" -DNDEBUG  -I'/Library/Frameworks/R.framework/Versions/4.4-x86_64/Resources/library/Rcpp/include' -I/opt/R/x86_64/include    -fPIC  -falign-functions=64 -Wall -g -O2   -c bezier.cpp -o bezier.o
clang++ -arch x86_64 -std=gnu++17 -dynamiclib -Wl,-headerpad_max_install_names -undefined dynamic_lookup -L/Library/Frameworks/R.framework/Resources/lib -L/opt/R/x86_64/lib -o amplican.so RcppExports.o bezier.o -F/Library/Frameworks/R.framework/.. -framework R -Wl,-framework -Wl,CoreFoundation
installing to /Library/Frameworks/R.framework/Versions/4.4-x86_64/Resources/library/00LOCK-amplican/00new/amplican/libs
** R
** inst
** byte-compile and prepare package for lazy loading
** help
*** installing help indices
** building package indices
** installing vignettes
** testing if installed package can be loaded from temporary location
** checking absolute paths in shared objects and dynamic libraries
** testing if installed package can be loaded from final location
** testing if installed package keeps a record of temporary installation path
* DONE (amplican)

Tests output

amplican.Rcheck/tests/testthat.Rout


R version 4.4.0 (2024-04-24) -- "Puppy Cup"
Copyright (C) 2024 The R Foundation for Statistical Computing
Platform: x86_64-apple-darwin20

R is free software and comes with ABSOLUTELY NO WARRANTY.
You are welcome to redistribute it under certain conditions.
Type 'license()' or 'licence()' for distribution details.

R is a collaborative project with many contributors.
Type 'contributors()' for more information and
'citation()' on how to cite R or R packages in publications.

Type 'demo()' for some demos, 'help()' for on-line help, or
'help.start()' for an HTML browser interface to help.
Type 'q()' to quit R.

> library(testthat)
> library(amplican)
Loading required package: BiocGenerics

Attaching package: 'BiocGenerics'

The following objects are masked from 'package:stats':

    IQR, mad, sd, var, xtabs

The following objects are masked from 'package:base':

    Filter, Find, Map, Position, Reduce, anyDuplicated, aperm, append,
    as.data.frame, basename, cbind, colnames, dirname, do.call,
    duplicated, eval, evalq, get, grep, grepl, intersect, is.unsorted,
    lapply, mapply, match, mget, order, paste, pmax, pmax.int, pmin,
    pmin.int, rank, rbind, rownames, sapply, setdiff, table, tapply,
    union, unique, unsplit, which.max, which.min

Loading required package: Biostrings
Loading required package: S4Vectors
Loading required package: stats4

Attaching package: 'S4Vectors'

The following object is masked from 'package:utils':

    findMatches

The following objects are masked from 'package:base':

    I, expand.grid, unname

Loading required package: IRanges
Loading required package: XVector
Loading required package: GenomeInfoDb

Attaching package: 'Biostrings'

The following object is masked from 'package:base':

    strsplit

Loading required package: pwalign

Attaching package: 'pwalign'

The following objects are masked from 'package:Biostrings':

    PairwiseAlignments, PairwiseAlignmentsSingleSubject, aligned,
    alignedPattern, alignedSubject, compareStrings, deletion,
    errorSubstitutionMatrices, indel, insertion, mismatchSummary,
    mismatchTable, nedit, nindel, nucleotideSubstitutionMatrix,
    pairwiseAlignment, pid, qualitySubstitutionMatrices, stringDist,
    unaligned, writePairwiseAlignments

Loading required package: data.table

Attaching package: 'data.table'

The following object is masked from 'package:IRanges':

    shift

The following objects are masked from 'package:S4Vectors':

    first, second

version: 1.26.0
Please consider supporting this software by citing:

Labun et al. 2019
Accurate analysis of genuine CRISPR editing events with ampliCan.
Genome Res. 2019 Mar 8
doi: 10.1101/gr.244293.118

> 
> test_check("amplican")
[ FAIL 0 | WARN 11 | SKIP 0 | PASS 57 ]

[ FAIL 0 | WARN 11 | SKIP 0 | PASS 57 ]
> 
> proc.time()
   user  system elapsed 
 27.013   2.105  29.458 

Example timings

amplican.Rcheck/amplican-Ex.timings

nameusersystemelapsed
AlignmentsExperimentSet-class1.4560.0631.539
amplicanAlign8.1101.0059.246
amplicanConsensus0.2250.0090.238
amplicanFilter0.0290.0080.038
amplicanMap0.3710.0070.381
amplicanNormalize0.0410.0030.048
amplicanOverlap0.0250.0020.027
amplicanPipeline8.7930.6589.559
amplicanReport0.0170.0260.043
amplicanSummarize0.0230.0030.026
amplican_print_reads0.3110.0060.322
assignedCount0.0240.0010.027
barcodeData-set0.0050.0010.005
barcodeData0.0030.0010.005
comb_along0.0240.0040.028
experimentData-set0.0040.0010.004
experimentData0.0050.0010.006
extractEvents3.2080.0423.285
findEOP0.0050.0020.008
findLQR0.0030.0000.004
findPD0.0040.0020.006
fwdReads-set0.0030.0010.004
fwdReads0.3910.0070.403
fwdReadsType-set0.0030.0010.004
fwdReadsType0.0030.0010.004
geom_bezier0.5330.0140.555
lookupAlignment0.3040.0040.311
metaplot_deletions0.2620.0070.274
metaplot_insertions0.3910.0090.407
metaplot_mismatches0.3810.0060.392
plot_cuts0.2750.0060.287
plot_deletions0.3240.0080.338
plot_height0.0010.0000.000
plot_heterogeneity0.2330.0050.241
plot_insertions0.5250.0100.541
plot_mismatches1.7090.0501.782
plot_variants0.9630.0160.990
readCounts-set0.0040.0010.006
readCounts0.0020.0010.003
rveReads-set0.0050.0010.006
rveReads0.4560.0090.473
rveReadsType-set0.0040.0010.005
rveReadsType0.0030.0010.004
unassignedCount0.0030.0000.004
unassignedData-set0.0040.0010.005
unassignedData0.0060.0010.006
writeAlignments0.0250.0010.027