Index of /checkResults/3.19/bioc-LATEST/alabaster.schemas/raw-results/palomino3

[ICO]NameLast modifiedSizeDescription

[DIR]Parent Directory  -  
[TXT]buildbin-out.txt29-Jun-2024 06:40 1.1K 
[   ]buildbin-summary.dcf29-Jun-2024 06:40 572  
[TXT]buildsrc-out.txt29-Jun-2024 06:40 888  
[   ]buildsrc-summary.dcf29-Jun-2024 06:40 487  
[TXT]checksrc-out.txt29-Jun-2024 06:40 2.5K 
[   ]checksrc-summary.dcf29-Jun-2024 06:40 484  
[TXT]install-out.txt29-Jun-2024 06:40 1.0K 
[   ]install-summary.dcf29-Jun-2024 06:40 286