Index of /checkResults/3.19/bioc-LATEST/alabaster.schemas/raw-results/nebbiolo1

[ICO]NameLast modifiedSizeDescription

[DIR]Parent Directory  -  
[TXT]buildsrc-out.txt20-Jul-2024 06:37 845  
[   ]buildsrc-summary.dcf20-Jul-2024 06:37 444  
[TXT]checksrc-out.txt20-Jul-2024 06:37 2.5K 
[   ]checksrc-summary.dcf20-Jul-2024 06:37 451  
[TXT]install-out.txt20-Jul-2024 06:37 1.0K 
[   ]install-summary.dcf20-Jul-2024 06:37 277