Index of /checkResults/3.19/bioc-LATEST/alabaster.schemas/raw-results/merida1

[ICO]NameLast modifiedSizeDescription

[DIR]Parent Directory  -  
[TXT]buildbin-out.txt20-Jul-2024 06:39 1.2K 
[   ]buildbin-summary.dcf20-Jul-2024 06:39 586  
[TXT]buildsrc-out.txt20-Jul-2024 06:39 855  
[   ]buildsrc-summary.dcf20-Jul-2024 06:39 454  
[TXT]checksrc-out.txt20-Jul-2024 06:39 2.5K 
[   ]checksrc-summary.dcf20-Jul-2024 06:39 481  
[TXT]install-out.txt20-Jul-2024 06:39 1.0K 
[   ]install-summary.dcf20-Jul-2024 06:39 288